{"text_format":"1","workbook":"xlsx","n_sheets":2,"sheets":["5977000201","Mix"],"not_rendered":{"charts":2,"images":0,"macros":1,"external_links":0,"defined_names":2,"comments":0,"pivot_tables":0},"unopened":[],"bounds":{"document_bytes":16777216,"sheet_cells":100000,"rows_first":2000,"rows_last":500,"rows_between":2000,"halvings":0,"cell_chars":16384,"cell_head_chars":4096},"cells_cut":0,"cells_raw":0,"read":"whole","date_system":"1900"}

{"sheet":"5977000201","index":0,"n_rows":35,"n_cols":31,"rows_kept":35,"cut":false,"hidden":false,"merged":[]}
["Calculate impedance of ferrite cored inductor"]
[]
["Reference:"]
["A method for estimating the impedance of a ferrite cored toroidal inductor at RF"]
[]
["Inputs:"]
["Al (nH for 1t)",{"$f":"50*880","v":44000}]
["N",1]
["Cs (pF)",5]
[]
["Constants:"]
["Mix",{"$f":"Mix!B1","v":"#77"}]
["µi",{"$f":"Mix!B2","v":2000}]
[]
["Calculated values:"]
["2*pi*N^2*Al",{"$f":"2*PI()*$B$8^2*$B$7*0.000000001","v":2.7646015351590178E-4}]
[]
["f (MHz)",0.1,{"$f":"B18*1.2","v":0.12},{"$f":"C18*1.2","v":0.14399999999999999},0.17279999999999998,0.20735999999999996,0.24883199999999994,0.29859839999999993,0.35831807999999993,0.42998169599999991,0.51597803519999985,0.61917364223999982,0.74300837068799974,0.89161004482559969,1.0699320537907195,1.2839184645488635,1.5407021574586361,1.8488425889503632,2.2186111067404357,2.6623333280885229,3.1947999937062272,3.8337599924474723,4.6005119909369663,5.5206143891243595,6.6247372669492313,7.9496847203390768,9.5396216644068925,11.447545997288271,13.737055196745926,16.484466236095109,19.78135948331413]
["µ''",{"$f":"csinterpolate(CSTableU2,'5977000201'!B18*1000000)","v":59.248808407164326},{"$f":"csinterpolate(CSTableU2,'5977000201'!C18*1000000)","v":68.864951256974138},{"$f":"csinterpolate(CSTableU2,'5977000201'!D18*1000000)","v":79.485580699079634},{"$f":"csinterpolate(CSTableU2,'5977000201'!E18*1000000)","v":91.163535835500838},{"$f":"csinterpolate(CSTableU2,'5977000201'!F18*1000000)","v":105.5759503250201},{"$f":"csinterpolate(CSTableU2,'5977000201'!G18*1000000)","v":122.27190030644392},{"$f":"csinterpolate(CSTableU2,'5977000201'!H18*1000000)","v":141.00265665846624},{"$f":"csinterpolate(CSTableU2,'5977000201'!I18*1000000)","v":181.91672258352278},{"$f":"csinterpolate(CSTableU2,'5977000201'!J18*1000000)","v":228.38607501768166},{"$f":"csinterpolate(CSTableU2,'5977000201'!K18*1000000)","v":297.76609948629834},{"$f":"csinterpolate(CSTableU2,'5977000201'!L18*1000000)","v":420.33232215009582},{"$f":"csinterpolate(CSTableU2,'5977000201'!M18*1000000)","v":582.46850164616819},{"$f":"csinterpolate(CSTableU2,'5977000201'!N18*1000000)","v":801.2985899010032},{"$f":"csinterpolate(CSTableU2,'5977000201'!O18*1000000)","v":1028.5085944867035},{"$f":"csinterpolate(CSTableU2,'5977000201'!P18*1000000)","v":1190.5974856755843},{"$f":"csinterpolate(CSTableU2,'5977000201'!Q18*1000000)","v":1261.8359208118836},{"$f":"csinterpolate(CSTableU2,'5977000201'!R18*1000000)","v":1279.8524674272082},{"$f":"csinterpolate(CSTableU2,'5977000201'!S18*1000000)","v":1248.4148902603897},{"$f":"csinterpolate(CSTableU2,'5977000201'!T18*1000000)","v":1162.0589663922003},{"$f":"csinterpolate(CSTableU2,'5977000201'!U18*1000000)","v":1056.5316066103755},{"$f":"csinterpolate(CSTableU2,'5977000201'!V18*1000000)","v":946.76040172696185},{"$f":"csinterpolate(CSTableU2,'5977000201'!W18*1000000)","v":819.35116902636855},{"$f":"csinterpolate(CSTableU2,'5977000201'!X18*1000000)","v":686.67890868954134},{"$f":"csinterpolate(CSTableU2,'5977000201'!Y18*1000000)","v":564.28279223793731},{"$f":"csinterpolate(CSTableU2,'5977000201'!Z18*1000000)","v":451.51990184198286},{"$f":"csinterpolate(CSTableU2,'5977000201'!AA18*1000000)","v":365.91471352305473},{"$f":"csinterpolate(CSTableU2,'5977000201'!AB18*1000000)","v":263.8224117689868},{"$f":"csinterpolate(CSTableU2,'5977000201'!AC18*1000000)","v":331.43930389874777},{"$f":"csinterpolate(CSTableU2,'5977000201'!AD18*1000000)","v":1088.8397764078054},{"$f":"csinterpolate(CSTableU2,'5977000201'!AE18*1000000)","v":3667.0135026368812}]
["µ'",{"$f":"csinterpolate(CSTableU1,'5977000201'!B18*1000000)","v":2030.2942577372735},{"$f":"csinterpolate(CSTableU1,'5977000201'!C18*1000000)","v":2027.5466994253932},{"$f":"csinterpolate(CSTableU1,'5977000201'!D18*1000000)","v":2022.1874550233772},{"$f":"csinterpolate(CSTableU1,'5977000201'!E18*1000000)","v":2016.2098997614441},{"$f":"csinterpolate(CSTableU1,'5977000201'!F18*1000000)","v":2011.0540177311902},{"$f":"csinterpolate(CSTableU1,'5977000201'!G18*1000000)","v":2021.9590602970516},{"$f":"csinterpolate(CSTableU1,'5977000201'!H18*1000000)","v":2029.7429733655827},{"$f":"csinterpolate(CSTableU1,'5977000201'!I18*1000000)","v":2064.7222420350226},{"$f":"csinterpolate(CSTableU1,'5977000201'!J18*1000000)","v":2114.4715793316873},{"$f":"csinterpolate(CSTableU1,'5977000201'!K18*1000000)","v":2154.2222822610556},{"$f":"csinterpolate(CSTableU1,'5977000201'!L18*1000000)","v":2191.2488384669437},{"$f":"csinterpolate(CSTableU1,'5977000201'!M18*1000000)","v":2184.510857224956},{"$f":"csinterpolate(CSTableU1,'5977000201'!N18*1000000)","v":2101.1520192874295},{"$f":"csinterpolate(CSTableU1,'5977000201'!O18*1000000)","v":2018.7454170640383},{"$f":"csinterpolate(CSTableU1,'5977000201'!P18*1000000)","v":1754.1278350181403},{"$f":"csinterpolate(CSTableU1,'5977000201'!Q18*1000000)","v":1452.9538906826708},{"$f":"csinterpolate(CSTableU1,'5977000201'!R18*1000000)","v":1162.5212943712529},{"$f":"csinterpolate(CSTableU1,'5977000201'!S18*1000000)","v":892.87035664701818},{"$f":"csinterpolate(CSTableU1,'5977000201'!T18*1000000)","v":660.80385522949496},{"$f":"csinterpolate(CSTableU1,'5977000201'!U18*1000000)","v":459.51133196270598},{"$f":"csinterpolate(CSTableU1,'5977000201'!V18*1000000)","v":296.51958692775042},{"$f":"csinterpolate(CSTableU1,'5977000201'!W18*1000000)","v":167.48634683702952},{"$f":"csinterpolate(CSTableU1,'5977000201'!X18*1000000)","v":69.309069378826194},{"$f":"csinterpolate(CSTableU1,'5977000201'!Y18*1000000)","v":15.284248068409653},{"$f":"csinterpolate(CSTableU1,'5977000201'!Z18*1000000)","v":3.1582125642486871},{"$f":"csinterpolate(CSTableU1,'5977000201'!AA18*1000000)","v":0.58573450442711528},{"$f":"csinterpolate(CSTableU1,'5977000201'!AB18*1000000)","v":-0.99496644685527613},{"$f":"csinterpolate(CSTableU1,'5977000201'!AC18*1000000)","v":-15.564407249196197},{"$f":"csinterpolate(CSTableU1,'5977000201'!AD18*1000000)","v":-78.12253864813097},{"$f":"csinterpolate(CSTableU1,'5977000201'!AE18*1000000)","v":-264.455828152935}]
["Rl",{"$f":"B19/$B$13*$B$16*B18*1000000","v":0.81899673339394508},1.1423048997820897,1.5821709006505071,2.1775465536884617,3.0261645032829745,4.2056724091106945,5.8199240993253838,9.0103963393988824,13.574446758389795,21.237775010322622,35.975579366989507,59.823070572033288,98.75790767900763,152.11311953103422,211.30265546372388,268.7349342174395,327.08633156118907,382.8623599491803,427.65459631474818,466.58279221906974,501.72709537855019,521.0492725053889,524.0149415923496,516.73516225584524,496.16868623208921,482.51806028766487,417.47130798280256,629.36154114160183,2481.0837037443439,10027.004126706637]
["Xl",{"$f":"B20/$B$13*$B$16*B18*1000000","v":28.064773108825026},33.63215230702825,40.251906306265944,48.159506742479685,57.643623040165899,69.547438217041758,83.778209049917422,102.2663857797144,125.6765845883739,153.64706805715215,187.54552611574155,224.36259953594558,258.96136565769416,298.5659668520733,311.31585109290387,309.43759152327272,297.10051370376777,273.82439487183836,243.1854270087199,202.92822191218082,157.13786804004121,106.50944609955268,52.890787066224163,13.996365854548321,3.4705140846556732,0.77238620496718891,-1.5744300917519771,-29.554851274676018,-178.0138471561682,-723.12242055130491]
["Yl",{"$f":"IMDIV(1,COMPLEX(B21,B22))","v":"0.00103893746120584-0.0356015389733861i"},"0.00100872318886868-0.0296991914594208i","0.000975012112541777-0.024805219325782i","0.000936949994114801-0.0207219677955936i","0.000908227641748689-0.0173002927497246i","0.000866339085307752-0.0143262855851366i","0.000825209813198317-0.0118789522097351i","0.000854908684174496-0.00970306055460924i","0.000849524851717001-0.00786517371846115i","0.000882756873917082-0.00638640372726109i","0.000986508907649595-0.00514280340604537i","0.0011095323100667-0.00416122995652557i","0.00128567399300926-0.00337127325644049i","0.00135476548327483-0.00265911886902854i","0.00149260487114355-0.00219908053112585i","0.00159989756242141-0.00184221842925366i","0.0016751821939778-0.00152160895260493i","0.00172800374216365-0.00123587385058443i","0.00176696619028695-0.00100478384003769i","0.00180231742989796-0.000783871753244604i","0.00181507402260387-0.000568470120258582i","0.00184222713946914-0.000376575887479802i","0.00188909712829655-0.000190673635481709i","0.00193380855679488-0.0000523794276654163i","0.00201534499325819-0.0000140965832359505i","0.00207245597613532-3.31746423214586E-06i","0.00239534012998217+0.00000903366413095i","0.00158541560075625+0.0000744512005037809i","0.000400985475241886+0.0000287700761541529i","0.0000992146770944426+7.15511398500981E-06i"]
["Yc",{"$f":"COMPLEX(0,2*PI()*B18*1000000*$B$9*0.000000000001)","v":"3.14159265358979E-06i"},"3.76991118430775E-06i","0.0000045238934211693i","5.42867210540316E-06i","6.51440652648379E-06i","7.81728783178055E-06i","9.38074539813666E-06i","0.000011256894477764i","0.0000135082733733168i","0.0000162099280479802i","0.0000194519136575762i","0.0000233422963890914i","0.0000280107556669097i","0.0000336129068002916i","0.00004033548816035i","0.00004840258579242i","0.0000580831029509039i","0.0000696997235410847i","0.0000836396682493017i","0.000100367601899162i","0.000120441122278994i","0.000144529346734793i","0.000173435216081752i","0.000208122259298102i","0.000249746711157723i","0.000299696053389267i","0.000359635264067121i","0.000431562316880545i","0.000517874780256654i","0.000621449736307984i"]
["Z",{"$f":"IMDIV(1,IMSUM(B23,B24))","v":"0.819141171237706+28.067245636512i"},"1.14259462105587+33.6364121549095i","1.58274726987347+40.2592259948469i","2.1786856050549+48.1720751997466i","3.0284385171508+57.6652174346632i","4.21024915213421+69.5851313082258i","5.82908265767354+83.843783811325i","9.0311776958625+102.383333645249i","13.6206538951178+125.887803413458i","21.3439589477109+154.023331855854i","36.2394912979732+188.206766695303i","60.454511843639+225.458940030625i","100.205591745547+260.574297273119i","155.20867633143+300.791029981576i","216.694853804678+313.404404963913i","276.921177570835+310.485875711126i","338.547631686145+295.77272973234i","397.611604532535+268.335278740456i","445.003859424475+231.986731713087i","485.07732391853+183.958918180481i","519.301247443773+128.18321161801i","534.343406907554+67.3057824881087i","529.309331102142+4.83006199372988i","513.781787370006-41.3783619506421i","489.500441664329-57.2362757154924i","472.84887558532-67.6213556496592i","407.816655710733-62.7674239162506i","572.436454567042-182.703250627982i","872.447332563104-1189.36688803318i","244.982006001488-1552.15822615088i"]
["R",{"$f":"IMREAL(B25)","v":0.81914117123770602},1.14259462105587,1.5827472698734699,2.1786856050549002,3.0284385171507999,4.2102491521342102,5.8290826576735402,9.0311776958624996,13.620653895117799,21.343958947710899,36.239491297973203,60.454511843638997,100.205591745547,155.20867633143001,216.69485380467799,276.92117757083503,338.547631686145,397.61160453253501,445.00385942447502,485.07732391853,519.30124744377304,534.34340690755403,529.30933110214198,513.78178737000599,489.500441664329,472.84887558532,407.81665571073302,572.43645456704201,872.44733256310406,244.982006001488]
["X",{"$f":"IMAGINARY(B25)","v":28.067245636511998},33.6364121549095,40.259225994846901,48.172075199746601,57.665217434663198,69.585131308225797,83.843783811324997,102.383333645249,125.887803413458,154.023331855854,188.206766695303,225.458940030625,260.57429727311899,300.791029981576,313.40440496391301,310.48587571112603,295.77272973234,268.33527874045598,231.98673171308701,183.95891818048099,128.18321161801001,67.305782488108704,4.8300619937298803,-41.378361950642102,-57.236275715492397,-67.621355649659193,-62.7674239162506,-182.70325062798199,-1189.36688803318,-1552.15822615088]
["|Z|",{"$f":"IMABS(B25)","v":28.079196389475225},33.655812946993407,40.290325968207902,48.221317900029604,57.744685830292184,69.712385535900808,84.046167601088129,102.78087944208602,126.6225148257451,155.49518108140873,191.6639970350094,233.42339566115825,279.17758688056432,338.47448489647184,381.02359600976831,416.03703873972898,449.55089430855048,479.6861576861013,501.84288237813809,518.78790826126169,534.8875782230939,538.56563654016065,529.33136832296293,515.44533548266429,492.83534131325541,477.65961403723378,412.61867890362026,600.88598944168803,1475.0450645475908,1571.372439071132]
[]
[]
[]
["Module","Version","Date"]
["CubicSpline",{"$f":"CubicSpline_version(\"v\")","v":"1.03"},{"$f":"CubicSpline_version(\"d\")","v":"2010-07-06"}]
[]
["Copyright: Owen Duffy 2010. All rights reserved."]

{"sheet":"Mix","index":1,"n_rows":67,"n_cols":17,"rows_kept":67,"cut":false,"hidden":false,"merged":[[4,4,4,6],[4,13,4,15]]}
["Mix","#77"]
["µi",2000]
[]
[]
["# #77 mix u'",null,null,null,"CSTable",null,null,null,null,"# #77 mix u''",null,null,null,"CSTable"]
[10000,1990.39,null,null,{"$f":"cstable(A6:A58,B6:B58)","v":10000},1990.39,0,null,null,10000,14.281700000000001,null,null,{"$f":"cstable(Mix!J6:J58,Mix!K6:K58)","v":10000},14.281700000000001,0]
[25798,1990.39,null,null,25798,1990.39,-1.9458167681602981E-8,null,null,25798,25.686900000000001,null,null,25798,25.686900000000001,-1.5577453025883481E-8]
[36134.9,1990.39,null,null,36134.9,1990.39,9.839260639880925E-8,null,null,36134.9,31.695799999999998,null,null,36134.9,31.695799999999998,-2.8607917064889562E-9]
[56829.4,2008.06,null,null,56829.4,2008.06,-3.7801501762781227E-8,null,null,56829.4,42.040900000000001,null,null,56829.4,42.040900000000001,-7.2428365231689864E-9]
[100352,2030.47,null,null,100352,2030.47,1.8040027567494863E-8,null,null,100352,59.415500000000002,null,null,100352,59.415500000000002,8.8530107225048713E-9]
[105777,2032.56,null,null,105777,2032.56,-1.6566288086184282E-7,null,null,105777,62.067999999999998,null,null,105777,62.067999999999998,-2.4058520385617053E-9]
[113868,2030.03,null,null,113868,2030.03,2.3810704947530828E-8,null,null,113868,65.981700000000004,null,null,113868,65.981700000000004,-1.7762169718126001E-9]
[140561,2022.83,null,null,140561,2022.83,-2.1851379045149465E-9,null,null,140561,78.029899999999998,null,null,140561,78.029899999999998,-1.9127666335186852E-9]
[192780,2012.08,null,null,192780,2012.08,1.7715254849657562E-9,null,null,192780,99.303600000000003,null,null,192780,99.303600000000003,1.637057817622585E-9]
[196883,2011.36,null,null,196883,2011.36,2.3604305445817983E-8,null,null,196883,101.038,null,null,196883,101.038,1.8048687122385687E-9]
[245609,2021.01,null,null,245609,2021.01,-5.3377424264736874E-9,null,null,245609,121.188,null,null,245609,121.188,-5.1817235421117683E-9]
[300009,2029.78,null,null,300009,2029.78,-4.9673020256196102E-9,null,null,300009,141.822,null,null,300009,141.822,1.4253384379075522E-8]
[319575,2032.56,null,null,319575,2032.56,4.6530508681049546E-8,null,null,319575,155.155,null,null,319575,155.155,-7.0692011970433721E-10]
[347663,2055.41,null,null,347663,2055.41,-1.0999384583807829E-8,null,null,347663,174.90100000000001,null,null,347663,174.90100000000001,-2.9229794282875532E-9]
[411462,2101.89,null,null,411462,2101.89,3.2068269834463524E-9,null,null,411462,215.69499999999999,null,null,411462,215.69499999999999,2.7505291231712535E-9]
[438297,2119.59,null,null,438297,2119.59,-1.0928101328829469E-8,null,null,438297,234.184,null,null,438297,234.184,-5.4617642134654565E-10]
[471824,2135.1999999999998,null,null,471824,2135.1999999999998,2.0663971770197879E-9,null,null,471824,257.76799999999997,null,null,471824,257.76799999999997,2.3501926034974732E-9]
[502597,2148.67,null,null,502597,2148.67,-2.1640175131892524E-9,null,null,502597,283.27,null,null,502597,283.27,1.5200320408147749E-8]
[541043,2164.5,null,null,541043,2164.5,2.0845553378144267E-9,null,null,541043,328.04500000000002,null,null,541043,328.04500000000002,-4.1924332604866306E-9]
[601123,2187.3000000000002,null,null,601123,2187.3000000000002,-8.6731359241073382E-9,null,null,601123,398.08600000000001,null,null,601123,398.08600000000001,4.1409193654907416E-9]
[620416,2191.61,null,null,620416,2191.61,1.6327373914612986E-8,null,null,620416,421.88099999999997,null,null,620416,421.88099999999997,-7.9475649152361843E-12]
[711433,2210.35,null,null,711433,2210.35,-3.8891891979446534E-8,null,null,711433,538.10799999999995,null,null,711433,538.10799999999995,2.0178282748667984E-9]
[718964,2204.1799999999998,null,null,718964,2204.1799999999998,3.759433025014978E-9,null,null,718964,548.27499999999998,null,null,718964,548.27499999999998,5.4773135263205685E-9]
[815803,2131.4699999999998,null,null,815803,2131.4699999999998,-8.3820064583236718E-10,null,null,815803,690.47900000000004,null,null,815803,690.47900000000004,-4.6252280623617998E-9]
[833166,2119.59,null,null,833166,2119.59,1.3080138787610667E-8,null,null,833166,714.67399999999998,null,null,833166,714.67399999999998,4.3850501554631643E-9]
[945387,2097.4899999999998,null,null,945387,2097.4899999999998,-4.0252306912143712E-9,null,null,945387,878.72799999999995,null,null,945387,878.72799999999995,-5.7541787227500457E-9]
[1040000,2053.9699999999998,null,null,1040000,2053.9699999999998,-1.4596667835039356E-8,null,null,1040000,992.04499999999996,null,null,1040000,992.04499999999996,3.2031815138957308E-9]
[1100000,1974.8,null,null,1100000,1974.8,-4.376953413241236E-9,null,null,1100000,1061.2,null,null,1100000,1061.2,-1.1945401781810384E-8]
[1130000,1928.77,null,null,1130000,1928.77,1.2488389482859103E-8,null,null,1130000,1085.58,null,null,1130000,1085.58,-2.7172856702635594E-9]
[1270000,1773.63,null,null,1270000,1773.63,-1.1125721175942863E-8,null,null,1270000,1179.8499999999999,null,null,1270000,1179.8499999999999,3.1884431320485855E-9]
[1320000,1700.8,null,null,1320000,1700.8,7.7731332423026541E-9,null,null,1320000,1216.1199999999999,null,null,1320000,1216.1199999999999,-1.0378625069688454E-8]
[1440000,1563.99,null,null,1440000,1563.99,-1.5623270298811485E-9,null,null,1440000,1241.8900000000001,null,null,1440000,1241.8900000000001,2.5450863924304827E-9]
[1580000,1408.35,null,null,1580000,1408.35,3.560596584011217E-10,null,null,1580000,1271.52,null,null,1580000,1271.52,-6.9037694888649527E-10]
[1630000,1353.1,null,null,1630000,1353.1,2.4741765655330494E-9,null,null,1630000,1281.56,null,null,1630000,1281.56,-3.1805199444108284E-9]
[1780000,1216.1199999999999,null,null,1780000,1216.1199999999999,9.5550927244482701E-10,null,null,1780000,1281.56,null,null,1780000,1281.56,6.7951216805773651E-10]
[1980000,1061.2,null,null,1980000,1061.2,-1.0419148777066552E-9,null,null,1980000,1281.56,null,null,1980000,1281.56,7.0973701060434952E-12]
[2040000,1012.3,null,null,2040000,1012.3,1.8048980319746933E-9,null,null,2040000,1281.56,null,null,2040000,1281.56,-2.3265511011114991E-9]
[2290000,851.52499999999998,null,null,2290000,851.52499999999998,-1.0048754864760266E-10,null,null,2290000,1230.8699999999999,null,null,2290000,1230.8699999999999,9.0190336193106269E-10]
[2520000,724.37099999999998,null,null,2520000,724.37099999999998,8.1209856149046636E-10,null,null,2520000,1190.8900000000001,null,null,2520000,1190.8900000000001,-4.8080858223943062E-10]
[2860000,583.86500000000001,null,null,2860000,583.86500000000001,-1.9157941589349675E-10,null,null,2860000,1118.3,null,null,2860000,1118.3,3.0188391837626181E-10]
[3170000,467.27800000000002,null,null,3170000,467.27800000000002,6.320477295756419E-10,null,null,3170000,1061.2,null,null,3170000,1061.2,-1.7140472983971073E-10]
[3380000,408.82,null,null,3380000,408.82,-5.545719340521223E-11,null,null,3380000,1021.19,null,null,3380000,1021.19,2.2235875007799983E-10]
[3840000,295.21699999999998,null,null,3840000,295.21699999999998,2.8268027502414466E-10,null,null,3840000,945.62900000000002,null,null,3840000,945.62900000000002,-2.2695899035845501E-10]
[4040000,257.76799999999997,null,null,4040000,257.76799999999997,5.3403034020457926E-11,null,null,4040000,907.19600000000003,null,null,4040000,907.19600000000003,1.4944551553423239E-10]
[4690000,154.22800000000001,null,null,4690000,154.22800000000001,3.1376832317764682E-11,null,null,4690000,807.69200000000001,null,null,4690000,807.69200000000001,3.9732246346206408E-11]
[4940000,120.11799999999999,null,null,4940000,120.11799999999999,1.8369430347428615E-10,null,null,4940000,774.86500000000001,null,null,4940000,774.86500000000001,-1.5202866792784338E-10]
[5370000,80.522599999999997,null,null,5370000,80.522599999999997,1.9715315598041457E-11,null,null,5370000,707.95500000000004,null,null,5370000,707.95500000000004,1.1871167399667806E-10]
[5910000,43.384,null,null,5910000,43.384,4.1864036339106455E-11,null,null,5910000,639.56299999999999,null,null,5910000,639.56299999999999,1.627495466860973E-11]
[6230000,27.069099999999999,null,null,6230000,27.069099999999999,7.529475995282991E-11,null,null,6230000,604.46400000000006,null,null,6230000,604.46400000000006,3.033635975905637E-11]
[6490000,18.560500000000001,null,null,6490000,18.560500000000001,3.3898669745752418E-11,null,null,6490000,577.77700000000004,null,null,6490000,577.77700000000004,7.1316962757378611E-12]
[7770000,3.7331799999999999,null,null,7770000,3.7331799999999999,2.2380506153550208E-12,null,null,7770000,463.61900000000003,null,null,7770000,463.61900000000003,3.9754018036889869E-11]
[9290000,0.75087700000000002,null,null,9290000,0.75087700000000002,1.1891007205514857E-12,null,null,9290000,379.89699999999999,null,null,9290000,379.89699999999999,-1.7840148807168559E-11]
[10000000,0.38794600000000001,null,null,10000000,0.38794600000000001,0,null,null,10000000,338.52499999999998,null,null,10000000,338.52499999999998,0]
[]
[]
[]
[]
[]
[]
[]
[]
[null,null,null,null,null,null,null,null,null,null,null,null,null,null,null,null,"x"]