{"text_format":"1","workbook":"xlsx","n_sheets":3,"sheets":["BN-73-202","BN-73-202 (2)","Mix"],"not_rendered":{"charts":8,"images":0,"macros":1,"external_links":0,"defined_names":2,"comments":0,"pivot_tables":0},"unopened":[],"bounds":{"document_bytes":16777216,"sheet_cells":100000,"rows_first":2000,"rows_last":500,"rows_between":2000,"halvings":0,"cell_chars":16384,"cell_head_chars":4096},"cells_cut":0,"cells_raw":0,"read":"whole","date_system":"1900"}

{"sheet":"BN-73-202","index":0,"n_rows":61,"n_cols":31,"rows_kept":61,"cut":false,"hidden":false,"merged":[]}
["Calculate impedance of ferrite cored inductor"]
[]
["Reference:"]
["A method for estimating the impedance of a ferrite cored toroidal inductor at RF",null,null,null,null,null,null,"2873000202"]
[]
["Inputs:"]
["Al (nH for 1t)",6600]
["N",1]
["Cs (pF)",10]
[]
["Constants:"]
["Mix",{"$f":"Mix!B1","v":"#73"}]
["µi",{"$f":"Mix!B2","v":2500}]
[]
["Calculated values:"]
["2*pi*N^2*Al",{"$f":"2*PI()*$B$8^2*$B$7*0.000000001","v":4.1469023027385275E-5}]
[]
["f (MHz)",1,1.2,1.8,2,2.5,3,3.5,4,4.5,5,5.5,6,{"$f":"M18+1","v":7},8,9,10,11,12,13,14,15,16,17,18,19,22,24,26,28,30]
["µ''",{"$f":"csinterpolate(CSTableU2,'BN-73-202'!B18*1000000)","v":1008.474438524378},{"$f":"csinterpolate(CSTableU2,'BN-73-202'!C18*1000000)","v":1096.5224302244746},{"$f":"csinterpolate(CSTableU2,'BN-73-202'!D18*1000000)","v":1315.4077918841156},{"$f":"csinterpolate(CSTableU2,'BN-73-202'!E18*1000000)","v":1344.73888337266},{"$f":"csinterpolate(CSTableU2,'BN-73-202'!F18*1000000)","v":1309.0454962710626},{"$f":"csinterpolate(CSTableU2,'BN-73-202'!G18*1000000)","v":1176.6885594577207},{"$f":"csinterpolate(CSTableU2,'BN-73-202'!H18*1000000)","v":1071.2031537788589},{"$f":"csinterpolate(CSTableU2,'BN-73-202'!I18*1000000)","v":1015.4111176771675},{"$f":"csinterpolate(CSTableU2,'BN-73-202'!J18*1000000)","v":977.51422405264418},{"$f":"csinterpolate(CSTableU2,'BN-73-202'!K18*1000000)","v":940.55318033441972},{"$f":"csinterpolate(CSTableU2,'BN-73-202'!L18*1000000)","v":904.45129345633688},{"$f":"csinterpolate(CSTableU2,'BN-73-202'!M18*1000000)","v":870.0373999752328},{"$f":"csinterpolate(CSTableU2,'BN-73-202'!N18*1000000)","v":808.82143252607545},{"$f":"csinterpolate(CSTableU2,'BN-73-202'!O18*1000000)","v":758.74208547908893},{"$f":"csinterpolate(CSTableU2,'BN-73-202'!P18*1000000)","v":719.81653207649549},{"$f":"csinterpolate(CSTableU2,'BN-73-202'!Q18*1000000)","v":688.55295507307926},{"$f":"csinterpolate(CSTableU2,'BN-73-202'!R18*1000000)","v":659.96790828542112},{"$f":"csinterpolate(CSTableU2,'BN-73-202'!S18*1000000)","v":630.11902693490038},{"$f":"csinterpolate(CSTableU2,'BN-73-202'!T18*1000000)","v":599.135075084758},{"$f":"csinterpolate(CSTableU2,'BN-73-202'!U18*1000000)","v":568.13461900419054},{"$f":"csinterpolate(CSTableU2,'BN-73-202'!V18*1000000)","v":538.23622620412345},{"$f":"csinterpolate(CSTableU2,'BN-73-202'!W18*1000000)","v":510.40732438497804},{"$f":"csinterpolate(CSTableU2,'BN-73-202'!X18*1000000)","v":484.75212189525962},{"$f":"csinterpolate(CSTableU2,'BN-73-202'!Y18*1000000)","v":461.06894171160809},{"$f":"csinterpolate(CSTableU2,'BN-73-202'!Z18*1000000)","v":439.15572862436142},{"$f":"csinterpolate(CSTableU2,'BN-73-202'!AA18*1000000)","v":382.02406156220991},{"$f":"csinterpolate(CSTableU2,'BN-73-202'!AB18*1000000)","v":349.55451135030944},{"$f":"csinterpolate(CSTableU2,'BN-73-202'!AC18*1000000)","v":320.90950503555433},{"$f":"csinterpolate(CSTableU2,'BN-73-202'!AD18*1000000)","v":295.64963377859482},{"$f":"csinterpolate(CSTableU2,'BN-73-202'!AE18*1000000)","v":273.33685175710718}]
["µ'",{"$f":"csinterpolate(CSTableU1,'BN-73-202'!B18*1000000)","v":2408.0202920390539},{"$f":"csinterpolate(CSTableU1,'BN-73-202'!C18*1000000)","v":2199.1407868443675},{"$f":"csinterpolate(CSTableU1,'BN-73-202'!D18*1000000)","v":1540.4204477093901},{"$f":"csinterpolate(CSTableU1,'BN-73-202'!E18*1000000)","v":1422.9345221206945},{"$f":"csinterpolate(CSTableU1,'BN-73-202'!F18*1000000)","v":1204.2232083931372},{"$f":"csinterpolate(CSTableU1,'BN-73-202'!G18*1000000)","v":993.6393415175736},{"$f":"csinterpolate(CSTableU1,'BN-73-202'!H18*1000000)","v":858.62013244361776},{"$f":"csinterpolate(CSTableU1,'BN-73-202'!I18*1000000)","v":781.02291322424003},{"$f":"csinterpolate(CSTableU1,'BN-73-202'!J18*1000000)","v":718.86406138452378},{"$f":"csinterpolate(CSTableU1,'BN-73-202'!K18*1000000)","v":657.13932295796235},{"$f":"csinterpolate(CSTableU1,'BN-73-202'!L18*1000000)","v":598.90779311343374},{"$f":"csinterpolate(CSTableU1,'BN-73-202'!M18*1000000)","v":547.34270284178956},{"$f":"csinterpolate(CSTableU1,'BN-73-202'!N18*1000000)","v":464.47729137838638},{"$f":"csinterpolate(CSTableU1,'BN-73-202'!O18*1000000)","v":400.10664707536381},{"$f":"csinterpolate(CSTableU1,'BN-73-202'!P18*1000000)","v":346.76605069083206},{"$f":"csinterpolate(CSTableU1,'BN-73-202'!Q18*1000000)","v":300.95601456470132},{"$f":"csinterpolate(CSTableU1,'BN-73-202'!R18*1000000)","v":259.74817348479581},{"$f":"csinterpolate(CSTableU1,'BN-73-202'!S18*1000000)","v":222.58673898321507},{"$f":"csinterpolate(CSTableU1,'BN-73-202'!T18*1000000)","v":190.10095884267454},{"$f":"csinterpolate(CSTableU1,'BN-73-202'!U18*1000000)","v":162.81160083529107},{"$f":"csinterpolate(CSTableU1,'BN-73-202'!V18*1000000)","v":140.12406675106945},{"$f":"csinterpolate(CSTableU1,'BN-73-202'!W18*1000000)","v":120.82669631612335},{"$f":"csinterpolate(CSTableU1,'BN-73-202'!X18*1000000)","v":103.7012976241063},{"$f":"csinterpolate(CSTableU1,'BN-73-202'!Y18*1000000)","v":87.696738686118977},{"$f":"csinterpolate(CSTableU1,'BN-73-202'!Z18*1000000)","v":73.056200825802989},{"$f":"csinterpolate(CSTableU1,'BN-73-202'!AA18*1000000)","v":43.536324528004357},{"$f":"csinterpolate(CSTableU1,'BN-73-202'!AB18*1000000)","v":30.869350099132408},{"$f":"csinterpolate(CSTableU1,'BN-73-202'!AC18*1000000)","v":18.386721560905574},{"$f":"csinterpolate(CSTableU1,'BN-73-202'!AD18*1000000)","v":10.494890899429357},{"$f":"csinterpolate(CSTableU1,'BN-73-202'!AE18*1000000)","v":2.2871020480833768}]
["Rl",{"$f":"B19/$B$13*$B$16*B18*1000000","v":16.728179885478745},21.826422676331138,39.275046728671967,44.612006176320961,54.284837828759684,58.555349961855619,62.190447551488518,67.372971233947951,72.965807760304358,78.007642987537011,82.514765334076316,86.591042338222437,93.914896909306393,100.68573764665173,107.46031803902208,114.21447339799882,120.42018729850305,125.42601810219354,129.196840371061,131.9359305495814,133.92078275179048,135.46299576490728,136.69493895704909,137.66456563956601,138.4063285742817,139.41104853225909,139.15856717291894,138.40115800187263,137.31537647746882,136.02014639698166]
["Xl",{"$f":"B20/$B$13*$B$16*B18*1000000","v":39.943299576391418},43.774185566453397,45.993406332899404,47.206163571427638,49.937959958966779,49.44630328116984,49.848593261713376,51.821211477458469,53.659062567206135,54.50185143188822,54.639466340583255,54.474641155241919,53.931974577229958,53.09450163513015,51.768177628368825,49.921407592854791,47.394613145273958,44.306182101530595,40.993165406829434,37.809172935319211,34.86484890474582,32.067616331879719,29.242662194177825,26.184226147209053,23.024726484972657,15.887597830539873,12.289169184972861,7.9297855499960708,4.8743841706373203,1.138126649975395]
["Yl",{"$f":"IMDIV(1,COMPLEX(B21,B22))","v":"0.00892027258059787-0.0212996944335343i"},"0.00912257697184182-0.0182958693291824i","0.0107369809909587-0.0125736407881921i","0.0105749409702729-0.0111898664953082i","0.00997765029051264-0.00917868636292061i","0.00996913184815337-0.0084183036585875i","0.00978986454645697-0.00784704074463477i","0.00932555282062805-0.00717292760005914i","0.00889468522576377-0.00654115243420243i","0.00861425664357773-0.00601855046254171i","0.00842489647262487-0.00557878151110467i","0.00827395561906675-0.00520516615936502i","0.00800729588214911-0.0045983043389321i","0.00777097361493143-0.00409785915014598i","0.00755291358933246-0.00363855774335508i","0.00735108390973326-0.00321304686865982i","0.00719043647618695-0.00282999024316236i","0.0070883286789382-0.0025039205261914i","0.00703216795677106-0.00223125289591131i","0.00700422407200793-0.00200721606398762i","0.00699313048827229-0.00182058701297074i","0.00699035578739112-0.00165479912907304i","0.0069954178345555-0.0014965048611442i","0.00701041604082902-0.00133340281245425i","0.00703053774784008-0.00116957230463212i","0.00708106799393441-0.00080697449508319i","0.00713043844399327-0.000629692919246447i","0.00720173128113919-0.000412627939481254i","0.00727334055810083-0.000258187079943507i","0.00735133742338629-0.0000615111309327562i"]
["Yc",{"$f":"COMPLEX(0,2*PI()*B18*1000000*$B$9*0.000000000001)","v":"0.0000628318530717959i"},"0.000075398223686155i","0.000113097335529233i","0.000125663706143592i","0.00015707963267949i","0.000188495559215388i","0.000219911485751286i","0.000251327412287183i","0.000282743338823081i","0.000314159265358979i","0.000345575191894877i","0.000376991118430775i","0.000439822971502571i","0.000502654824574367i","0.000565486677646163i","0.000628318530717959i","0.000691150383789754i","0.00075398223686155i","0.000816814089933346i","0.000879645943005142i","0.000942477796076938i","0.00100530964914873i","0.00106814150222053i","0.00113097335529233i","0.00119380520836412i","0.00138230076757951i","0.0015079644737231i","0.00163362817986669i","0.00175929188601028i","0.00188495559215388i"]
["Z",{"$f":"IMDIV(1,IMSUM(B23,B24))","v":"16.8124441865423+40.0260825670155i"},"21.9711552481291+43.8828634264823i","39.6860623747513+46.056699280933i","45.144603456497+47.2332705102764i","55.1425375582357+49.8588619036871i","59.6549166906775+49.2468676336392i","63.5645439822008+49.5221349522847i","69.1424538183099+51.31882586877i","75.1982700703257+52.9104207085089i","80.6990171005278+53.4391743613478i","85.6490448639312+53.2017365759463i","90.1600769038852+52.6119129758096i","98.3579414872756+51.0808733726699i","105.996453012938+49.0387595236641i","113.594269512712+46.2183578219262i","121.066766745099+42.5685118863526i","127.768624098036+38.005568494083i","132.972597143286+32.8277439876739i","136.674274491841+27.4904409008042i","139.164411993655+22.403285682315i","140.777806786288+17.6771032487447i","141.82986313446+13.1777275501617i","142.416696834088+8.72086500985115i","142.526048776866+4.1155147593669i","142.234940701769-0.490256328744076i","140.29549935372-11.3988012486713i","138.147935229412-17.0159805423867i","134.975666208904-22.884125282329i","131.871401114777-27.2162141198898i","128.145503867104-31.785537215788i"]
["R",{"$f":"IMREAL(B25)","v":16.812444186542301},21.971155248129101,39.686062374751302,45.144603456497002,55.142537558235702,59.654916690677503,63.564543982200803,69.142453818309903,75.198270070325705,80.699017100527797,85.649044863931195,90.160076903885198,98.357941487275596,105.99645301293801,113.594269512712,121.066766745099,127.768624098036,132.97259714328601,136.674274491841,139.16441199365499,140.77780678628801,141.82986313446,142.41669683408799,142.52604877686599,142.23494070176901,140.29549935372,138.14793522941201,134.97566620890399,131.871401114777,128.145503867104]
["X",{"$f":"IMAGINARY(B25)","v":40.0260825670155},43.882863426482302,46.056699280933003,47.233270510276398,49.858861903687099,49.246867633639198,49.522134952284702,51.318825868769999,52.910420708508902,53.439174361347803,53.201736575946299,52.611912975809602,51.080873372669899,49.038759523664098,46.218357821926197,42.568511886352603,38.005568494083001,32.827743987673898,27.490440900804199,22.403285682315001,17.6771032487447,13.1777275501617,8.7208650098511509,4.1155147593669001,-0.49025632874407599,-11.398801248671299,-17.0159805423867,-22.884125282328998,-27.216214119889798,-31.785537215788001]
["|Z|",{"$f":"IMABS(B25)","v":43.413656436507878},49.075832804392519,60.796406928920938,65.337715481498947,74.341143108593485,77.356079638880701,80.578490317810235,86.106334311514232,91.947226391670171,96.788825374698135,100.82749456770252,104.38799190658213,110.83113406497773,116.79061600549818,122.6368405736313,128.33253762912489,133.30132985256995,136.96485814379866,139.41155493283802,140.95616614715075,141.88330015482521,142.44073357058346,142.6834574281566,142.58545522485858,142.23578560862813,140.75780549872309,139.19193799199974,136.90183949996725,134.6506173138248,132.02874890511615]
[]
[]
[]
["Module","Version","Date"]
["CubicSpline",{"$f":"CubicSpline_version(\"v\")","v":"1.03"},{"$f":"CubicSpline_version(\"d\")","v":"2010-07-06"}]
[]
["Copyright: Owen Duffy 2010. All rights reserved."]
[]
[]
[]
[]
[]
[]
[]
[]
[]
[]
[]
[]
[]
[]
[]
[]
[]
[]
[]
[]
[]
[]
[]
[]
[null,{"$f":"1/IMREAL(IMDIV(1,B25))","v":112.10419759762277},{"$f":"1/IMREAL(IMDIV(1,C25))","v":109.61814880670752},93.136050146877494,94.563175606472797,100.2239977232778,100.30963731162146,102.14645925432207,107.23224877221303,112.4266879173492,116.08662724781246,118.69582056578543,120.86117523951545,124.8861057113336,128.68400403246338,132.39923748265494,136.03436068467937,139.07361581063461,141.07697953839721,142.20365698705015,142.77098929436818,142.99747468991688,143.05423506536749,142.95071769126776,142.64488643412182,142.23663052050622,141.22163504948543,140.24383042565992,138.85550029045476,137.48840605108609,136.02966948827171]
[null,{"$f":"-1/IMAGINARY(IMDIV(1,B25))","v":47.08793477431928},{"$f":"-1/IMAGINARY(IMDIV(1,C25))","v":54.883322950873115},80.253321518355889,90.381568293318011,110.84500022018506,121.50951613030864,131.11092864137299,144.47526191510588,159.78501640909201,175.30354518706176,191.08744028097084,207.1175944371935,240.47240125501082,278.14830797996808,325.40737868335373,386.88785406216635,467.54318497380501,571.44872256206861,706.99417731867231,886.86280470847794,1138.8105041618601,1539.6708197899409,2334.4667072194534,4939.992499214758,-41266.206107998245,-1738.1441588979224,-1138.6000091917833,-819.00065775935013,-666.17600314012941,-548.41264500610146]

{"sheet":"BN-73-202 (2)","index":1,"n_rows":61,"n_cols":31,"rows_kept":61,"cut":false,"hidden":false,"merged":[]}
["Calculate impedance of ferrite cored inductor"]
[]
["Reference:"]
["A method for estimating the impedance of a ferrite cored toroidal inductor at RF",null,null,null,null,null,null,"2873000202"]
[]
["Inputs:"]
["Al (nH for 1t)",6600]
["N",3]
["Cs (pF)",13]
[]
["Constants:"]
["Mix",{"$f":"Mix!B1","v":"#73"}]
["µi",{"$f":"Mix!B2","v":2500}]
[]
["Calculated values:"]
["2*pi*N^2*Al",{"$f":"2*PI()*$B$8^2*$B$7*0.000000001","v":3.7322120724646746E-4}]
[]
["f (MHz)",1.5,1.2,1.8,2,2.5,3,3.5,4,4.5,5,5.5,6,{"$f":"M18+1","v":7},8,9,10,11,12,13,14,15,16,17,18,19,22,24,26,28,30]
["µ''",{"$f":"csinterpolate(CSTableU2,'BN-73-202 (2)'!B18*1000000)","v":1218.6419065022405},{"$f":"csinterpolate(CSTableU2,'BN-73-202 (2)'!C18*1000000)","v":1096.5224302244746},{"$f":"csinterpolate(CSTableU2,'BN-73-202 (2)'!D18*1000000)","v":1315.4077918841156},{"$f":"csinterpolate(CSTableU2,'BN-73-202 (2)'!E18*1000000)","v":1344.73888337266},{"$f":"csinterpolate(CSTableU2,'BN-73-202 (2)'!F18*1000000)","v":1309.0454962710626},{"$f":"csinterpolate(CSTableU2,'BN-73-202 (2)'!G18*1000000)","v":1176.6885594577207},{"$f":"csinterpolate(CSTableU2,'BN-73-202 (2)'!H18*1000000)","v":1071.2031537788589},{"$f":"csinterpolate(CSTableU2,'BN-73-202 (2)'!I18*1000000)","v":1015.4111176771675},{"$f":"csinterpolate(CSTableU2,'BN-73-202 (2)'!J18*1000000)","v":977.51422405264418},{"$f":"csinterpolate(CSTableU2,'BN-73-202 (2)'!K18*1000000)","v":940.55318033441972},{"$f":"csinterpolate(CSTableU2,'BN-73-202 (2)'!L18*1000000)","v":904.45129345633688},{"$f":"csinterpolate(CSTableU2,'BN-73-202 (2)'!M18*1000000)","v":870.0373999752328},{"$f":"csinterpolate(CSTableU2,'BN-73-202 (2)'!N18*1000000)","v":808.82143252607545},{"$f":"csinterpolate(CSTableU2,'BN-73-202 (2)'!O18*1000000)","v":758.74208547908893},{"$f":"csinterpolate(CSTableU2,'BN-73-202 (2)'!P18*1000000)","v":719.81653207649549},{"$f":"csinterpolate(CSTableU2,'BN-73-202 (2)'!Q18*1000000)","v":688.55295507307926},{"$f":"csinterpolate(CSTableU2,'BN-73-202 (2)'!R18*1000000)","v":659.96790828542112},{"$f":"csinterpolate(CSTableU2,'BN-73-202 (2)'!S18*1000000)","v":630.11902693490038},{"$f":"csinterpolate(CSTableU2,'BN-73-202 (2)'!T18*1000000)","v":599.135075084758},{"$f":"csinterpolate(CSTableU2,'BN-73-202 (2)'!U18*1000000)","v":568.13461900419054},{"$f":"csinterpolate(CSTableU2,'BN-73-202 (2)'!V18*1000000)","v":538.23622620412345},{"$f":"csinterpolate(CSTableU2,'BN-73-202 (2)'!W18*1000000)","v":510.40732438497804},{"$f":"csinterpolate(CSTableU2,'BN-73-202 (2)'!X18*1000000)","v":484.75212189525962},{"$f":"csinterpolate(CSTableU2,'BN-73-202 (2)'!Y18*1000000)","v":461.06894171160809},{"$f":"csinterpolate(CSTableU2,'BN-73-202 (2)'!Z18*1000000)","v":439.15572862436142},{"$f":"csinterpolate(CSTableU2,'BN-73-202 (2)'!AA18*1000000)","v":382.02406156220991},{"$f":"csinterpolate(CSTableU2,'BN-73-202 (2)'!AB18*1000000)","v":349.55451135030944},{"$f":"csinterpolate(CSTableU2,'BN-73-202 (2)'!AC18*1000000)","v":320.90950503555433},{"$f":"csinterpolate(CSTableU2,'BN-73-202 (2)'!AD18*1000000)","v":295.64963377859482},{"$f":"csinterpolate(CSTableU2,'BN-73-202 (2)'!AE18*1000000)","v":273.33685175710718}]
["µ'",{"$f":"csinterpolate(CSTableU1,'BN-73-202 (2)'!B18*1000000)","v":1819.3370233748562},{"$f":"csinterpolate(CSTableU1,'BN-73-202 (2)'!C18*1000000)","v":2199.1407868443675},{"$f":"csinterpolate(CSTableU1,'BN-73-202 (2)'!D18*1000000)","v":1540.4204477093901},{"$f":"csinterpolate(CSTableU1,'BN-73-202 (2)'!E18*1000000)","v":1422.9345221206945},{"$f":"csinterpolate(CSTableU1,'BN-73-202 (2)'!F18*1000000)","v":1204.2232083931372},{"$f":"csinterpolate(CSTableU1,'BN-73-202 (2)'!G18*1000000)","v":993.6393415175736},{"$f":"csinterpolate(CSTableU1,'BN-73-202 (2)'!H18*1000000)","v":858.62013244361776},{"$f":"csinterpolate(CSTableU1,'BN-73-202 (2)'!I18*1000000)","v":781.02291322424003},{"$f":"csinterpolate(CSTableU1,'BN-73-202 (2)'!J18*1000000)","v":718.86406138452378},{"$f":"csinterpolate(CSTableU1,'BN-73-202 (2)'!K18*1000000)","v":657.13932295796235},{"$f":"csinterpolate(CSTableU1,'BN-73-202 (2)'!L18*1000000)","v":598.90779311343374},{"$f":"csinterpolate(CSTableU1,'BN-73-202 (2)'!M18*1000000)","v":547.34270284178956},{"$f":"csinterpolate(CSTableU1,'BN-73-202 (2)'!N18*1000000)","v":464.47729137838638},{"$f":"csinterpolate(CSTableU1,'BN-73-202 (2)'!O18*1000000)","v":400.10664707536381},{"$f":"csinterpolate(CSTableU1,'BN-73-202 (2)'!P18*1000000)","v":346.76605069083206},{"$f":"csinterpolate(CSTableU1,'BN-73-202 (2)'!Q18*1000000)","v":300.95601456470132},{"$f":"csinterpolate(CSTableU1,'BN-73-202 (2)'!R18*1000000)","v":259.74817348479581},{"$f":"csinterpolate(CSTableU1,'BN-73-202 (2)'!S18*1000000)","v":222.58673898321507},{"$f":"csinterpolate(CSTableU1,'BN-73-202 (2)'!T18*1000000)","v":190.10095884267454},{"$f":"csinterpolate(CSTableU1,'BN-73-202 (2)'!U18*1000000)","v":162.81160083529107},{"$f":"csinterpolate(CSTableU1,'BN-73-202 (2)'!V18*1000000)","v":140.12406675106945},{"$f":"csinterpolate(CSTableU1,'BN-73-202 (2)'!W18*1000000)","v":120.82669631612335},{"$f":"csinterpolate(CSTableU1,'BN-73-202 (2)'!X18*1000000)","v":103.7012976241063},{"$f":"csinterpolate(CSTableU1,'BN-73-202 (2)'!Y18*1000000)","v":87.696738686118977},{"$f":"csinterpolate(CSTableU1,'BN-73-202 (2)'!Z18*1000000)","v":73.056200825802989},{"$f":"csinterpolate(CSTableU1,'BN-73-202 (2)'!AA18*1000000)","v":43.536324528004357},{"$f":"csinterpolate(CSTableU1,'BN-73-202 (2)'!AB18*1000000)","v":30.869350099132408},{"$f":"csinterpolate(CSTableU1,'BN-73-202 (2)'!AC18*1000000)","v":18.386721560905574},{"$f":"csinterpolate(CSTableU1,'BN-73-202 (2)'!AD18*1000000)","v":10.494890899429357},{"$f":"csinterpolate(CSTableU1,'BN-73-202 (2)'!AE18*1000000)","v":2.2871020480833768}]
["Rl",{"$f":"B19/$B$13*$B$16*B18*1000000","v":272.89380212754173},196.43780408698024,353.47542055804774,401.50805558688864,488.56354045883711,526.99814965670055,559.7140279633968,606.35674110553157,656.69226984273917,702.06878688783308,742.6328880066867,779.31938104400183,845.23407218375746,906.17163881986562,967.14286235119869,1027.9302605819892,1083.7816856865275,1128.8341629197416,1162.7715633395487,1187.4233749462326,1205.2870447661144,1219.1669618841654,1230.2544506134416,1238.9810907560941,1245.6569571685352,1254.6994367903317,1252.4271045562705,1245.6104220168536,1235.8383882972191,1224.181317572835]
["Xl",{"$f":"B20/$B$13*$B$16*B18*1000000","v":407.40909615129505},393.96767009808053,413.94065699609462,424.85547214284873,449.44163963070105,445.01672953052855,448.63733935542035,466.39090329712616,482.93156310485517,490.51666288699397,491.75519706524926,490.27177039717731,485.38777119506972,477.85051471617135,465.91359865531939,449.29266833569312,426.55151830746564,398.75563891377539,368.93848866146487,340.28255641787291,313.78364014271239,288.60854698691747,263.1839597476004,235.65803532488144,207.22253836475389,142.98838047485884,110.60252266475575,71.368069949964635,43.869457535735883,10.243139849778554]
["Yl",{"$f":"IMDIV(1,COMPLEX(B21,B22))","v":"0.0011349144175001-0.00169433843289225i"},"0.00101361966353798-0.00203287436990916i","0.0011929978878843-0.00139707119868801i","0.00117499344114143-0.00124331849947868i","0.00110862781005696-0.00101985404032451i","0.00110768131646148-0.000935367073176388i","0.00108776272738411-0.000871893416070528i","0.00103617253562534-0.000796991955562126i","0.000988298358418197-0.000726794714911382i","0.000957139627064191-0.000668727829171301i","0.00093609960806943-0.000619864612344963i","0.000919328402118528-0.000578351795485001i","0.000889699542461013-0.000510922704325789i","0.000863441512770161-0.000455317683349555i","0.00083921262103694-0.000404284193706119i","0.000816787101081474-0.000357005207628869i","0.000798937386242992-0.000314443360351372i","0.000787592075437581-0.000278213391799047i","0.000781351995196783-0.00024791698843459i","0.000778247119111991-0.000223024007109735i","0.000777014498696921-0.000202287445885638i","0.00077670619859901-0.000183866569897003i","0.000777268648283945-0.000166278317904911i","0.000778935115647672-0.000148155868050472i","0.000781170860871119-0.000129952478292457i","0.000786785332659379-0.0000896638327870212i","0.000792270938221475-0.0000699658799162719i","0.000800192364571026-0.0000458475488312509i","0.000808148950900093-0.0000286874533270564i","0.000816815269265142-6.83457010363956E-06i"]
["Yc",{"$f":"COMPLEX(0,2*PI()*B18*1000000*$B$9*0.000000000001)","v":"0.000122522113490002i"},"0.0000980176907920015i","0.000147026536188002i","0.000163362817986669i","0.000204203522483337i","0.000245044226980004i","0.000285884931476671i","0.000326725635973338i","0.000367566340470006i","0.000408407044966673i","0.00044924774946334i","0.000490088453960008i","0.000571769862953342i","0.000653451271946677i","0.000735132680940012i","0.000816814089933346i","0.000898495498926681i","0.000980176907920015i","0.00106185831691335i","0.00114353972590668i","0.00122522113490002i","0.00130690254389335i","0.00138858395288669i","0.00147026536188002i","0.00155194677087336i","0.00179699099785336i","0.00196035381584003i","0.0021237166338267i","0.00228707945181337i","0.00245044226980004i"]
["Z",{"$f":"IMDIV(1,IMSUM(B23,B24))","v":"301.94837486668+418.187817437251i"},"212.450102744244+405.537219788184i","399.549757327941+418.655428164014i","461.340078777866+424.025208763832i","585.231266547391+430.572083151784i","650.237170878802+405.237109115173i","712.523725156844+383.856642542311i","800.254391941043+363.195003432278i","893.757842326157+324.864626262184i","972.818369128387+264.585054864921i","1033.91569389562+188.445172560593i","1077.81566873764+103.479466370836i","1118.74227448791-76.5115473149726i","1100.22239297462-252.467605218099i","1031.30498903694-406.578365180019i","929.682779115438-523.363308500815i","815.726799455459-596.325807151865i","707.595531158401-630.664353456665i","613.782389433325-639.382578560395i","535.607434960077-633.519933292955i","470.87653694858-619.90538634596i","416.580082938053-602.331254770047i","370.4494042918-582.555845190989i","330.798264605955-561.473629050889i","296.764100709073-540.210699846917i","222.633263778511-483.115029371029i","188.579373385877-449.957401205431i","161.399140143591-419.107077869959i","140.463630611022-392.529049375065i","123.043889912468-368.101586863338i"]
["R",{"$f":"IMREAL(B25)","v":301.94837486668001},212.45010274424399,399.54975732794099,461.34007877786598,585.23126654739099,650.23717087880198,712.52372515684397,800.25439194104297,893.75784232615695,972.81836912838696,1033.9156938956201,1077.81566873764,1118.74227448791,1100.2223929746201,1031.30498903694,929.68277911543805,815.72679945545894,707.59553115840095,613.78238943332497,535.60743496007694,470.87653694858,416.58008293805301,370.44940429180002,330.79826460595501,296.76410070907298,222.63326377851101,188.57937338587701,161.39914014359101,140.46363061102201,123.043889912468]
["X",{"$f":"IMAGINARY(B25)","v":418.187817437251},405.53721978818402,418.65542816401398,424.02520876383198,430.572083151784,405.23710911517298,383.85664254231102,363.19500343227799,324.864626262184,264.58505486492101,188.44517256059299,103.47946637083599,-76.511547314972603,-252.46760521809901,-406.57836518001898,-523.36330850081504,-596.32580715186498,-630.66435345666503,-639.38257856039502,-633.51993329295499,-619.90538634595998,-602.33125477004705,-582.55584519098898,-561.47362905088903,-540.21069984691701,-483.11502937102898,-449.95740120543098,-419.10707786995903,-392.52904937506497,-368.10158686333801]
["|Z|",{"$f":"IMABS(B25)","v":515.8041020945459},457.81599228245591,578.71614467890072,626.60357958918405,726.55898186887077,766.17588907279696,809.34293160269294,878.81607992747888,950.96798374917762,1008.1571457721697,1050.9487357359792,1082.7717283604882,1121.3555607383919,1128.8176140047433,1108.5557935642842,1066.8735737980971,1010.4527102369361,947.8549268934845,886.30632590827292,829.59196612794119,778.46477188721997,732.35367546939676,690.3651743145341,651.67486370573386,616.3574707089715,531.94520558497595,487.87687275188114,449.11070479313491,416.9041689977708,388.12185856519233]
[]
[]
[]
["Module","Version","Date"]
["CubicSpline",{"$f":"CubicSpline_version(\"v\")","v":"1.03"},{"$f":"CubicSpline_version(\"d\")","v":"2010-07-06"}]
[]
["Copyright: Owen Duffy 2010. All rights reserved."]
[]
[]
[]
[]
[]
[]
[]
[]
[]
[]
[]
[]
[]
[]
[]
[]
[]
[]
[]
[]
[]
[]
[]
[]
[null,{"$f":"1/IMREAL(IMDIV(1,B25))","v":881.12370816710677},{"$f":"1/IMREAL(IMDIV(1,C25))","v":986.56333926036768},838.2244513218975,851.06858045825743,902.0159795094994,902.78673580459849,919.31813328889768,965.09023894991628,1011.8401912561425,1044.7796452303135,1068.2623850920652,1087.7505771556387,1123.9749514020014,1158.1560362921605,1191.5931373438957,1224.3092461621166,1251.6625422957188,1269.6928158455714,1279.8329128834591,1284.9389036493155,1286.97727220925,1287.4881155883061,1286.5564592214052,1283.8039779070893,1280.1296746845576,1270.9947154453691,1262.1944738309387,1249.6995026140837,1237.3956544597766,1224.2670253944475]
[null,{"$f":"-1/IMAGINARY(IMDIV(1,B25))","v":636.20665319233512},{"$f":"-1/IMAGINARY(IMDIV(1,C25))","v":516.83414631841458},799.97141702126339,925.96392346253742,1226.0152824358586,1448.5975735989457,1706.4599340964608,2126.454645687626,2783.7444677221383,3841.4143651854511,5861.0853763839978,11329.731944454432,-16434.6211483929,-5047.0998233084065,-3022.5315774016344,-2174.8166216106679,-1712.1759068279757,-1424.5754615937503,-1228.5897828397285,-1086.3475545066583,-977.58047343569535,-890.44342581607282,-818.12598369875491,-756.36700641446475,-703.23770300442891,-585.71082359668537,-528.99194974566865,-481.26227355761915,-442.79292552854031,-409.230990770017]

{"sheet":"Mix","index":2,"n_rows":66,"n_cols":17,"rows_kept":66,"cut":false,"hidden":false,"merged":[[4,4,4,6],[4,13,4,15]]}
["Mix","#73"]
["µi",2500]
[]
[]
["# #73 mix u'",null,null,null,"CSTable",null,null,null,null,"# #73 mix u''",null,null,null,"CSTable"]
[102389.7329,2391.1753039999999,null,null,{"$f":"cstable(A6:A24,B6:B24)","v":102389.7329},2391.1753039999999,0,null,null,101187.81200000001,28.068856700000001,null,null,{"$f":"cstable(Mix!J6:J29,Mix!K6:K29)","v":101187.81200000001},28.068856700000001,0]
[205504.11040000001,2419.9716349999999,null,null,205504.11040000001,2419.9716349999999,3.4978625937201302E-9,null,null,164204.3339,40.402088579999997,null,null,164204.3339,40.402088579999997,8.5055038642183112E-10]
[398107.17060000001,2536.746009,null,null,398107.17060000001,2536.746009,-5.5336739016612483E-10,null,null,242446.20170000001,60.224082869999997,null,null,242446.20170000001,60.224082869999997,1.3480632902939547E-9]
[608997.32440000004,2627.922497,null,null,608997.32440000004,2627.922497,-6.0261961581871576E-9,null,null,333485.47509999998,99.745792489999999,null,null,333485.47509999998,99.745792489999999,6.1698157952671455E-9]
[818126.59920000006,2537.3617869999998,null,null,818126.59920000006,2537.3617869999998,-6.3740578049487258E-11,null,null,448004.16470000002,208.83550990000001,null,null,448004.16470000002,208.83550990000001,3.9436330189219816E-9]
[1048365.741,2365.2445080000002,null,null,1048365.741,2365.2445080000002,-2.4794447205848111E-9,null,null,601848.49589999998,432.09220269999997,null,null,601848.49589999998,432.09220269999997,1.0942594375598808E-9]
[1566288.628,1744.2126390000001,null,null,1566288.628,1744.2126390000001,1.9608910439690445E-9,null,null,799031.87139999995,758.62783809999996,null,null,799031.87139999995,758.62783809999996,-7.4068905374668435E-10]
[2312610.878,1286.311989,null,null,2312610.878,1286.311989,-2.1532155711107761E-10,null,null,920666.97320000001,936.91151879999995,null,null,920666.97320000001,936.91151879999995,-7.2768837977766723E-9]
[2998631.3489999999,994.12818870000001,null,null,2998631.3489999999,994.12818870000001,4.0692894384296138E-10,null,null,1152228.098,1078.5470459999999,null,null,1152228.098,1078.5470459999999,4.5778958022620341E-10]
[4173619.1889999998,759.42241769999998,null,null,4173619.1889999998,759.42241769999998,-8.4461039111658707E-12,null,null,1741909.7139999999,1301.290107,null,null,1741909.7139999999,1301.290107,-7.9770645731052385E-10]
[5673435.9179999996,580.14460459999998,null,null,5673435.9179999996,580.14460459999998,3.2242520087552206E-11,null,null,2180025.3229999999,1348.0049799999999,null,null,2180025.3229999999,1348.0049799999999,-5.8622638644526421E-10]
[7621690.0259999996,422.91293769999999,null,null,7621690.0259999996,422.91293769999999,1.1956457868748744E-11,null,null,2664655.233,1271.4170710000001,null,null,2664655.233,1271.4170710000001,-3.2313429613713956E-10]
[10238973.289999999,290.76868380000002,null,null,10238973.289999999,290.76868380000002,3.5520811567189201E-12,null,null,3070290.63,1157.72775,null,null,3070290.63,1157.72775,3.1064411929294331E-10]
[13276295.890000001,182.03502839999999,null,null,13276295.890000001,182.03502839999999,5.4899665384059832E-12,null,null,4273357.5420000004,994.32783470000004,null,null,4273357.5420000004,994.32783470000004,-1.3814936960100262E-12]
[17214619.82,100.19173139999999,null,null,17214619.82,100.19173139999999,6.9233034683659925E-13,null,null,6089973.2439999999,864.08788200000004,null,null,6089973.2439999999,864.08788200000004,1.0663872396702527E-11]
[20070773.16,59.853590089999997,null,null,20070773.16,59.853590089999997,3.1226430792647464E-12,null,null,8181265.9919999996,750.89729369999998,null,null,8181265.9919999996,750.89729369999998,1.1752037893004568E-11]
[23678761.02,32.943267589999998,null,null,23678761.02,32.943267589999998,-6.5399603547483606E-13,null,null,10990707.27,660.23646069999995,null,null,10990707.27,660.23646069999995,-2.2640314169356034E-12]
[26333756.809999999,16.703965400000001,null,null,26333756.809999999,16.703965400000001,1.8748314658598267E-12,null,null,15117750.710000001,534.8401556,null,null,15117750.710000001,534.8401556,2.3523402791631659E-12]
[27935332.579999998,10.70481109,null,null,27935332.579999998,10.70481109,0,null,null,21291444.57,394.52753360000003,null,null,21291444.57,394.52753360000003,1.1049136069034182E-12]
[null,null,null,null,null,null,null,null,null,29286445.649999999,280.9862723,null,null,29286445.649999999,280.9862723,6.6576705540037324E-13]
[null,null,null,null,null,null,null,null,null,43754793.75,175.95712700000001,null,null,43754793.75,175.95712700000001,2.0107868521965236E-13]
[null,null,null,null,null,null,null,null,null,62355073.409999996,115.47482770000001,null,null,62355073.409999996,115.47482770000001,5.9888613847072379E-14]
[null,null,null,null,null,null,null,null,null,87819254,75.786777180000001,null,null,87819254,75.786777180000001,4.4791796600232174E-14]
[null,null,null,null,null,null,null,null,null,98826131.370000005,67.422875199999993,null,null,98826131.370000005,67.422875199999993,0]
[]
[]
[]
[]
[]
[]
[]
[]
[]
[]
[]
[]
[]
[102389.7329,2391.1753039999999,null,null,null,null,null,null,null,null,101187.81200000001,28.068856700000001]
[205504.11040000001,2419.9716349999999,null,null,null,null,null,null,null,null,164204.3339,40.402088579999997]
[398107.17060000001,2536.746009,null,null,null,null,null,null,null,null,242446.20170000001,60.224082869999997]
[608997.32440000004,2627.922497,null,null,null,null,null,null,null,null,333485.47509999998,99.745792489999999]
[818126.59920000006,2537.3617869999998,null,null,null,null,null,null,null,null,448004.16470000002,208.83550990000001]
[1048365.741,2365.2445080000002,null,null,null,null,null,null,null,null,601848.49589999998,432.09220269999997]
[1566288.628,1744.2126390000001,null,null,null,null,null,null,null,null,799031.87139999995,758.62783809999996]
[2312610.878,1286.311989,null,null,null,null,null,null,null,null,920666.97320000001,936.91151879999995]
[2998631.3489999999,994.12818870000001,null,null,null,null,null,null,null,null,1152228.098,1078.5470459999999]
[4173619.1889999998,759.42241769999998,null,null,null,null,null,null,null,null,1741909.7139999999,1301.290107]
[5673435.9179999996,580.14460459999998,null,null,null,null,null,null,null,null,2180025.3229999999,1348.0049799999999]
[7621690.0259999996,422.91293769999999,null,null,null,null,null,null,null,null,2664655.233,1271.4170710000001]
[10238973.289999999,290.76868380000002,null,null,null,null,null,null,null,null,3070290.63,1157.72775]
[13276295.890000001,182.03502839999999,null,null,null,null,null,null,null,null,4273357.5420000004,994.32783470000004]
[17214619.82,100.19173139999999,null,null,null,null,null,null,null,null,6089973.2439999999,864.08788200000004]
[20070773.16,59.853590089999997,null,null,null,null,null,null,null,null,8181265.9919999996,750.89729369999998]
[23678761.02,32.943267589999998,null,null,null,null,null,null,null,null,10990707.27,660.23646069999995]
[26333756.809999999,16.703965400000001,null,null,null,null,null,null,null,null,15117750.710000001,534.8401556]
[27935332.579999998,10.70481109,null,null,null,null,null,null,null,null,21291444.57,394.52753360000003]
[null,null,null,null,null,null,null,null,null,null,29286445.649999999,280.9862723]
[null,null,null,null,null,null,null,null,null,null,43754793.75,175.95712700000001]
[null,null,null,null,null,null,null,null,null,null,62355073.409999996,115.47482770000001]
[null,null,null,null,null,null,null,null,null,null,87819254,75.786777180000001]
[null,null,null,null,null,null,null,null,null,null,98826131.370000005,67.422875199999993,null,null,null,null,"x"]