{"text_format":"1","workbook":"xlsx","n_sheets":8,"sheets":["FT140-61 12t","FT140-61 4t","FT140-61 4t (3)","FT140-61 4t (2)","FT240-61 12t","FT240-61x2 12t","FT240-61x3 13t","Mix"],"not_rendered":{"charts":14,"images":0,"macros":1,"external_links":1,"defined_names":2,"comments":0,"pivot_tables":0},"unopened":[],"bounds":{"document_bytes":16777216,"sheet_cells":100000,"rows_first":2000,"rows_last":500,"rows_between":2000,"halvings":0,"cell_chars":16384,"cell_head_chars":4096},"cells_cut":0,"cells_raw":0,"read":"whole","date_system":"1900"}

{"sheet":"FT140-61 12t","index":0,"n_rows":35,"n_cols":31,"rows_kept":35,"cut":false,"hidden":false,"merged":[]}
["Calculate impedance of ferrite cored inductor"]
[]
["Reference:"]
["A method for estimating the impedance of a ferrite cored toroidal inductor at RF"]
[]
["Inputs:"]
["Al (nH for 1t)",140]
["N",12]
["Cs (pF)",1.3]
[]
["Constants:"]
["Mix",{"$f":"Mix!B1","v":"#61"}]
["µi",{"$f":"Mix!B2","v":125}]
[]
["Calculated values:"]
["2*pi*N^2*Al",{"$f":"2*PI()*$B$8^2*$B$7*0.000000001","v":1.2666901579274048E-4}]
[]
["f (MHz)",1,{"$f":"B18+1","v":2},{"$f":"C18+1","v":3},4,5,6,7,8,9,10,11,12,13,14,15,16,17,18,19,20,21,22,23,24,25,26,27,28,29,30]
["µ''",{"$f":"csinterpolate(CSTableU2,'FT140-61 12t'!B18*1000000)","v":0.62},{"$f":"csinterpolate(CSTableU2,'FT140-61 12t'!C18*1000000)","v":0.75819431100099222},{"$f":"csinterpolate(CSTableU2,'FT140-61 12t'!D18*1000000)","v":0.77887091186070234},{"$f":"csinterpolate(CSTableU2,'FT140-61 12t'!E18*1000000)","v":0.83511143762440576},{"$f":"csinterpolate(CSTableU2,'FT140-61 12t'!F18*1000000)","v":0.93},{"$f":"csinterpolate(CSTableU2,'FT140-61 12t'!G18*1000000)","v":1.036969921462761},{"$f":"csinterpolate(CSTableU2,'FT140-61 12t'!H18*1000000)","v":1.1594707528103099},{"$f":"csinterpolate(CSTableU2,'FT140-61 12t'!I18*1000000)","v":1.3926436921793786},{"$f":"csinterpolate(CSTableU2,'FT140-61 12t'!J18*1000000)","v":1.6331035608136657},{"$f":"csinterpolate(CSTableU2,'FT140-61 12t'!K18*1000000)","v":2.02},{"$f":"csinterpolate(CSTableU2,'FT140-61 12t'!L18*1000000)","v":2.5096010234877921},{"$f":"csinterpolate(CSTableU2,'FT140-61 12t'!M18*1000000)","v":3.1827756414461343},{"$f":"csinterpolate(CSTableU2,'FT140-61 12t'!N18*1000000)","v":4.1862588520627675},{"$f":"csinterpolate(CSTableU2,'FT140-61 12t'!O18*1000000)","v":5.5699800869711646},{"$f":"csinterpolate(CSTableU2,'FT140-61 12t'!P18*1000000)","v":7.5596708892868953},{"$f":"csinterpolate(CSTableU2,'FT140-61 12t'!Q18*1000000)","v":10.364762073298381},{"$f":"csinterpolate(CSTableU2,'FT140-61 12t'!R18*1000000)","v":14.071540778907028},{"$f":"csinterpolate(CSTableU2,'FT140-61 12t'!S18*1000000)","v":19.176551161213411},{"$f":"csinterpolate(CSTableU2,'FT140-61 12t'!T18*1000000)","v":25.391368669797036},{"$f":"csinterpolate(CSTableU2,'FT140-61 12t'!U18*1000000)","v":32.089654518261241},{"$f":"csinterpolate(CSTableU2,'FT140-61 12t'!V18*1000000)","v":39.794608051729639},{"$f":"csinterpolate(CSTableU2,'FT140-61 12t'!W18*1000000)","v":47.421943915918163},{"$f":"csinterpolate(CSTableU2,'FT140-61 12t'!X18*1000000)","v":54.059097865518069},{"$f":"csinterpolate(CSTableU2,'FT140-61 12t'!Y18*1000000)","v":59.964781915008828},{"$f":"csinterpolate(CSTableU2,'FT140-61 12t'!Z18*1000000)","v":65.050788171679642},{"$f":"csinterpolate(CSTableU2,'FT140-61 12t'!AA18*1000000)","v":69.197236673813947},{"$f":"csinterpolate(CSTableU2,'FT140-61 12t'!AB18*1000000)","v":72.536485290986661},{"$f":"csinterpolate(CSTableU2,'FT140-61 12t'!AC18*1000000)","v":75.170528211419636},{"$f":"csinterpolate(CSTableU2,'FT140-61 12t'!AD18*1000000)","v":77.095025191458149},{"$f":"csinterpolate(CSTableU2,'FT140-61 12t'!AE18*1000000)","v":78.419182905316077}]
["µ'",{"$f":"csinterpolate(CSTableU1,'FT140-61 12t'!B18*1000000)","v":118.57},{"$f":"csinterpolate(CSTableU1,'FT140-61 12t'!C18*1000000)","v":118.53968029339639},{"$f":"csinterpolate(CSTableU1,'FT140-61 12t'!D18*1000000)","v":118.74548534852252},{"$f":"csinterpolate(CSTableU1,'FT140-61 12t'!E18*1000000)","v":119.13224502943993},{"$f":"csinterpolate(CSTableU1,'FT140-61 12t'!F18*1000000)","v":119.69},{"$f":"csinterpolate(CSTableU1,'FT140-61 12t'!G18*1000000)","v":120.41980665671979},{"$f":"csinterpolate(CSTableU1,'FT140-61 12t'!H18*1000000)","v":121.36869399692092},{"$f":"csinterpolate(CSTableU1,'FT140-61 12t'!I18*1000000)","v":122.50340698858074},{"$f":"csinterpolate(CSTableU1,'FT140-61 12t'!J18*1000000)","v":123.86522642233432},{"$f":"csinterpolate(CSTableU1,'FT140-61 12t'!K18*1000000)","v":125.48},{"$f":"csinterpolate(CSTableU1,'FT140-61 12t'!L18*1000000)","v":127.40209539131958},{"$f":"csinterpolate(CSTableU1,'FT140-61 12t'!M18*1000000)","v":129.52648939190286},{"$f":"csinterpolate(CSTableU1,'FT140-61 12t'!N18*1000000)","v":132.29104551836008},{"$f":"csinterpolate(CSTableU1,'FT140-61 12t'!O18*1000000)","v":135.12198912144072},{"$f":"csinterpolate(CSTableU1,'FT140-61 12t'!P18*1000000)","v":138.34472114290378},{"$f":"csinterpolate(CSTableU1,'FT140-61 12t'!Q18*1000000)","v":141.86529900339437},{"$f":"csinterpolate(CSTableU1,'FT140-61 12t'!R18*1000000)","v":145.37170500941278},{"$f":"csinterpolate(CSTableU1,'FT140-61 12t'!S18*1000000)","v":148.69565743233508},{"$f":"csinterpolate(CSTableU1,'FT140-61 12t'!T18*1000000)","v":151.32572567542223},{"$f":"csinterpolate(CSTableU1,'FT140-61 12t'!U18*1000000)","v":152.65425339002283},{"$f":"csinterpolate(CSTableU1,'FT140-61 12t'!V18*1000000)","v":152.55221676355956},{"$f":"csinterpolate(CSTableU1,'FT140-61 12t'!W18*1000000)","v":151.01754547328326},{"$f":"csinterpolate(CSTableU1,'FT140-61 12t'!X18*1000000)","v":148.20067609090967},{"$f":"csinterpolate(CSTableU1,'FT140-61 12t'!Y18*1000000)","v":144.40610074717381},{"$f":"csinterpolate(CSTableU1,'FT140-61 12t'!Z18*1000000)","v":139.95141627964244},{"$f":"csinterpolate(CSTableU1,'FT140-61 12t'!AA18*1000000)","v":135.11398557250098},{"$f":"csinterpolate(CSTableU1,'FT140-61 12t'!AB18*1000000)","v":130.0795700595983},{"$f":"csinterpolate(CSTableU1,'FT140-61 12t'!AC18*1000000)","v":125.05991362921905},{"$f":"csinterpolate(CSTableU1,'FT140-61 12t'!AD18*1000000)","v":120.32684003060784},{"$f":"csinterpolate(CSTableU1,'FT140-61 12t'!AE18*1000000)","v":115.96025934130439}]
["Rl",{"$f":"B19/$B$13*$B$16*B18*1000000","v":0.62827831833199277},1.5366356344664107,2.3678114840397475,3.3850478041966094,4.7120873874899463,6.3048940492014394,8.2246650695411923,11.289907573653128,14.894180692983861,20.46971295210686,27.97420486763345,38.703269567144645,55.148006019021587,79.020916307401649,114.90912855156024,168.05045897608065,242.41023807661298,349.78678011216533,488.87755121314012,650.3623927931551,846.84496440943701,1057.2128094541888,1259.9607407134245,1458.3705422208943,1647.9838628497409,1823.1503399302626,1984.6350433887571,2132.8780088360545,2265.6078235363007,2383.9873722929487]
["Xl",{"$f":"B20/$B$13*$B$16*B18*1000000","v":120.1531616203619},240.24487416241013,360.9929702142872,482.89165526588016,606.44058000932421,732.16600277562202,860.92456893185476,993.11270364806705,1129.6718151740668,1271.5542481338462,1420.1350269173133,1575.0713213146732,1742.7463595363436,1916.9661698846717,2102.8787600751307,2300.15203838756,2504.316348481068,2712.2590914636071,2913.5786717850519,3093.8502453583696,3246.3713779460704,3366.7469180463754,3454.1278155667824,3512.0215019734719,3545.5016317884852,3559.8691590390731,3559.0430406655041,3548.4324230965808,3536.0703168296081,3525.2572612401523]
["Yl",{"$f":"IMDIV(1,COMPLEX(B21,B22))","v":"0.0000435180866147324-0.00832248311275616i"},"0.0000266222570648372-0.00416224943311437i","0.0000181689968227168-0.00277001787222364i","0.0000145159032434344-0.00207075614595789i","0.0000128118134927241-0.00164886662037005i","0.0000117605185445121-0.00136570920718242i","0.0000110955384677246-0.00116143594804469i","0.0000114455637594974-0.00100680494466553i","0.0000116690780294181-0.000885058992543996i","0.0000126569607342072-0.000786235362835803i","0.0000138653229500603-0.000703885271237271i","0.0000155913980002254-0.000634508766933867i","0.000018139561208028-0.00057323295148647i","0.0000214672205892397-0.000520772696066163i","0.0000259078407262009-0.000474122888836387i","0.0000315947252110024-0.000432445540697545i","0.0000382932597024939-0.000395603902997193i","0.0000467710661111092-0.000362664504463614i","0.0000560129243245827-0.000333821958589511i","0.0000650695510981113-0.000309543492768159i","0.0000752344912378549-0.000288410640971611i","0.000084898390739063-0.000270363159443182i","0.0000932027027781336-0.000255511174078065i","0.000100847552518507-0.000242859247778711i","0.000107806962055197-0.000231937805036452i","0.00011397150275388-0.000222539868916347i","0.000119516271095312-0.000214328349338101i","0.000124434694112143-0.000207019858293065i","0.000128459324146813-0.000200494188939783i","0.000131633214682593-0.00019464907879687i"]
["Yc",{"$f":"COMPLEX(0,2*PI()*B18*1000000*$B$9*0.000000000001)","v":"8.16814089933346E-06i"},"0.0000163362817986669i","0.0000245044226980004i","0.0000326725635973338i","0.0000408407044966673i","0.0000490088453960008i","0.0000571769862953342i","0.0000653451271946677i","0.0000735132680940012i","0.0000816814089933346i","0.0000898495498926681i","0.0000980176907920015i","0.000106185831691335i","0.000114353972590668i","0.000122522113490002i","0.000130690254389335i","0.000138858395288669i","0.000147026536188002i","0.000155194677087336i","0.000163362817986669i","0.000171530958886003i","0.000179699099785336i","0.00018786724068467i","0.000196035381584003i","0.000204203522483337i","0.00021237166338267i","0.000220539804282003i","0.000228707945181337i","0.00023687608608067i","0.000245044226980004i"]
["Z",{"$f":"IMDIV(1,IMSUM(B23,B24))","v":"0.629513355977089+120.271195903458i"},"1.54876870705194+241.191441254386i","2.41026491388873+364.21464556191i","3.49444374516254+490.632123062656i","4.95446713809886+621.841050209671i","6.78293906924686+759.4136510775i","9.0983507167308+905.493261576611i","12.9112838311549+1062.02325847926i","17.7141686198429+1231.96175133784i","25.4894688407076+1418.8798108956i","36.7554151029173+1627.73978704491i","54.1244389821316+1862.39094882183i","83.0330060863549+2137.88668291497i","129.604001229391+2453.67081956422i","208.439455857945+2828.77585465143i","343.217683602267+3278.0076322796i","568.27884942458+3810.14943227796i","960.642688858355+4429.04245911627i","1598.30729527824+5097.06091233923i","2541.497773617+5709.55006194551i","3893.9053687392+6049.33208268554i","5502.98127156659+5876.70293816018i","7027.56535864749+5100.41177850486i","8157.40296576122+3787.51031062476i","8700.05148978791+2238.16423025525i","8704.83536369542+776.620058314198i","8344.52260740217-433.678408213685i","7799.41318015092-1359.3825414655i","7206.51615138028-2041.00972120958i","6625.73039905233-2536.62927010391i"]
["R",{"$f":"IMREAL(B25)","v":0.62951335597708902},1.54876870705194,2.4102649138887302,3.4944437451625401,4.9544671380988596,6.7829390692468596,9.0983507167308009,12.911283831154901,17.714168619842901,25.489468840707602,36.755415102917297,54.124438982131601,83.033006086354902,129.604001229391,208.43945585794501,343.21768360226702,568.27884942458002,960.64268885835497,1598.30729527824,2541.4977736169999,3893.9053687392002,5502.9812715665903,7027.56535864749,8157.40296576122,8700.0514897879093,8704.8353636954198,8344.5226074021703,7799.4131801509202,7206.5161513802796,6625.7303990523296]
["X",{"$f":"IMAGINARY(B25)","v":120.27119590345799},241.19144125438601,364.21464556191,490.63212306265598,621.84105020967104,759.41365107750005,905.49326157661096,1062.02325847926,1231.96175133784,1418.8798108956,1627.7397870449099,1862.3909488218301,2137.8866829149702,2453.67081956422,2828.7758546514301,3278.0076322795999,3810.1494322779599,4429.04245911627,5097.0609123392296,5709.5500619455097,6049.3320826855397,5876.7029381601797,5100.4117785048602,3787.5103106247602,2238.16423025525,776.62005831419799,-433.67840821368497,-1359.3825414655,-2041.00972120958,-2536.6292701039101]
["|Z|",{"$f":"IMABS(B25)","v":120.27284336504781},241.19641377697945,364.22262068512828,490.64456719509019,621.86078705003513,759.44394243767329,905.53897030796725,1062.1017384417905,1232.0890992656703,1419.108745230229,1628.1547146596349,1863.1772597229194,2139.4985274790238,2457.0913063855842,2836.4449302987159,3295.926639902747,3852.295360819493,4532.0250970522775,5341.780242038797,6249.6538178656056,7194.2280800169619,8050.9900197797497,8683.3677326468987,8993.801059557567,8983.3331813172153,8739.4105879068484,8355.7844938220296,7916.9922855054683,7489.9663365182651,7094.7016410046472]
[]
[]
[]
["Module","Version","Date"]
["CubicSpline",{"$f":"CubicSpline_version(\"v\")","v":"1.04"},{"$f":"CubicSpline_version(\"d\")","v":"2014-03-07"}]
[]
["Copyright: Owen Duffy 2010. All rights reserved."]

{"sheet":"FT140-61 4t","index":1,"n_rows":35,"n_cols":31,"rows_kept":35,"cut":false,"hidden":false,"merged":[]}
["Calculate impedance of ferrite cored inductor"]
[]
["Reference:"]
["A method for estimating the impedance of a ferrite cored toroidal inductor at RF"]
[]
["Inputs:"]
["Al (nH for 1t)",140]
["N",4]
["Cs (pF)",1.3]
[]
["Constants:"]
["Mix",{"$f":"Mix!B1","v":"#61"}]
["µi",{"$f":"Mix!B2","v":125}]
[]
["Calculated values:"]
["2*pi*N^2*Al",{"$f":"2*PI()*$B$8^2*$B$7*0.000000001","v":1.4074335088082274E-5}]
[]
["f (MHz)",50,{"$f":"B18+5","v":55},{"$f":"C18+5","v":60},65,70,75,80,85,90,95,100,105,110,115,120,125,130,135,140,145,150,155,160,165,170,175,180,185,190,195]
["µ''",{"$f":"csinterpolate(CSTableU2,'FT140-61 4t'!B18*1000000)","v":73.150000000000006},{"$f":"csinterpolate(CSTableU2,'FT140-61 4t'!C18*1000000)","v":69.900703656001923},{"$f":"csinterpolate(CSTableU2,'FT140-61 4t'!D18*1000000)","v":66.892326420374161},{"$f":"csinterpolate(CSTableU2,'FT140-61 4t'!E18*1000000)","v":64.196133003784468},{"$f":"csinterpolate(CSTableU2,'FT140-61 4t'!F18*1000000)","v":61.700281397899587},{"$f":"csinterpolate(CSTableU2,'FT140-61 4t'!G18*1000000)","v":59.54310614721949},{"$f":"csinterpolate(CSTableU2,'FT140-61 4t'!H18*1000000)","v":57.57973921271163},{"$f":"csinterpolate(CSTableU2,'FT140-61 4t'!I18*1000000)","v":55.79301765363266},{"$f":"csinterpolate(CSTableU2,'FT140-61 4t'!J18*1000000)","v":54.205525336336166},{"$f":"csinterpolate(CSTableU2,'FT140-61 4t'!K18*1000000)","v":52.77377266149599},{"$f":"csinterpolate(CSTableU2,'FT140-61 4t'!L18*1000000)","v":51.43},{"$f":"csinterpolate(CSTableU2,'FT140-61 4t'!M18*1000000)","v":50.177772097456838},{"$f":"csinterpolate(CSTableU2,'FT140-61 4t'!N18*1000000)","v":49.090120624888741},{"$f":"csinterpolate(CSTableU2,'FT140-61 4t'!O18*1000000)","v":48.115474095358238},{"$f":"csinterpolate(CSTableU2,'FT140-61 4t'!P18*1000000)","v":47.116383484825207},{"$f":"csinterpolate(CSTableU2,'FT140-61 4t'!Q18*1000000)","v":46.128780763385315},{"$f":"csinterpolate(CSTableU2,'FT140-61 4t'!R18*1000000)","v":45.228081203491477},{"$f":"csinterpolate(CSTableU2,'FT140-61 4t'!S18*1000000)","v":44.401949429431291},{"$f":"csinterpolate(CSTableU2,'FT140-61 4t'!T18*1000000)","v":43.628799587229473},{"$f":"csinterpolate(CSTableU2,'FT140-61 4t'!U18*1000000)","v":42.889793992214912},{"$f":"csinterpolate(CSTableU2,'FT140-61 4t'!V18*1000000)","v":42.176265353918033},{"$f":"csinterpolate(CSTableU2,'FT140-61 4t'!W18*1000000)","v":41.487295079807176},{"$f":"csinterpolate(CSTableU2,'FT140-61 4t'!X18*1000000)","v":40.820505043383079},{"$f":"csinterpolate(CSTableU2,'FT140-61 4t'!Y18*1000000)","v":40.171360576909088},{"$f":"csinterpolate(CSTableU2,'FT140-61 4t'!Z18*1000000)","v":39.535616980310792},{"$f":"csinterpolate(CSTableU2,'FT140-61 4t'!AA18*1000000)","v":38.909999999999997},{"$f":"csinterpolate(CSTableU2,'FT140-61 4t'!AB18*1000000)","v":38.294908017447575},{"$f":"csinterpolate(CSTableU2,'FT140-61 4t'!AC18*1000000)","v":37.704913839514433},{"$f":"csinterpolate(CSTableU2,'FT140-61 4t'!AD18*1000000)","v":37.156684638935729},{"$f":"csinterpolate(CSTableU2,'FT140-61 4t'!AE18*1000000)","v":36.645279506102625}]
["µ'",{"$f":"csinterpolate(CSTableU1,'FT140-61 4t'!B18*1000000)","v":64.33},{"$f":"csinterpolate(CSTableU1,'FT140-61 4t'!C18*1000000)","v":58.195687025583865},{"$f":"csinterpolate(CSTableU1,'FT140-61 4t'!D18*1000000)","v":53.298329461685185},{"$f":"csinterpolate(CSTableU1,'FT140-61 4t'!E18*1000000)","v":49.217282367345469},{"$f":"csinterpolate(CSTableU1,'FT140-61 4t'!F18*1000000)","v":45.806753054488759},{"$f":"csinterpolate(CSTableU1,'FT140-61 4t'!G18*1000000)","v":42.9191925994973},{"$f":"csinterpolate(CSTableU1,'FT140-61 4t'!H18*1000000)","v":40.429233744265879},{"$f":"csinterpolate(CSTableU1,'FT140-61 4t'!I18*1000000)","v":38.253481638071122},{"$f":"csinterpolate(CSTableU1,'FT140-61 4t'!J18*1000000)","v":36.281743090432563},{"$f":"csinterpolate(CSTableU1,'FT140-61 4t'!K18*1000000)","v":34.497730781510072},{"$f":"csinterpolate(CSTableU1,'FT140-61 4t'!L18*1000000)","v":32.9},{"$f":"csinterpolate(CSTableU1,'FT140-61 4t'!M18*1000000)","v":31.367498280330398},{"$f":"csinterpolate(CSTableU1,'FT140-61 4t'!N18*1000000)","v":30.024364154999088},{"$f":"csinterpolate(CSTableU1,'FT140-61 4t'!O18*1000000)","v":28.837075978733935},{"$f":"csinterpolate(CSTableU1,'FT140-61 4t'!P18*1000000)","v":27.625820813954022},{"$f":"csinterpolate(CSTableU1,'FT140-61 4t'!Q18*1000000)","v":26.427870384907788},{"$f":"csinterpolate(CSTableU1,'FT140-61 4t'!R18*1000000)","v":25.332384768299708},{"$f":"csinterpolate(CSTableU1,'FT140-61 4t'!S18*1000000)","v":24.323846236154409},{"$f":"csinterpolate(CSTableU1,'FT140-61 4t'!T18*1000000)","v":23.386315032811208},{"$f":"csinterpolate(CSTableU1,'FT140-61 4t'!U18*1000000)","v":22.513674461563141},{"$f":"csinterpolate(CSTableU1,'FT140-61 4t'!V18*1000000)","v":21.686639819566388},{"$f":"csinterpolate(CSTableU1,'FT140-61 4t'!W18*1000000)","v":20.876177117147432},{"$f":"csinterpolate(CSTableU1,'FT140-61 4t'!X18*1000000)","v":20.076238310032796},{"$f":"csinterpolate(CSTableU1,'FT140-61 4t'!Y18*1000000)","v":19.31091253020557},{"$f":"csinterpolate(CSTableU1,'FT140-61 4t'!Z18*1000000)","v":18.59209957918106},{"$f":"csinterpolate(CSTableU1,'FT140-61 4t'!AA18*1000000)","v":17.899999999999999},{"$f":"csinterpolate(CSTableU1,'FT140-61 4t'!AB18*1000000)","v":17.218929944337621},{"$f":"csinterpolate(CSTableU1,'FT140-61 4t'!AC18*1000000)","v":16.566828690007725},{"$f":"csinterpolate(CSTableU1,'FT140-61 4t'!AD18*1000000)","v":15.968110555070552},{"$f":"csinterpolate(CSTableU1,'FT140-61 4t'!AE18*1000000)","v":15.418335526208111}]
["Rl",{"$f":"B19/$B$13*$B$16*B18*1000000","v":411.8150446772874},432.87460750481591,451.903208093628,469.82930137226731,486.29864383688459,502.81777686073116,518.65378813702023,533.96974570211091,549.29284359057283,564.49437782812913,579.074442864057,593.22377391734722,608.00151032637541,623.01784091281309,636.60649853185498,649.23191766856849,662.01737705889195,674.92214802061153,687.7319062672276,700.22858570609071,712.32346962590077,724.04355513567805,735.3874770500172,746.30845040874749,756.7550289611587,766.68532958819367,776.12452935097781,785.39395593000347,794.89255816328273,804.58239133790312]
["Xl",{"$f":"B20/$B$13*$B$16*B18*1000000","v":362.16079048653302},360.38886394686097,360.06650326980719,360.2042725646474,361.03177140011019,362.43545901315963,364.16933316556879,366.10677682481048,367.66181508081235,369.00479332604158,370.43649951832543,370.84041260466023,371.86420649317574,373.39365666237433,373.26245685015044,371.95470346159806,370.79793068165282,369.72931956331604,368.64445435690965,367.56339818580631,366.27004290615054,364.33470701006155,361.67642276300313,358.7604950249231,355.87315767700716,352.70283730734178,348.97678544854301,345.08730552843525,341.60561878692175,338.52440028628462]
["Yl",{"$f":"IMDIV(1,COMPLEX(B21,B22))","v":"0.0013692841608326-0.00120418386967001i"},"0.00136441355572515-0.00113593969887923i","0.00135355315856635-0.00107848128551858i","0.00134050540074341-0.00102772596628913i","0.00132567737537017-0.000984192855975715i","0.00130879014800086-0.000943387405680323i","0.00129140089012808-0.000906748609118659i","0.0012739108458249-0.000873434117721169i","0.00125725694991437-0.000841528116781777i","0.0012411422406434-0.000811323290338036i","0.0012254236372063-0.000783908957108445i","0.00121205324515658-0.000757687647217102i","0.00119697394864396-0.000732089904458553i","0.00118091069386589-0.000707755915188939i","0.00116895893682965-0.000685397471945759i","0.00115964839272059-0.000664379957755406i","0.00114981858213831-0.000644016857699899i","0.00113964830246248-0.000624311104098i","0.00112951449639075-0.00060545286821169i","0.00111960812262953-0.000587703750733295i","0.00111030171567604-0.000570906721988272i","0.00110208046549244-0.000554560786638671i","0.00109497091462321-0.000538525846291396i","0.00108841234599058-0.000523214432082278i","0.00108212382350636-0.000508881748162774i","0.00107649425524796-0.000495226090180891i","0.00107176711256876-0.000481909574493777i","0.00106721442860936-0.000468913911049623i","0.00106191178732674-0.000456357314559691i","0.00105594948239644-0.000444285966371272i"]
["Yc",{"$f":"COMPLEX(0,2*PI()*B18*1000000*$B$9*0.000000000001)","v":"0.000408407044966673i"},"0.00044924774946334i","0.000490088453960008i","0.000530929158456675i","0.000571769862953342i","0.00061261056745001i","0.000653451271946677i","0.000694291976443344i","0.000735132680940012i","0.000775973385436679i","0.000816814089933346i","0.000857654794430014i","0.000898495498926681i","0.000939336203423348i","0.000980176907920015i","0.00102101761241668i","0.00106185831691335i","0.00110269902141002i","0.00114353972590668i","0.00118438043040335i","0.00122522113490002i","0.00126606183939669i","0.00130690254389335i","0.00134774324839002i","0.00138858395288669i","0.00142942465738336i","0.00147026536188002i","0.00151110606637669i","0.00155194677087336i","0.00159278747537002i"]
["Z",{"$f":"IMDIV(1,IMSUM(B23,B24))","v":"545.923065537326+317.270100722881i"},"584.789555783362+294.317128684276i","621.377004883576+270.114086805487i","655.900997002397+243.079603695895i","687.765643110769+213.966361876317i","718.190118133189+181.511647904149i","745.665994118488+146.256063607931i","769.762208047689+108.246860976458i","789.726810796203+66.8306731064893i","805.056354250594+22.9294150429035i","815.456350568948-21.8966720680801i","819.471771871556-67.5880004305642i","819.599596033413-113.942294365126i","815.444975216883-159.911315377987i","804.314834394894-202.826177856755i","787.81809558888-242.285161324952i","768.249054102346-279.179960032046i","746.012421615691-313.152160973255i","721.577524111406-343.750685602637i","695.605179476158-370.711305556028i","668.495125244192-393.952372794625i","640.440954507494-413.467462339807i","611.93300078365-429.413285792704i","583.758996167309-442.227723612199i","556.39964140637-452.319762877768i","529.883748663487-459.841412410771i","504.234779784409-464.992214219837i","479.622979947107-468.377576066707i","456.152984830449-470.619505886018i","433.817829416086-471.841162878548i"]
["R",{"$f":"IMREAL(B25)","v":545.92306553732601},584.78955578336195,621.37700488357598,655.90099700239705,687.76564311076902,718.190118133189,745.66599411848802,769.762208047689,789.72681079620304,805.05635425059404,815.45635056894798,819.47177187155603,819.59959603341304,815.44497521688299,804.31483439489398,787.81809558888006,768.24905410234601,746.01242161569098,721.57752411140598,695.60517947615801,668.49512524419197,640.44095450749398,611.93300078364996,583.75899616730896,556.39964140637005,529.88374866348704,504.234779784409,479.62297994710701,456.15298483044899,433.817829416086]
["X",{"$f":"IMAGINARY(B25)","v":317.27010072288101},294.31712868427599,270.11408680548698,243.079603695895,213.96636187631699,181.51164790414899,146.256063607931,108.246860976458,66.8306731064893,22.9294150429035,-21.8966720680801,-67.588000430564193,-113.942294365126,-159.91131537798699,-202.82617785675501,-242.28516132495201,-279.17996003204598,-313.15216097325498,-343.75068560263702,-370.71130555602798,-393.95237279462498,-413.46746233980701,-429.41328579270402,-442.22772361219899,-452.31976287776803,-459.841412410771,-464.99221421983702,-468.37757606670698,-470.61950588601798,-471.841162878548]
["|Z|",{"$f":"IMABS(B25)","v":631.42086622028773},654.67655891307004,677.54778583421387,699.49539784168121,720.27993437146142,740.7722484738772,759.87407570386301,777.33598903544294,792.54954075957198,805.38282300621972,815.75028282611345,822.25429320649312,827.48192987117409,830.97661603223287,829.49431056015419,824.23264381820479,817.403241498738,809.07280829794718,799.27383114614088,788.22169329517487,775.94085116441909,762.31224483422125,747.56790157374269,732.35232309148273,717.05908323299104,701.59169868635297,685.90850149950631,670.38478253572168,655.40694601913356,640.96177117349578]
[]
[]
[]
["Module","Version","Date"]
["CubicSpline",{"$f":"CubicSpline_version(\"v\")","v":"1.04"},{"$f":"CubicSpline_version(\"d\")","v":"2014-03-07"}]
[]
["Copyright: Owen Duffy 2010. All rights reserved."]

{"sheet":"FT140-61 4t (3)","index":2,"n_rows":35,"n_cols":31,"rows_kept":35,"cut":false,"hidden":false,"merged":[]}
["Calculate impedance of ferrite cored inductor"]
[]
["Reference:"]
["A method for estimating the impedance of a ferrite cored toroidal inductor at RF"]
[]
["Inputs:"]
["Al (nH for 1t)",140]
["N",2]
["Cs (pF)",1.3]
[]
["Constants:"]
["Mix",{"$f":"Mix!B1","v":"#61"}]
["µi",{"$f":"Mix!B2","v":125}]
[null,null,null,null,null,1.06]
["Calculated values:"]
["2*pi*N^2*Al",{"$f":"2*PI()*$B$8^2*$B$7*0.000000001","v":3.5185837720205686E-6}]
[]
["f (MHz)",100,{"$f":"B18*$F$14","v":106},{"$f":"C18*$F$14","v":112.36},119.1016,126.247696,133.82255776000002,141.85191122560002,150.36302589913603,159.38480745308419,168.94789590026926,179.08476965428542,189.82985583354255,201.21964718355511,213.29282601456842,226.09039557544253,239.6558193099691,254.03516846856726,269.27727857668134,285.43391529128223,302.55995020875918,320.71354722128473,339.95636005456186,360.3537416578356,381.97496615730574,404.89346412674411,429.18707197434878,454.93829629280975,482.23459407037836,511.16866971460109,541.83878989747723]
["µ''",{"$f":"csinterpolate(CSTableU2,'FT140-61 4t (3)'!B18*1000000)","v":51.43},{"$f":"csinterpolate(CSTableU2,'FT140-61 4t (3)'!C18*1000000)","v":49.945001859114114},{"$f":"csinterpolate(CSTableU2,'FT140-61 4t (3)'!D18*1000000)","v":48.625690017636998},{"$f":"csinterpolate(CSTableU2,'FT140-61 4t (3)'!E18*1000000)","v":47.298347849609428},{"$f":"csinterpolate(CSTableU2,'FT140-61 4t (3)'!F18*1000000)","v":45.895719521863711},{"$f":"csinterpolate(CSTableU2,'FT140-61 4t (3)'!G18*1000000)","v":44.590994733889126},{"$f":"csinterpolate(CSTableU2,'FT140-61 4t (3)'!H18*1000000)","v":43.351968258135472},{"$f":"csinterpolate(CSTableU2,'FT140-61 4t (3)'!I18*1000000)","v":42.125425282827749},{"$f":"csinterpolate(CSTableU2,'FT140-61 4t (3)'!J18*1000000)","v":40.901499433613061},{"$f":"csinterpolate(CSTableU2,'FT140-61 4t (3)'!K18*1000000)","v":39.668443434802072},{"$f":"csinterpolate(CSTableU2,'FT140-61 4t (3)'!L18*1000000)","v":38.406156248503166},{"$f":"csinterpolate(CSTableU2,'FT140-61 4t (3)'!M18*1000000)","v":37.174617826923182},{"$f":"csinterpolate(CSTableU2,'FT140-61 4t (3)'!N18*1000000)","v":36.027911474294029},{"$f":"csinterpolate(CSTableU2,'FT140-61 4t (3)'!O18*1000000)","v":34.812782297623777},{"$f":"csinterpolate(CSTableU2,'FT140-61 4t (3)'!P18*1000000)","v":33.638720749274846},{"$f":"csinterpolate(CSTableU2,'FT140-61 4t (3)'!Q18*1000000)","v":32.49543453791933},{"$f":"csinterpolate(CSTableU2,'FT140-61 4t (3)'!R18*1000000)","v":31.322107454113251},{"$f":"csinterpolate(CSTableU2,'FT140-61 4t (3)'!S18*1000000)","v":30.124653698593889},{"$f":"csinterpolate(CSTableU2,'FT140-61 4t (3)'!T18*1000000)","v":28.929960600048361},{"$f":"csinterpolate(CSTableU2,'FT140-61 4t (3)'!U18*1000000)","v":27.776875487134532},{"$f":"csinterpolate(CSTableU2,'FT140-61 4t (3)'!V18*1000000)","v":26.646508501067313},{"$f":"csinterpolate(CSTableU2,'FT140-61 4t (3)'!W18*1000000)","v":25.570182375238179},{"$f":"csinterpolate(CSTableU2,'FT140-61 4t (3)'!X18*1000000)","v":24.509878050873301},{"$f":"csinterpolate(CSTableU2,'FT140-61 4t (3)'!Y18*1000000)","v":23.444049610769046},{"$f":"csinterpolate(CSTableU2,'FT140-61 4t (3)'!Z18*1000000)","v":22.453176141397329},{"$f":"csinterpolate(CSTableU2,'FT140-61 4t (3)'!AA18*1000000)","v":21.499241655460377},{"$f":"csinterpolate(CSTableU2,'FT140-61 4t (3)'!AB18*1000000)","v":20.611692269555039},{"$f":"csinterpolate(CSTableU2,'FT140-61 4t (3)'!AC18*1000000)","v":19.71942652957603},{"$f":"csinterpolate(CSTableU2,'FT140-61 4t (3)'!AD18*1000000)","v":18.858054906855191},{"$f":"csinterpolate(CSTableU2,'FT140-61 4t (3)'!AE18*1000000)","v":18.070934691508107}]
["µ'",{"$f":"csinterpolate(CSTableU1,'FT140-61 4t (3)'!B18*1000000)","v":32.9},{"$f":"csinterpolate(CSTableU1,'FT140-61 4t (3)'!C18*1000000)","v":31.078812373580771},{"$f":"csinterpolate(CSTableU1,'FT140-61 4t (3)'!D18*1000000)","v":29.45708587299038},{"$f":"csinterpolate(CSTableU1,'FT140-61 4t (3)'!E18*1000000)","v":27.846393530786482},{"$f":"csinterpolate(CSTableU1,'FT140-61 4t (3)'!F18*1000000)","v":26.144767094763431},{"$f":"csinterpolate(CSTableU1,'FT140-61 4t (3)'!G18*1000000)","v":24.554729804905289},{"$f":"csinterpolate(CSTableU1,'FT140-61 4t (3)'!H18*1000000)","v":23.056029232278391},{"$f":"csinterpolate(CSTableU1,'FT140-61 4t (3)'!I18*1000000)","v":21.627574568860808},{"$f":"csinterpolate(CSTableU1,'FT140-61 4t (3)'!J18*1000000)","v":20.173319194654429},{"$f":"csinterpolate(CSTableU1,'FT140-61 4t (3)'!K18*1000000)","v":18.740325957775624},{"$f":"csinterpolate(CSTableU1,'FT140-61 4t (3)'!L18*1000000)","v":17.342208147725188},{"$f":"csinterpolate(CSTableU1,'FT140-61 4t (3)'!M18*1000000)","v":15.987535632934017},{"$f":"csinterpolate(CSTableU1,'FT140-61 4t (3)'!N18*1000000)","v":14.76247421749761},{"$f":"csinterpolate(CSTableU1,'FT140-61 4t (3)'!O18*1000000)","v":13.493342805679609},{"$f":"csinterpolate(CSTableU1,'FT140-61 4t (3)'!P18*1000000)","v":12.362454455220307},{"$f":"csinterpolate(CSTableU1,'FT140-61 4t (3)'!Q18*1000000)","v":11.271615927365524},{"$f":"csinterpolate(CSTableU1,'FT140-61 4t (3)'!R18*1000000)","v":10.183313101945837},{"$f":"csinterpolate(CSTableU1,'FT140-61 4t (3)'!S18*1000000)","v":9.1738644488517558},{"$f":"csinterpolate(CSTableU1,'FT140-61 4t (3)'!T18*1000000)","v":8.1917685225220911},{"$f":"csinterpolate(CSTableU1,'FT140-61 4t (3)'!U18*1000000)","v":7.3147251733427145},{"$f":"csinterpolate(CSTableU1,'FT140-61 4t (3)'!V18*1000000)","v":6.4991274466669982},{"$f":"csinterpolate(CSTableU1,'FT140-61 4t (3)'!W18*1000000)","v":5.7480367003667121},{"$f":"csinterpolate(CSTableU1,'FT140-61 4t (3)'!X18*1000000)","v":5.0635217909966501},{"$f":"csinterpolate(CSTableU1,'FT140-61 4t (3)'!Y18*1000000)","v":4.4306549097756891},{"$f":"csinterpolate(CSTableU1,'FT140-61 4t (3)'!Z18*1000000)","v":3.848473065720821},{"$f":"csinterpolate(CSTableU1,'FT140-61 4t (3)'!AA18*1000000)","v":3.2919403794688438},{"$f":"csinterpolate(CSTableU1,'FT140-61 4t (3)'!AB18*1000000)","v":2.7701248618936001},{"$f":"csinterpolate(CSTableU1,'FT140-61 4t (3)'!AC18*1000000)","v":2.3040433608866033},{"$f":"csinterpolate(CSTableU1,'FT140-61 4t (3)'!AD18*1000000)","v":1.9081441349945598},{"$f":"csinterpolate(CSTableU1,'FT140-61 4t (3)'!AE18*1000000)","v":1.5293975245360434}]
["Rl",{"$f":"B19/$B$13*$B$16*B18*1000000","v":144.76861071601425},149.02385073369362,153.79258262796881,158.57015440234198,163.09983670838773,167.97102382663675,173.10192358067613,178.29667227502861,183.50336554649985,188.64957411592289,193.60536123669596,198.64100907801645,204.06444975331485,209.01279123981976,214.08166198494428,219.21396136705758,223.97662785800301,228.33876878581603,232.44023149817255,236.56621124556779,240.55561525112446,244.68924363202231,248.61542400434118,252.07246896936849,255.9036215390141,259.73331306215323,263.95143601761299,267.67667277229526,271.34323951786604,275.61864378911935]
["Xl",{"$f":"B20/$B$13*$B$16*B18*1000000","v":92.609124879581358},92.731687330907647,93.166417000105696,93.35647274118584,92.910783148379863,92.49587567468572,92.061402759740332,91.539125103618872,90.506998954191801,89.12259228266808,87.422038575213136,85.428725201224381,83.615620637365197,81.012807849125593,78.67644003804142,76.038237788834536,72.818348265277052,69.536032985386782,65.817461630116938,62.297029101122099,58.671911986736575,55.004799416051689,51.361725032287495,47.638788554063979,43.861865631452737,39.770080957500433,35.473964276330243,31.275689475057092,27.45574841168936,23.326434339068594]
["Yl",{"$f":"IMDIV(1,COMPLEX(B21,B22))","v":"0.00490169454882521-0.00313563582843379i"},"0.0048372943061254-0.00301005819481069i","0.00475664722228996-0.00288154195125446i","0.00468312186195956-0.00275713762213012i","0.00462905074404109-0.00263696603590977i","0.00456818486173508-0.00251554255849587i","0.00450322124677962-0.00239496393997483i","0.00443865077186738-0.00227884347538744i","0.00438321644962458-0.00216187733364291i","0.00433363384253093-0.00204731276951055i","0.00429036183840049-0.00193730264359631i","0.00424843142855983-0.001827105504202i","0.00419593264438506-0.00171928776735468i","0.00415950638198298-0.001612213727552i","0.00411529782235653-0.00151239942439389i","0.00407184081729694-0.00141238996993206i","0.00403794006623838-0.00131279825412889i","0.00400778174381646-0.001220490261107i","0.00398284168017576-0.00112777606429917i","0.00395301560418313-0.00104098183267328i","0.00392363366634948-0.000956980733540277i","0.00389023286666421-0.0008745030036318i","0.00385763331064434-0.000796952571105355i","0.00383030741633993-0.000723883912630915i","0.00379619673347199-0.000650667896111516i","0.00376190363580971-0.000576018572229377i","0.00372135965588277-0.000500135106229742i","0.00368553585636776-0.000430622787556096i","0.00364801955558347-0.000369123281998805i","0.00360239851955402-0.000304881815592375i"]
["Yc",{"$f":"COMPLEX(0,2*PI()*B18*1000000*$B$9*0.000000000001)","v":"0.000816814089933346i"},"0.000865822935329347i","0.000917772311449108i","0.000972838650136054i","0.00103120896914422i","0.00109308150729287i","0.00115866639773044i","0.00122818638159427i","0.00130187756448993i","0.00137999021835932i","0.00146278963146088i","0.00155055700934853i","0.00164359042990945i","0.00174220585570401i","0.00184673820704625i","0.00195754249946903i","0.00207499504943717i","0.0021994947524034i","0.00233146443754761i","0.00247135230380046i","0.00261963344202849i","0.0027768114485502i","0.00294342013546321i","0.003120025343591i","0.00330722686420646i","0.00350566047605885i","0.00371600010462238i","0.00393896011089973i","0.00417529771755371i","0.00442581558060693i"]
["Z",{"$f":"IMDIV(1,IMSUM(B23,B24))","v":"166.704210826268+78.8619821396577i"},"172.778029069725+76.5875959884985i","179.617556650415+74.1546488613237i","186.464503426258+71.0441520814154i","192.824356399039+66.8882434116449i","199.556310401375+62.1387022765791i","206.499371261658+56.6915661424292i","213.340249348262+50.4990047403648i","219.686025343529+43.1030347811714i","225.408357898991+34.7099191832312i","230.263914864387+25.4671349279788i","234.387828273752+15.2573019503937i","238.248495791677+4.29815688435678i","240.178565728018-7.50601634624687i","241.402423771616-19.6122360949601i","241.264547979417-32.3013557062099i","239.130820723941-45.1380511412639i","235.464264304828-57.518245011694i","230.063896179104-69.5295618486153i","223.684375102206-80.9385939838323i","216.067270607877-91.5592186326813i","207.449333269115-101.441901319629i","197.94248312596-110.139322590866i","187.642902971196-117.384555640848i","176.827059652118-123.742667754487i","165.469534187751-128.862014579286i","153.836820081065-132.940239834294i","142.344818345528-135.500957919958i","131.247281019589-136.937326716975i","120.242798723385-137.550747528175i"]
["R",{"$f":"IMREAL(B25)","v":166.704210826268},172.77802906972499,179.617556650415,186.46450342625801,192.824356399039,199.55631040137499,206.49937126165801,213.34024934826201,219.686025343529,225.408357898991,230.263914864387,234.38782827375201,238.24849579167699,240.17856572801799,241.40242377161599,241.26454797941699,239.13082072394101,235.46426430482799,230.06389617910401,223.68437510220599,216.06727060787699,207.44933326911499,197.94248312596,187.64290297119601,176.82705965211801,165.46953418775101,153.83682008106501,142.34481834552801,131.247281019589,120.24279872338499]
["X",{"$f":"IMAGINARY(B25)","v":78.861982139657698},76.587595988498506,74.154648861323693,71.044152081415405,66.888243411644893,62.138702276579103,56.691566142429203,50.499004740364803,43.103034781171402,34.7099191832312,25.467134927978801,15.2573019503937,4.2981568843567803,-7.5060163462468701,-19.6122360949601,-32.301355706209897,-45.138051141263901,-57.518245011693999,-69.529561848615302,-80.938593983832305,-91.559218632681294,-101.441901319629,-110.139322590866,-117.38455564084801,-123.742667754487,-128.86201457928601,-132.940239834294,-135.50095791995801,-136.93732671697501,-137.55074752817501]
["|Z|",{"$f":"IMABS(B25)","v":184.41666446990223},188.99181778192465,194.32287205784925,199.54017786643436,204.09622614688169,209.00703179947621,214.13996358256321,219.23551599078553,223.8745660824037,228.06513609148172,231.6679637975729,234.88388472964965,238.28726340196883,240.29582542474179,242.19779108706857,243.4172543025073,243.35363790364215,242.38764051378354,240.34091681603024,237.87760647220253,234.66605196441321,230.92354842488822,226.52129481981558,221.33457239766457,215.82413407265429,209.72740771235271,203.31963648367457,196.52622447665246,189.67783271491302,182.69794413291086]
[]
[]
[]
["Module","Version","Date"]
["CubicSpline",{"$f":"CubicSpline_version(\"v\")","v":"1.04"},{"$f":"CubicSpline_version(\"d\")","v":"2014-03-07"}]
[]
["Copyright: Owen Duffy 2010. All rights reserved."]

{"sheet":"FT140-61 4t (2)","index":3,"n_rows":35,"n_cols":31,"rows_kept":35,"cut":false,"hidden":false,"merged":[]}
["Calculate impedance of ferrite cored inductor"]
[]
["Reference:"]
["A method for estimating the impedance of a ferrite cored toroidal inductor at RF"]
[]
["Inputs:"]
["Al (nH for 1t)",140]
["N",5]
["Cs (pF)",1.8]
[]
["Constants:"]
["Mix",{"$f":"Mix!B1","v":"#61"}]
["µi",{"$f":"Mix!B2","v":125}]
[]
["Calculated values:"]
["2*pi*N^2*Al",{"$f":"2*PI()*$B$8^2*$B$7*0.000000001","v":2.1991148575128556E-5}]
[]
["f (MHz)",50,{"$f":"B18+5","v":55},60,65,70,75,80,85,90,95,100,105,110,115,120,125,130,135,140,145,150,155,160,165,170,175,180,185,190,195]
["µ''",{"$f":"csinterpolate(CSTableU2,'FT140-61 4t (2)'!B18*1000000)","v":73.150000000000006},{"$f":"csinterpolate(CSTableU2,'FT140-61 4t (2)'!C18*1000000)","v":69.900703656001923},{"$f":"csinterpolate(CSTableU2,'FT140-61 4t (2)'!D18*1000000)","v":66.892326420374161},{"$f":"csinterpolate(CSTableU2,'FT140-61 4t (2)'!E18*1000000)","v":64.196133003784468},{"$f":"csinterpolate(CSTableU2,'FT140-61 4t (2)'!F18*1000000)","v":61.700281397899587},{"$f":"csinterpolate(CSTableU2,'FT140-61 4t (2)'!G18*1000000)","v":59.54310614721949},{"$f":"csinterpolate(CSTableU2,'FT140-61 4t (2)'!H18*1000000)","v":57.57973921271163},{"$f":"csinterpolate(CSTableU2,'FT140-61 4t (2)'!I18*1000000)","v":55.79301765363266},{"$f":"csinterpolate(CSTableU2,'FT140-61 4t (2)'!J18*1000000)","v":54.205525336336166},{"$f":"csinterpolate(CSTableU2,'FT140-61 4t (2)'!K18*1000000)","v":52.77377266149599},{"$f":"csinterpolate(CSTableU2,'FT140-61 4t (2)'!L18*1000000)","v":51.43},{"$f":"csinterpolate(CSTableU2,'FT140-61 4t (2)'!M18*1000000)","v":50.177772097456838},{"$f":"csinterpolate(CSTableU2,'FT140-61 4t (2)'!N18*1000000)","v":49.090120624888741},{"$f":"csinterpolate(CSTableU2,'FT140-61 4t (2)'!O18*1000000)","v":48.115474095358238},{"$f":"csinterpolate(CSTableU2,'FT140-61 4t (2)'!P18*1000000)","v":47.116383484825207},{"$f":"csinterpolate(CSTableU2,'FT140-61 4t (2)'!Q18*1000000)","v":46.128780763385315},{"$f":"csinterpolate(CSTableU2,'FT140-61 4t (2)'!R18*1000000)","v":45.228081203491477},{"$f":"csinterpolate(CSTableU2,'FT140-61 4t (2)'!S18*1000000)","v":44.401949429431291},{"$f":"csinterpolate(CSTableU2,'FT140-61 4t (2)'!T18*1000000)","v":43.628799587229473},{"$f":"csinterpolate(CSTableU2,'FT140-61 4t (2)'!U18*1000000)","v":42.889793992214912},{"$f":"csinterpolate(CSTableU2,'FT140-61 4t (2)'!V18*1000000)","v":42.176265353918033},{"$f":"csinterpolate(CSTableU2,'FT140-61 4t (2)'!W18*1000000)","v":41.487295079807176},{"$f":"csinterpolate(CSTableU2,'FT140-61 4t (2)'!X18*1000000)","v":40.820505043383079},{"$f":"csinterpolate(CSTableU2,'FT140-61 4t (2)'!Y18*1000000)","v":40.171360576909088},{"$f":"csinterpolate(CSTableU2,'FT140-61 4t (2)'!Z18*1000000)","v":39.535616980310792},{"$f":"csinterpolate(CSTableU2,'FT140-61 4t (2)'!AA18*1000000)","v":38.909999999999997},{"$f":"csinterpolate(CSTableU2,'FT140-61 4t (2)'!AB18*1000000)","v":38.294908017447575},{"$f":"csinterpolate(CSTableU2,'FT140-61 4t (2)'!AC18*1000000)","v":37.704913839514433},{"$f":"csinterpolate(CSTableU2,'FT140-61 4t (2)'!AD18*1000000)","v":37.156684638935729},{"$f":"csinterpolate(CSTableU2,'FT140-61 4t (2)'!AE18*1000000)","v":36.645279506102625}]
["µ'",{"$f":"csinterpolate(CSTableU1,'FT140-61 4t (2)'!B18*1000000)","v":64.33},{"$f":"csinterpolate(CSTableU1,'FT140-61 4t (2)'!C18*1000000)","v":58.195687025583865},{"$f":"csinterpolate(CSTableU1,'FT140-61 4t (2)'!D18*1000000)","v":53.298329461685185},{"$f":"csinterpolate(CSTableU1,'FT140-61 4t (2)'!E18*1000000)","v":49.217282367345469},{"$f":"csinterpolate(CSTableU1,'FT140-61 4t (2)'!F18*1000000)","v":45.806753054488759},{"$f":"csinterpolate(CSTableU1,'FT140-61 4t (2)'!G18*1000000)","v":42.9191925994973},{"$f":"csinterpolate(CSTableU1,'FT140-61 4t (2)'!H18*1000000)","v":40.429233744265879},{"$f":"csinterpolate(CSTableU1,'FT140-61 4t (2)'!I18*1000000)","v":38.253481638071122},{"$f":"csinterpolate(CSTableU1,'FT140-61 4t (2)'!J18*1000000)","v":36.281743090432563},{"$f":"csinterpolate(CSTableU1,'FT140-61 4t (2)'!K18*1000000)","v":34.497730781510072},{"$f":"csinterpolate(CSTableU1,'FT140-61 4t (2)'!L18*1000000)","v":32.9},{"$f":"csinterpolate(CSTableU1,'FT140-61 4t (2)'!M18*1000000)","v":31.367498280330398},{"$f":"csinterpolate(CSTableU1,'FT140-61 4t (2)'!N18*1000000)","v":30.024364154999088},{"$f":"csinterpolate(CSTableU1,'FT140-61 4t (2)'!O18*1000000)","v":28.837075978733935},{"$f":"csinterpolate(CSTableU1,'FT140-61 4t (2)'!P18*1000000)","v":27.625820813954022},{"$f":"csinterpolate(CSTableU1,'FT140-61 4t (2)'!Q18*1000000)","v":26.427870384907788},{"$f":"csinterpolate(CSTableU1,'FT140-61 4t (2)'!R18*1000000)","v":25.332384768299708},{"$f":"csinterpolate(CSTableU1,'FT140-61 4t (2)'!S18*1000000)","v":24.323846236154409},{"$f":"csinterpolate(CSTableU1,'FT140-61 4t (2)'!T18*1000000)","v":23.386315032811208},{"$f":"csinterpolate(CSTableU1,'FT140-61 4t (2)'!U18*1000000)","v":22.513674461563141},{"$f":"csinterpolate(CSTableU1,'FT140-61 4t (2)'!V18*1000000)","v":21.686639819566388},{"$f":"csinterpolate(CSTableU1,'FT140-61 4t (2)'!W18*1000000)","v":20.876177117147432},{"$f":"csinterpolate(CSTableU1,'FT140-61 4t (2)'!X18*1000000)","v":20.076238310032796},{"$f":"csinterpolate(CSTableU1,'FT140-61 4t (2)'!Y18*1000000)","v":19.31091253020557},{"$f":"csinterpolate(CSTableU1,'FT140-61 4t (2)'!Z18*1000000)","v":18.59209957918106},{"$f":"csinterpolate(CSTableU1,'FT140-61 4t (2)'!AA18*1000000)","v":17.899999999999999},{"$f":"csinterpolate(CSTableU1,'FT140-61 4t (2)'!AB18*1000000)","v":17.218929944337621},{"$f":"csinterpolate(CSTableU1,'FT140-61 4t (2)'!AC18*1000000)","v":16.566828690007725},{"$f":"csinterpolate(CSTableU1,'FT140-61 4t (2)'!AD18*1000000)","v":15.968110555070552},{"$f":"csinterpolate(CSTableU1,'FT140-61 4t (2)'!AE18*1000000)","v":15.418335526208111}]
["Rl",{"$f":"B19/$B$13*$B$16*B18*1000000","v":643.46100730826163},676.36657422627491,706.09876264629384,734.10828339416776,759.84163099513228,785.65277634489269,810.39654396409423,834.32772765954837,858.27006811027002,882.02246535645202,904.80381697508926,926.91214674585524,950.00235988496161,973.46537642627038,994.6976539560236,1014.4248713571385,1034.4021516545185,1054.5658562822057,1074.5811035425434,1094.1071651657669,1113.0054212904699,1131.3180548994969,1149.0429328906519,1166.1069537636679,1182.4297327518104,1197.9458274815527,1212.6945771109026,1227.1780561406304,1242.0196221301294,1257.1599864654736]
["Xl",{"$f":"B20/$B$13*$B$16*B18*1000000","v":565.87623513520793},563.10759991697023,562.60391135907378,562.81917588226156,564.11214281267223,566.30540470806193,569.01458307120117,572.04183878876643,574.47158606376934,576.56998957194003,578.80703049738361,579.43814469478161,581.0378226455872,583.42758853496002,583.22258882836013,581.17922415874705,579.37176669008261,577.70206181768128,576.00695993267129,574.31780966532244,572.29694204086036,569.27297970322115,565.11941056719229,560.56327347644242,556.05180887032384,551.09818329272161,545.27622726334846,539.19891488818018,533.75877935456526,528.94437544731977]
["Yl",{"$f":"IMDIV(1,COMPLEX(B21,B22))","v":"0.000876341862932862-0.000770677676588804i"},"0.000873224675664098-0.000727001407282706i","0.000866274021482464-0.000690228022731894i","0.000857923456475779-0.000657744618425042i","0.000848433520236908-0.000629883427824458i","0.000837625694720549-0.000603767939635405i","0.000826496569681975-0.000580319109835942i","0.000815302941327934-0.000558997835341549i","0.000804644447945196-0.000538577994740338i","0.000794331034011779-0.000519246905816343i","0.000784271127812034-0.000501701732549405i","0.000775714076900213-0.000484920094218945i","0.000766063327132137-0.000468537538853473i","0.000755782844074167-0.000452963785720922i","0.000748133719570976-0.000438654382045286i","0.000742174971341174-0.000425203172963458i","0.000735883892568517-0.000412170788927935i","0.000729374913575988-0.000399559106622718i","0.000722889277690079-0.000387489835655483i","0.000716549198482897-0.000376130400469307i","0.000710593098032665-0.000365380302072494i","0.000705331497915162-0.000354918903448747i","0.000700781385358853-0.000344656541626494i","0.000696583901433969-0.000334857236532657i","0.000692559247044073-0.000325684318824176i","0.000688956323358694-0.000316944697715771i","0.000685930952044009-0.000308422127676019i","0.000683017234309992-0.000300104903071759i","0.000679623543889116-0.000292068681318201i","0.000675807668733726-0.000284343018477616i"]
["Yc",{"$f":"COMPLEX(0,2*PI()*B18*1000000*$B$9*0.000000000001)","v":"0.000565486677646163i"},"0.000622035345410779i","0.000678584013175395i","0.000735132680940012i","0.000791681348704628i","0.000848230016469244i","0.000904778684233861i","0.000961327351998477i","0.00101787601976309i","0.00107442468752771i","0.00113097335529233i","0.00118752202305694i","0.00124407069082156i","0.00130061935858617i","0.00135716802635079i","0.00141371669411541i","0.00147026536188002i","0.00152681402964464i","0.00158336269740926i","0.00163991136517387i","0.00169646003293849i","0.0017530087007031i","0.00180955736846772i","0.00186610603623234i","0.00192265470399695i","0.00197920337176157i","0.00203575203952619i","0.0020923007072908i","0.00214884937505542i","0.00220539804282003i"]
["Z",{"$f":"IMDIV(1,IMSUM(B23,B24))","v":"1081.79881799453+253.297702082128i"},"1128.86931425917+135.695851924629i","1154.16061698121+15.5136330082548i","1156.19746361242-104.293548472543i","1137.28289937271-216.882058737725i","1100.14359757507-321.078245777044i","1048.36047260475-411.557174263679i","986.347508320702-486.735293303469i","917.308995156925-546.408281119793i","845.767067931-591.127709371981i","775.688923320652-622.385563119552i","708.167761458714-641.421949089862i","644.669109655241-652.638298793217i","586.00188023944-657.236087573496i","533.097462126224-654.505043548059i","485.722113289743-646.940270219234i","443.012861606179-636.988401767232i","404.603307611999-625.317736992693i","370.203503949627-612.426186641159i","339.502636056031-598.782288533776i","312.11321929318-584.649050330895i","287.638271453385-570.149119679928i","265.74656175465-555.511841749696i","246.146894691105-541.086488317713i","228.570974743146-527.061156331147i","212.787643333194-513.396994654207i","198.580548388352-500.070918392967i","185.679286546607-487.211188185309i","173.837983557045-474.937948529331i","162.956408240364-463.2208855894i"]
["R",{"$f":"IMREAL(B25)","v":1081.7988179945301},1128.8693142591701,1154.1606169812101,1156.1974636124201,1137.2828993727101,1100.1435975750701,1048.3604726047499,986.34750832070199,917.30899515692499,845.76706793100004,775.68892332065195,708.16776145871404,644.66910965524096,586.00188023943997,533.09746212622395,485.72211328974299,443.012861606179,404.60330761199901,370.20350394962702,339.50263605603101,312.11321929318001,287.63827145338502,265.74656175464997,246.14689469110499,228.570974743146,212.78764333319401,198.58054838835201,185.67928654660699,173.83798355704499,162.956408240364]
["X",{"$f":"IMAGINARY(B25)","v":253.29770208212801},135.69585192462901,15.5136330082548,-104.29354847254299,-216.882058737725,-321.078245777044,-411.55717426367897,-486.73529330346901,-546.40828111979295,-591.12770937198104,-622.38556311955199,-641.42194908986198,-652.63829879321702,-657.23608757349598,-654.50504354805901,-646.94027021923398,-636.98840176723195,-625.31773699269297,-612.42618664115901,-598.78228853377595,-584.64905033089497,-570.14911967992805,-555.51184174969603,-541.08648831771302,-527.061156331147,-513.39699465420699,-500.07091839296697,-487.21118818530903,-474.93794852933098,-463.22088558939998]
["|Z|",{"$f":"IMABS(B25)","v":1111.0573380768649},1136.9957312609049,1154.2648754075306,1160.8917775213965,1157.7781396312128,1146.039779063834,1126.2499670179611,1099.9057472882262,1067.7161618483135,1031.8691302602119,994.51349661127983,955.47040516369918,917.35217337475456,880.54385379325379,844.13846977570415,808.98558984075203,775.89601077365262,744.79937481729451,715.6231329550584,688.33296372521636,662.74367119601379,638.59673807222669,615.80406088995323,594.44333759078211,574.48947162516185,555.74729443809838,538.05683493531058,521.39384283418383,505.75260699321058,491.04824593193302]
[]
[]
[]
["Module","Version","Date"]
["CubicSpline",{"$f":"CubicSpline_version(\"v\")","v":"1.04"},{"$f":"CubicSpline_version(\"d\")","v":"2014-03-07"}]
[]
["Copyright: Owen Duffy 2010. All rights reserved."]

{"sheet":"FT240-61 12t","index":4,"n_rows":35,"n_cols":31,"rows_kept":35,"cut":false,"hidden":false,"merged":[]}
["Calculate impedance of ferrite cored inductor"]
[]
["Reference:"]
["A method for estimating the impedance of a ferrite cored toroidal inductor at RF"]
[]
["Inputs:"]
["Al (nH for 1t)",170]
["N",15]
["Cs (pF)",4]
[]
["Constants:"]
["Mix",{"$f":"Mix!B1","v":"#61"}]
["µi",{"$f":"Mix!B2","v":125}]
[]
["Calculated values:"]
["2*pi*N^2*Al",{"$f":"2*PI()*$B$8^2*$B$7*0.000000001","v":2.4033183799961917E-4}]
[]
["f (MHz)",1,{"$f":"B18+1","v":2},3,4,5,6,7,8,9,10,11,12,13,14,15,16,17,18,19,20,21,22,23,24,25,26,27,28,29,30]
["µ''",{"$f":"csinterpolate(CSTableU2,'FT240-61 12t'!B18*1000000)","v":0.62},{"$f":"csinterpolate(CSTableU2,'FT240-61 12t'!C18*1000000)","v":0.75819431100099222},{"$f":"csinterpolate(CSTableU2,'FT240-61 12t'!D18*1000000)","v":0.77887091186070234},{"$f":"csinterpolate(CSTableU2,'FT240-61 12t'!E18*1000000)","v":0.83511143762440576},{"$f":"csinterpolate(CSTableU2,'FT240-61 12t'!F18*1000000)","v":0.93},{"$f":"csinterpolate(CSTableU2,'FT240-61 12t'!G18*1000000)","v":1.036969921462761},{"$f":"csinterpolate(CSTableU2,'FT240-61 12t'!H18*1000000)","v":1.1594707528103099},{"$f":"csinterpolate(CSTableU2,'FT240-61 12t'!I18*1000000)","v":1.3926436921793786},{"$f":"csinterpolate(CSTableU2,'FT240-61 12t'!J18*1000000)","v":1.6331035608136657},{"$f":"csinterpolate(CSTableU2,'FT240-61 12t'!K18*1000000)","v":2.02},{"$f":"csinterpolate(CSTableU2,'FT240-61 12t'!L18*1000000)","v":2.5096010234877921},{"$f":"csinterpolate(CSTableU2,'FT240-61 12t'!M18*1000000)","v":3.1827756414461343},{"$f":"csinterpolate(CSTableU2,'FT240-61 12t'!N18*1000000)","v":4.1862588520627675},{"$f":"csinterpolate(CSTableU2,'FT240-61 12t'!O18*1000000)","v":5.5699800869711646},{"$f":"csinterpolate(CSTableU2,'FT240-61 12t'!P18*1000000)","v":7.5596708892868953},{"$f":"csinterpolate(CSTableU2,'FT240-61 12t'!Q18*1000000)","v":10.364762073298381},{"$f":"csinterpolate(CSTableU2,'FT240-61 12t'!R18*1000000)","v":14.071540778907028},{"$f":"csinterpolate(CSTableU2,'FT240-61 12t'!S18*1000000)","v":19.176551161213411},{"$f":"csinterpolate(CSTableU2,'FT240-61 12t'!T18*1000000)","v":25.391368669797036},{"$f":"csinterpolate(CSTableU2,'FT240-61 12t'!U18*1000000)","v":32.089654518261241},{"$f":"csinterpolate(CSTableU2,'FT240-61 12t'!V18*1000000)","v":39.794608051729639},{"$f":"csinterpolate(CSTableU2,'FT240-61 12t'!W18*1000000)","v":47.421943915918163},{"$f":"csinterpolate(CSTableU2,'FT240-61 12t'!X18*1000000)","v":54.059097865518069},{"$f":"csinterpolate(CSTableU2,'FT240-61 12t'!Y18*1000000)","v":59.964781915008828},{"$f":"csinterpolate(CSTableU2,'FT240-61 12t'!Z18*1000000)","v":65.050788171679642},{"$f":"csinterpolate(CSTableU2,'FT240-61 12t'!AA18*1000000)","v":69.197236673813947},{"$f":"csinterpolate(CSTableU2,'FT240-61 12t'!AB18*1000000)","v":72.536485290986661},{"$f":"csinterpolate(CSTableU2,'FT240-61 12t'!AC18*1000000)","v":75.170528211419636},{"$f":"csinterpolate(CSTableU2,'FT240-61 12t'!AD18*1000000)","v":77.095025191458149},{"$f":"csinterpolate(CSTableU2,'FT240-61 12t'!AE18*1000000)","v":78.419182905316077}]
["µ'",{"$f":"csinterpolate(CSTableU1,'FT240-61 12t'!B18*1000000)","v":118.57},{"$f":"csinterpolate(CSTableU1,'FT240-61 12t'!C18*1000000)","v":118.53968029339639},{"$f":"csinterpolate(CSTableU1,'FT240-61 12t'!D18*1000000)","v":118.74548534852252},{"$f":"csinterpolate(CSTableU1,'FT240-61 12t'!E18*1000000)","v":119.13224502943993},{"$f":"csinterpolate(CSTableU1,'FT240-61 12t'!F18*1000000)","v":119.69},{"$f":"csinterpolate(CSTableU1,'FT240-61 12t'!G18*1000000)","v":120.41980665671979},{"$f":"csinterpolate(CSTableU1,'FT240-61 12t'!H18*1000000)","v":121.36869399692092},{"$f":"csinterpolate(CSTableU1,'FT240-61 12t'!I18*1000000)","v":122.50340698858074},{"$f":"csinterpolate(CSTableU1,'FT240-61 12t'!J18*1000000)","v":123.86522642233432},{"$f":"csinterpolate(CSTableU1,'FT240-61 12t'!K18*1000000)","v":125.48},{"$f":"csinterpolate(CSTableU1,'FT240-61 12t'!L18*1000000)","v":127.40209539131958},{"$f":"csinterpolate(CSTableU1,'FT240-61 12t'!M18*1000000)","v":129.52648939190286},{"$f":"csinterpolate(CSTableU1,'FT240-61 12t'!N18*1000000)","v":132.29104551836008},{"$f":"csinterpolate(CSTableU1,'FT240-61 12t'!O18*1000000)","v":135.12198912144072},{"$f":"csinterpolate(CSTableU1,'FT240-61 12t'!P18*1000000)","v":138.34472114290378},{"$f":"csinterpolate(CSTableU1,'FT240-61 12t'!Q18*1000000)","v":141.86529900339437},{"$f":"csinterpolate(CSTableU1,'FT240-61 12t'!R18*1000000)","v":145.37170500941278},{"$f":"csinterpolate(CSTableU1,'FT240-61 12t'!S18*1000000)","v":148.69565743233508},{"$f":"csinterpolate(CSTableU1,'FT240-61 12t'!T18*1000000)","v":151.32572567542223},{"$f":"csinterpolate(CSTableU1,'FT240-61 12t'!U18*1000000)","v":152.65425339002283},{"$f":"csinterpolate(CSTableU1,'FT240-61 12t'!V18*1000000)","v":152.55221676355956},{"$f":"csinterpolate(CSTableU1,'FT240-61 12t'!W18*1000000)","v":151.01754547328326},{"$f":"csinterpolate(CSTableU1,'FT240-61 12t'!X18*1000000)","v":148.20067609090967},{"$f":"csinterpolate(CSTableU1,'FT240-61 12t'!Y18*1000000)","v":144.40610074717381},{"$f":"csinterpolate(CSTableU1,'FT240-61 12t'!Z18*1000000)","v":139.95141627964244},{"$f":"csinterpolate(CSTableU1,'FT240-61 12t'!AA18*1000000)","v":135.11398557250098},{"$f":"csinterpolate(CSTableU1,'FT240-61 12t'!AB18*1000000)","v":130.0795700595983},{"$f":"csinterpolate(CSTableU1,'FT240-61 12t'!AC18*1000000)","v":125.05991362921905},{"$f":"csinterpolate(CSTableU1,'FT240-61 12t'!AD18*1000000)","v":120.32684003060784},{"$f":"csinterpolate(CSTableU1,'FT240-61 12t'!AE18*1000000)","v":115.96025934130439}]
["Rl",{"$f":"B19/$B$13*$B$16*B18*1000000","v":1.192045916478111},2.9154917171795733,4.4924994674861267,6.4225237356408877,8.9403443735858339,11.962410584422372,15.604833279263415,21.420583566082939,28.259048189813125,38.837625020738457,53.076058342608093,73.432542705519964,104.63349356287576,149.92807781538258,218.01955193934421,318.84573689658157,459.93013920785938,663.65795333781364,927.55785386421655,1233.9465041834414,1606.7370976518334,2005.8725179376347,2390.5505125143095,2766.9976805530359,3126.7550969247309,3459.1022074569705,3765.490595715276,4046.7551506934055,4298.5862723344981,4523.1903268951028]
["Xl",{"$f":"B20/$B$13*$B$16*B18*1000000","v":227.96916825291873},455.82174785278704,684.91969795121452,916.20068521428141,1150.6127076069765,1389.1542463376757,1633.4506330180277,1884.2540136179841,2143.3505421829391,2412.5471225753772,2694.4526180350808,2988.4165694586422,3306.5500125131507,3637.100991968684,3989.8369331782615,4364.127751404968,4751.4930718948835,5146.027294071574,5527.9952478064597,5870.0283673094063,6159.4099804780353,6387.8010721862029,6553.590721499475,6663.4336532978805,6726.9562210272579,6754.2160383553837,6752.648626262674,6732.5168741787802,6709.0619850561752,6688.5461429779662]
["Yl",{"$f":"IMDIV(1,COMPLEX(B21,B22))","v":"0.0000229365915334119-0.00438643815825266i"},"0.0000140314954882907-0.00219375028945322i","9.57613009009071E-06-0.00145996236088963i","7.65073488595131E-06-0.00109141029810486i","6.75257934675338E-06-0.000869049701089156i","6.19848506816637E-06-0.000719809088020848i","5.84800145122425E-06-0.000612145064381202i","6.03248536971158E-06-0.00053064542965901i","0.000006150290537858-0.000466478151364366i","6.67096283402923E-06-0.00041439228535346i","7.30784080191413E-06-0.000370988942957996i","8.21758388717765E-06-0.000334423444219262i","9.56061578964297E-06-0.000302127485018751i","0.0000113144880282111-0.000274477844514872i","0.0000136549560533389-0.000249890651998472i","0.0000166522786994459-0.000227924237920588i","0.0000201828004079027-0.000208506527697344i","0.0000246511030797377-0.00019114552705847i","0.0000295221059969565-0.000175943808762472i","0.0000342954810493574-0.000163147629129571i","0.0000396530024406575-0.000152009373123861i","0.0000447464459424709-0.000142497288741819i","0.0000491233068760045-0.000134669418808204i","0.0000531525923862251-0.000128001109417485i","0.0000568206105890923-0.000122244866654506i","0.0000600696861573391-0.000117291601499439i","0.0000629921052361176-0.00011296364765114i","0.0000655844034849883-0.000109111642959168i","0.0000677056202562026-0.000105672231347086i","0.0000693784472680017-0.000102591514471762i"]
["Yc",{"$f":"COMPLEX(0,2*PI()*B18*1000000*$B$9*0.000000000001)","v":"0.0000251327412287183i"},"0.0000502654824574367i","0.000075398223686155i","0.000100530964914873i","0.000125663706143592i","0.00015079644737231i","0.000175929188601028i","0.000201061929829747i","0.000226194671058465i","0.000251327412287183i","0.000276460153515902i","0.00030159289474462i","0.000326725635973338i","0.000351858377202057i","0.000376991118430775i","0.000402123859659493i","0.000427256600888212i","0.00045238934211693i","0.000477522083345648i","0.000502654824574367i","0.000527787565803085i","0.000552920307031803i","0.000578053048260522i","0.00060318578948924i","0.000628318530717959i","0.000653451271946677i","0.000678584013175395i","0.000703716754404114i","0.000728849495632832i","0.00075398223686155i"]
["Z",{"$f":"IMDIV(1,IMSUM(B23,B24))","v":"1.20582384332653+229.282805695686i"},"3.05382771330587+466.510024688123i","4.99508756743429+722.214406341144i","7.79176277928035+1009.14445765008i","12.2181404677121+1345.08519508797i","19.1421271884876+1757.22167906643i","30.7274478141821+2292.03099050993i","55.5162196048875+3033.11634148954i","106.454339119064+4159.02613701596i","250.461773990044+6122.28225516479i","812.967214729522+10515.9388042996i","7174.58777625022+28663.6147780468i","13727.160288518-35318.0975351576i","1850.05293587909-12652.6345090357i","835.626181043593-7778.01678444177i","543.786822580826-5688.5583354627i","418.218892238974-4532.84041055361i","358.009473264171-3794.0598568783i","321.517982153588-3284.41467947238i","294.530174447619-2915.69356781048i","277.717853492583-2631.83886810024i","262.520564010732-2407.88916248225i","246.848131113456-2228.03445567848i","232.487412580029-2078.4396735498i","219.097709781144-1951.39720652949i","206.371453100622-1841.99481239721i","194.483463160509-1746.3110195942i","183.270092499476-1661.5739106344i","172.30788943612-1585.9593154501i","161.674876705939-1517.95721692857i"]
["R",{"$f":"IMREAL(B25)","v":1.20582384332653},3.05382771330587,4.9950875674342896,7.7917627792803499,12.2181404677121,19.142127188487599,30.727447814182099,55.516219604887503,106.454339119064,250.46177399004401,812.96721472952197,7174.5877762502196,13727.160288518,1850.05293587909,835.62618104359296,543.78682258082597,418.21889223897398,358.00947326417099,321.51798215358798,294.530174447619,277.717853492583,262.52056401073202,246.84813111345599,232.487412580029,219.097709781144,206.37145310062201,194.48346316050899,183.27009249947599,172.30788943612001,161.674876705939]
["X",{"$f":"IMAGINARY(B25)","v":229.28280569568599},466.510024688123,722.21440634114401,1009.14445765008,1345.0851950879701,1757.2216790664299,2292.0309905099298,3033.11634148954,4159.0261370159596,6122.2822551647896,10515.9388042996,28663.614778046802,-35318.097535157598,-12652.634509035701,-7778.0167844417701,-5688.5583354626997,-4532.8404105536101,-3794.0598568782998,-3284.4146794723802,-2915.6935678104801,-2631.8388681002398,-2407.88916248225,-2228.0344556784798,-2078.4396735497999,-1951.3972065294899,-1841.9948123972099,-1746.3110195941999,-1661.5739106343999,-1585.9593154500999,-1517.95721692857]
["|Z|",{"$f":"IMABS(B25)","v":229.28597645479067},466.5200199329239,722.2316800213747,1009.1745379135775,1345.1406859512247,1757.3259374442589,2292.236950558799,3033.6243656145216,4160.3883153738398,6127.4032927608005,10547.316465717673,29547.885235721722,37891.990487299168,12787.175445922214,7822.775480192654,5714.490357361251,4552.0928405924915,3810.9134050149014,3300.1141797795076,2930.5318638485319,2646.4510261464652,2422.157564100235,2241.6671330785725,2091.4018919361133,1963.6585406028307,1853.5193728561603,1757.1072803329453,1671.6506175949744,1595.2921234134144,1526.5427862275628]
[]
[]
[]
["Module","Version","Date"]
["CubicSpline",{"$f":"CubicSpline_version(\"v\")","v":"1.04"},{"$f":"CubicSpline_version(\"d\")","v":"2014-03-07"}]
[]
["Copyright: Owen Duffy 2010. All rights reserved."]

{"sheet":"FT240-61x2 12t","index":5,"n_rows":35,"n_cols":31,"rows_kept":35,"cut":false,"hidden":false,"merged":[]}
["Calculate impedance of ferrite cored inductor"]
[]
["Reference:"]
["A method for estimating the impedance of a ferrite cored toroidal inductor at RF"]
[]
["Inputs:"]
["Al (nH for 1t)",340]
["N",10]
["Cs (pF)",4]
[]
["Constants:"]
["Mix",{"$f":"Mix!B1","v":"#61"}]
["µi",{"$f":"Mix!B2","v":125}]
[]
["Calculated values:"]
["2*pi*N^2*Al",{"$f":"2*PI()*$B$8^2*$B$7*0.000000001","v":2.1362830044410595E-4}]
[]
["f (MHz)",1,{"$f":"B18+1","v":2},3,4,5,6,7,8,9,10,11,12,13,14,15,16,17,18,19,20,21,22,23,24,25,26,27,28,29,30]
["µ''",{"$f":"csinterpolate(CSTableU2,'FT240-61x2 12t'!B18*1000000)","v":0.62},{"$f":"csinterpolate(CSTableU2,'FT240-61x2 12t'!C18*1000000)","v":0.75819431100099222},{"$f":"csinterpolate(CSTableU2,'FT240-61x2 12t'!D18*1000000)","v":0.77887091186070234},{"$f":"csinterpolate(CSTableU2,'FT240-61x2 12t'!E18*1000000)","v":0.83511143762440576},{"$f":"csinterpolate(CSTableU2,'FT240-61x2 12t'!F18*1000000)","v":0.93},{"$f":"csinterpolate(CSTableU2,'FT240-61x2 12t'!G18*1000000)","v":1.036969921462761},{"$f":"csinterpolate(CSTableU2,'FT240-61x2 12t'!H18*1000000)","v":1.1594707528103099},{"$f":"csinterpolate(CSTableU2,'FT240-61x2 12t'!I18*1000000)","v":1.3926436921793786},{"$f":"csinterpolate(CSTableU2,'FT240-61x2 12t'!J18*1000000)","v":1.6331035608136657},{"$f":"csinterpolate(CSTableU2,'FT240-61x2 12t'!K18*1000000)","v":2.02},{"$f":"csinterpolate(CSTableU2,'FT240-61x2 12t'!L18*1000000)","v":2.5096010234877921},{"$f":"csinterpolate(CSTableU2,'FT240-61x2 12t'!M18*1000000)","v":3.1827756414461343},{"$f":"csinterpolate(CSTableU2,'FT240-61x2 12t'!N18*1000000)","v":4.1862588520627675},{"$f":"csinterpolate(CSTableU2,'FT240-61x2 12t'!O18*1000000)","v":5.5699800869711646},{"$f":"csinterpolate(CSTableU2,'FT240-61x2 12t'!P18*1000000)","v":7.5596708892868953},{"$f":"csinterpolate(CSTableU2,'FT240-61x2 12t'!Q18*1000000)","v":10.364762073298381},{"$f":"csinterpolate(CSTableU2,'FT240-61x2 12t'!R18*1000000)","v":14.071540778907028},{"$f":"csinterpolate(CSTableU2,'FT240-61x2 12t'!S18*1000000)","v":19.176551161213411},{"$f":"csinterpolate(CSTableU2,'FT240-61x2 12t'!T18*1000000)","v":25.391368669797036},{"$f":"csinterpolate(CSTableU2,'FT240-61x2 12t'!U18*1000000)","v":32.089654518261241},{"$f":"csinterpolate(CSTableU2,'FT240-61x2 12t'!V18*1000000)","v":39.794608051729639},{"$f":"csinterpolate(CSTableU2,'FT240-61x2 12t'!W18*1000000)","v":47.421943915918163},{"$f":"csinterpolate(CSTableU2,'FT240-61x2 12t'!X18*1000000)","v":54.059097865518069},{"$f":"csinterpolate(CSTableU2,'FT240-61x2 12t'!Y18*1000000)","v":59.964781915008828},{"$f":"csinterpolate(CSTableU2,'FT240-61x2 12t'!Z18*1000000)","v":65.050788171679642},{"$f":"csinterpolate(CSTableU2,'FT240-61x2 12t'!AA18*1000000)","v":69.197236673813947},{"$f":"csinterpolate(CSTableU2,'FT240-61x2 12t'!AB18*1000000)","v":72.536485290986661},{"$f":"csinterpolate(CSTableU2,'FT240-61x2 12t'!AC18*1000000)","v":75.170528211419636},{"$f":"csinterpolate(CSTableU2,'FT240-61x2 12t'!AD18*1000000)","v":77.095025191458149},{"$f":"csinterpolate(CSTableU2,'FT240-61x2 12t'!AE18*1000000)","v":78.419182905316077}]
["µ'",{"$f":"csinterpolate(CSTableU1,'FT240-61x2 12t'!B18*1000000)","v":118.57},{"$f":"csinterpolate(CSTableU1,'FT240-61x2 12t'!C18*1000000)","v":118.53968029339639},{"$f":"csinterpolate(CSTableU1,'FT240-61x2 12t'!D18*1000000)","v":118.74548534852252},{"$f":"csinterpolate(CSTableU1,'FT240-61x2 12t'!E18*1000000)","v":119.13224502943993},{"$f":"csinterpolate(CSTableU1,'FT240-61x2 12t'!F18*1000000)","v":119.69},{"$f":"csinterpolate(CSTableU1,'FT240-61x2 12t'!G18*1000000)","v":120.41980665671979},{"$f":"csinterpolate(CSTableU1,'FT240-61x2 12t'!H18*1000000)","v":121.36869399692092},{"$f":"csinterpolate(CSTableU1,'FT240-61x2 12t'!I18*1000000)","v":122.50340698858074},{"$f":"csinterpolate(CSTableU1,'FT240-61x2 12t'!J18*1000000)","v":123.86522642233432},{"$f":"csinterpolate(CSTableU1,'FT240-61x2 12t'!K18*1000000)","v":125.48},{"$f":"csinterpolate(CSTableU1,'FT240-61x2 12t'!L18*1000000)","v":127.40209539131958},{"$f":"csinterpolate(CSTableU1,'FT240-61x2 12t'!M18*1000000)","v":129.52648939190286},{"$f":"csinterpolate(CSTableU1,'FT240-61x2 12t'!N18*1000000)","v":132.29104551836008},{"$f":"csinterpolate(CSTableU1,'FT240-61x2 12t'!O18*1000000)","v":135.12198912144072},{"$f":"csinterpolate(CSTableU1,'FT240-61x2 12t'!P18*1000000)","v":138.34472114290378},{"$f":"csinterpolate(CSTableU1,'FT240-61x2 12t'!Q18*1000000)","v":141.86529900339437},{"$f":"csinterpolate(CSTableU1,'FT240-61x2 12t'!R18*1000000)","v":145.37170500941278},{"$f":"csinterpolate(CSTableU1,'FT240-61x2 12t'!S18*1000000)","v":148.69565743233508},{"$f":"csinterpolate(CSTableU1,'FT240-61x2 12t'!T18*1000000)","v":151.32572567542223},{"$f":"csinterpolate(CSTableU1,'FT240-61x2 12t'!U18*1000000)","v":152.65425339002283},{"$f":"csinterpolate(CSTableU1,'FT240-61x2 12t'!V18*1000000)","v":152.55221676355956},{"$f":"csinterpolate(CSTableU1,'FT240-61x2 12t'!W18*1000000)","v":151.01754547328326},{"$f":"csinterpolate(CSTableU1,'FT240-61x2 12t'!X18*1000000)","v":148.20067609090967},{"$f":"csinterpolate(CSTableU1,'FT240-61x2 12t'!Y18*1000000)","v":144.40610074717381},{"$f":"csinterpolate(CSTableU1,'FT240-61x2 12t'!Z18*1000000)","v":139.95141627964244},{"$f":"csinterpolate(CSTableU1,'FT240-61x2 12t'!AA18*1000000)","v":135.11398557250098},{"$f":"csinterpolate(CSTableU1,'FT240-61x2 12t'!AB18*1000000)","v":130.0795700595983},{"$f":"csinterpolate(CSTableU1,'FT240-61x2 12t'!AC18*1000000)","v":125.05991362921905},{"$f":"csinterpolate(CSTableU1,'FT240-61x2 12t'!AD18*1000000)","v":120.32684003060784},{"$f":"csinterpolate(CSTableU1,'FT240-61x2 12t'!AE18*1000000)","v":115.96025934130439}]
["Rl",{"$f":"B19/$B$13*$B$16*B18*1000000","v":1.0595963702027655},2.59154819304851,3.9933328599876696,5.7089099872363454,7.9469727765207416,10.633253852819887,13.870962914900817,19.040518725407058,25.119153946500553,34.522333351767521,47.178718526762758,65.273371293795535,93.007549833667355,133.26940250256229,193.79515727941708,283.41843279696144,408.82679040698616,589.91818074472326,824.49587010152584,1096.8413370519479,1428.2107534682966,1782.9977937223421,2124.9337889016088,2459.5534938249211,2779.3378639330945,3074.7575177395302,3347.1027517469124,3597.11568950525,3820.9655754084429,4020.6136239067587]
["Xl",{"$f":"B20/$B$13*$B$16*B18*1000000","v":202.63926066926115},405.17488698025517,608.81750928996837,814.40060907936129,1022.7668512062015,1234.8037745223783,1451.956118238247,1674.8924565493194,1905.2004819403905,2144.4863311781132,2395.0689938089608,2656.3702839632379,2939.1555666783565,3232.9786595277196,3546.5217183806767,3879.2246679155273,4223.5493972398972,4574.2464836191784,4913.7735536057417,5217.8029931639167,5475.0310937582526,5678.0453974988468,5825.4139746662004,5923.0521362647823,5979.5166409131189,6003.7475896492297,6002.3543344557111,5984.4594437144715,5963.6106533832672,5945.374349313749]
["Yl",{"$f":"IMDIV(1,COMPLEX(B21,B22))","v":"0.0000258036654750886-0.00493474292803425i"},"0.000015785432424327-0.00246796907563487i","0.0000107731463513521-0.00164245765600084i","8.60707674669523E-06-0.00122783658536797i","7.59665176509762E-06-0.000977680913725304i","6.97329570168719E-06-0.000809785224023455i","6.57900163262727E-06-0.000688663197428852i","6.78654604092552E-06-0.000596976108366384i","6.91907685509027E-06-0.000524787920284912i","7.50483318828291E-06-0.000466191321022643i","0.0000082213209021534-0.000417362560827745i","9.24478187307481E-06-0.000376226374746669i","0.0000107556927633483-0.000339893420646094i","0.0000127287990317374-0.00030878757507923i","0.0000153618255600062-0.000281126983498281i","0.0000187338135368766-0.000256414767660662i","0.0000227056504588905-0.000234569843659512i","0.0000277324909647048-0.000215038717940778i","0.0000332123692465761-0.000197936784857781i","0.0000385824161805272-0.000183541082770767i","0.00004460962774574-0.000171010544764343i","0.0000503397516852797-0.000160309449834546i","0.0000552637202355052-0.000151503096159229i","0.0000597966664345032-0.000144001248094671i","0.0000639231869127288-0.00013752547498632i","0.0000675783969270064-0.000131953051686869i","0.0000708661183906321-0.000127084103607533i","0.000073782453920612-0.000122750598329064i","0.0000761688227882279-0.000118881260265472i","0.0000780507531765019-0.000115415453780732i"]
["Yc",{"$f":"COMPLEX(0,2*PI()*B18*1000000*$B$9*0.000000000001)","v":"0.0000251327412287183i"},"0.0000502654824574367i","0.000075398223686155i","0.000100530964914873i","0.000125663706143592i","0.00015079644737231i","0.000175929188601028i","0.000201061929829747i","0.000226194671058465i","0.000251327412287183i","0.000276460153515902i","0.00030159289474462i","0.000326725635973338i","0.000351858377202057i","0.000376991118430775i","0.000402123859659493i","0.000427256600888212i","0.00045238934211693i","0.000477522083345648i","0.000502654824574367i","0.000527787565803085i","0.000552920307031803i","0.000578053048260522i","0.00060318578948924i","0.000628318530717959i","0.000653451271946677i","0.000678584013175395i","0.000703716754404114i","0.000728849495632832i","0.00075398223686155i"]
["Z",{"$f":"IMDIV(1,IMSUM(B23,B24))","v":"1.07047217704759+203.676532320518i"},"2.70042337314863+413.59800079345i","4.38683296959807+638.107731835917i","6.77246882575845+887.019181576637i","10.4638369336852+1173.59191924394i","16.0558542929518+1517.30662677066i","25.0209761445473+1950.00793733743i","43.2831739317444+2525.05798211721i","77.5630810056849+3347.24022619624i","162.362073458803+4648.43772786562i","412.694568752771+7073.03107540265i","1634.61796688799+13196.333782416i","37207.2123276077+45551.3718161405i","6310.39415212389-21352.6615641817i","1629.74316953173-10170.2703561514i","868.025708835576-6751.3876775332i","603.172126274745-5118.69418905428i","485.645347471779-4156.43248554099i","418.972499332108-3526.95558736903i","373.418515201784-3088.53077233997i","345.062465133164-2759.72619821405i","321.295601434537-2505.85545756295i","298.724523029513-2305.68862260301i","278.868434358233-2141.45840856305i","260.949313354419-2003.53138004741i","244.382428739949-1885.88376531498i","229.211002241455-1783.78398420693i","215.130817939237-1693.94913980387i","201.577914064288-1614.25790802467i","188.592412099863-1542.95564112913i"]
["R",{"$f":"IMREAL(B25)","v":1.07047217704759},2.70042337314863,4.3868329695980703,6.77246882575845,10.463836933685201,16.0558542929518,25.020976144547301,43.2831739317444,77.563081005684893,162.362073458803,412.69456875277098,1634.61796688799,37207.212327607704,6310.3941521238903,1629.74316953173,868.02570883557598,603.17212627474498,485.64534747177902,418.97249933210799,373.41851520178398,345.06246513316398,321.29560143453699,298.72452302951302,278.868434358233,260.94931335441902,244.38242873994901,229.21100224145499,215.13081793923701,201.577914064288,188.592412099863]
["X",{"$f":"IMAGINARY(B25)","v":203.67653232051799},413.59800079345001,638.10773183591698,887.01918157663704,1173.5919192439401,1517.3066267706599,1950.0079373374299,2525.05798211721,3347.2402261962402,4648.4377278656202,7073.0310754026495,13196.333782416001,45551.371816140498,-21352.661564181701,-10170.270356151401,-6751.3876775332001,-5118.6941890542803,-4156.4324855409895,-3526.9555873690301,-3088.5307723399701,-2759.7261982140499,-2505.8554575629501,-2305.6886226030101,-2141.4584085630499,-2003.53138004741,-1885.8837653149801,-1783.78398420693,-1693.9491398038699,-1614.2579080246701,-1542.9556411291301]
["|Z|",{"$f":"IMABS(B25)","v":203.67934536617315},413.60681636879838,638.1228108540563,887.0450353949808,1173.6385665093192,1517.3915744128919,1950.1684555253692,2525.4289232127362,3348.138761073285,4651.272379977584,7085.0607196191058,13297.187717506542,58815.849254465087,22265.606441991244,10300.022423074975,6806.959982513973,5154.1097014880133,4184.7081631078445,3551.7536049774358,3111.0229377467526,2781.2149852092966,2526.369418295591,2324.9594329923643,2159.539700789685,2020.453546849029,1901.6520049040105,1798.4501621845632,1707.555257398564,1626.7950851470796,1554.4385508581063]
[]
[]
[]
["Module","Version","Date"]
["CubicSpline",{"$f":"CubicSpline_version(\"v\")","v":"1.04"},{"$f":"CubicSpline_version(\"d\")","v":"2014-03-07"}]
[]
["Copyright: Owen Duffy 2010. All rights reserved."]

{"sheet":"FT240-61x3 13t","index":6,"n_rows":35,"n_cols":31,"rows_kept":35,"cut":false,"hidden":false,"merged":[]}
["Calculate impedance of ferrite cored inductor"]
[]
["Reference:"]
["A method for estimating the impedance of a ferrite cored toroidal inductor at RF"]
[]
["Inputs:"]
["Al (nH for 1t)",{"$f":"170*3","v":510}]
["N",12]
["Cs (pF)",25]
[]
["Constants:"]
["Mix",{"$f":"Mix!B1","v":"#61"}]
["µi",{"$f":"Mix!B2","v":125}]
[]
["Calculated values:"]
["2*pi*N^2*Al",{"$f":"2*PI()*$B$8^2*$B$7*0.000000001","v":4.6143712895926881E-4}]
[]
["f (MHz)",1,{"$f":"B18+1","v":2},3,4,5,6,7,8,9,10,11,12,13,14,15,16,17,18,19,20,21,22,23,24,25,26,27,28,29,30]
["µ''",{"$f":"csinterpolate(CSTableU2,'FT240-61x3 13t'!B18*1000000)","v":0.62},{"$f":"csinterpolate(CSTableU2,'FT240-61x3 13t'!C18*1000000)","v":0.75819431100099222},{"$f":"csinterpolate(CSTableU2,'FT240-61x3 13t'!D18*1000000)","v":0.77887091186070234},{"$f":"csinterpolate(CSTableU2,'FT240-61x3 13t'!E18*1000000)","v":0.83511143762440576},{"$f":"csinterpolate(CSTableU2,'FT240-61x3 13t'!F18*1000000)","v":0.93},{"$f":"csinterpolate(CSTableU2,'FT240-61x3 13t'!G18*1000000)","v":1.036969921462761},{"$f":"csinterpolate(CSTableU2,'FT240-61x3 13t'!H18*1000000)","v":1.1594707528103099},{"$f":"csinterpolate(CSTableU2,'FT240-61x3 13t'!I18*1000000)","v":1.3926436921793786},{"$f":"csinterpolate(CSTableU2,'FT240-61x3 13t'!J18*1000000)","v":1.6331035608136657},{"$f":"csinterpolate(CSTableU2,'FT240-61x3 13t'!K18*1000000)","v":2.02},{"$f":"csinterpolate(CSTableU2,'FT240-61x3 13t'!L18*1000000)","v":2.5096010234877921},{"$f":"csinterpolate(CSTableU2,'FT240-61x3 13t'!M18*1000000)","v":3.1827756414461343},{"$f":"csinterpolate(CSTableU2,'FT240-61x3 13t'!N18*1000000)","v":4.1862588520627675},{"$f":"csinterpolate(CSTableU2,'FT240-61x3 13t'!O18*1000000)","v":5.5699800869711646},{"$f":"csinterpolate(CSTableU2,'FT240-61x3 13t'!P18*1000000)","v":7.5596708892868953},{"$f":"csinterpolate(CSTableU2,'FT240-61x3 13t'!Q18*1000000)","v":10.364762073298381},{"$f":"csinterpolate(CSTableU2,'FT240-61x3 13t'!R18*1000000)","v":14.071540778907028},{"$f":"csinterpolate(CSTableU2,'FT240-61x3 13t'!S18*1000000)","v":19.176551161213411},{"$f":"csinterpolate(CSTableU2,'FT240-61x3 13t'!T18*1000000)","v":25.391368669797036},{"$f":"csinterpolate(CSTableU2,'FT240-61x3 13t'!U18*1000000)","v":32.089654518261241},{"$f":"csinterpolate(CSTableU2,'FT240-61x3 13t'!V18*1000000)","v":39.794608051729639},{"$f":"csinterpolate(CSTableU2,'FT240-61x3 13t'!W18*1000000)","v":47.421943915918163},{"$f":"csinterpolate(CSTableU2,'FT240-61x3 13t'!X18*1000000)","v":54.059097865518069},{"$f":"csinterpolate(CSTableU2,'FT240-61x3 13t'!Y18*1000000)","v":59.964781915008828},{"$f":"csinterpolate(CSTableU2,'FT240-61x3 13t'!Z18*1000000)","v":65.050788171679642},{"$f":"csinterpolate(CSTableU2,'FT240-61x3 13t'!AA18*1000000)","v":69.197236673813947},{"$f":"csinterpolate(CSTableU2,'FT240-61x3 13t'!AB18*1000000)","v":72.536485290986661},{"$f":"csinterpolate(CSTableU2,'FT240-61x3 13t'!AC18*1000000)","v":75.170528211419636},{"$f":"csinterpolate(CSTableU2,'FT240-61x3 13t'!AD18*1000000)","v":77.095025191458149},{"$f":"csinterpolate(CSTableU2,'FT240-61x3 13t'!AE18*1000000)","v":78.419182905316077}]
["µ'",{"$f":"csinterpolate(CSTableU1,'FT240-61x3 13t'!B18*1000000)","v":118.57},{"$f":"csinterpolate(CSTableU1,'FT240-61x3 13t'!C18*1000000)","v":118.53968029339639},{"$f":"csinterpolate(CSTableU1,'FT240-61x3 13t'!D18*1000000)","v":118.74548534852252},{"$f":"csinterpolate(CSTableU1,'FT240-61x3 13t'!E18*1000000)","v":119.13224502943993},{"$f":"csinterpolate(CSTableU1,'FT240-61x3 13t'!F18*1000000)","v":119.69},{"$f":"csinterpolate(CSTableU1,'FT240-61x3 13t'!G18*1000000)","v":120.41980665671979},{"$f":"csinterpolate(CSTableU1,'FT240-61x3 13t'!H18*1000000)","v":121.36869399692092},{"$f":"csinterpolate(CSTableU1,'FT240-61x3 13t'!I18*1000000)","v":122.50340698858074},{"$f":"csinterpolate(CSTableU1,'FT240-61x3 13t'!J18*1000000)","v":123.86522642233432},{"$f":"csinterpolate(CSTableU1,'FT240-61x3 13t'!K18*1000000)","v":125.48},{"$f":"csinterpolate(CSTableU1,'FT240-61x3 13t'!L18*1000000)","v":127.40209539131958},{"$f":"csinterpolate(CSTableU1,'FT240-61x3 13t'!M18*1000000)","v":129.52648939190286},{"$f":"csinterpolate(CSTableU1,'FT240-61x3 13t'!N18*1000000)","v":132.29104551836008},{"$f":"csinterpolate(CSTableU1,'FT240-61x3 13t'!O18*1000000)","v":135.12198912144072},{"$f":"csinterpolate(CSTableU1,'FT240-61x3 13t'!P18*1000000)","v":138.34472114290378},{"$f":"csinterpolate(CSTableU1,'FT240-61x3 13t'!Q18*1000000)","v":141.86529900339437},{"$f":"csinterpolate(CSTableU1,'FT240-61x3 13t'!R18*1000000)","v":145.37170500941278},{"$f":"csinterpolate(CSTableU1,'FT240-61x3 13t'!S18*1000000)","v":148.69565743233508},{"$f":"csinterpolate(CSTableU1,'FT240-61x3 13t'!T18*1000000)","v":151.32572567542223},{"$f":"csinterpolate(CSTableU1,'FT240-61x3 13t'!U18*1000000)","v":152.65425339002283},{"$f":"csinterpolate(CSTableU1,'FT240-61x3 13t'!V18*1000000)","v":152.55221676355956},{"$f":"csinterpolate(CSTableU1,'FT240-61x3 13t'!W18*1000000)","v":151.01754547328326},{"$f":"csinterpolate(CSTableU1,'FT240-61x3 13t'!X18*1000000)","v":148.20067609090967},{"$f":"csinterpolate(CSTableU1,'FT240-61x3 13t'!Y18*1000000)","v":144.40610074717381},{"$f":"csinterpolate(CSTableU1,'FT240-61x3 13t'!Z18*1000000)","v":139.95141627964244},{"$f":"csinterpolate(CSTableU1,'FT240-61x3 13t'!AA18*1000000)","v":135.11398557250098},{"$f":"csinterpolate(CSTableU1,'FT240-61x3 13t'!AB18*1000000)","v":130.0795700595983},{"$f":"csinterpolate(CSTableU1,'FT240-61x3 13t'!AC18*1000000)","v":125.05991362921905},{"$f":"csinterpolate(CSTableU1,'FT240-61x3 13t'!AD18*1000000)","v":120.32684003060784},{"$f":"csinterpolate(CSTableU1,'FT240-61x3 13t'!AE18*1000000)","v":115.96025934130439}]
["Rl",{"$f":"B19/$B$13*$B$16*B18*1000000","v":2.2887281596379734},5.5977440969847816,8.6255989775733646,12.331245572430506,17.165461197284799,22.967828322090948,29.961279896185761,41.127520446879238,54.257372524441195,74.568240039817837,101.90603201780755,140.99048199459833,200.89630764072146,287.86190940553456,418.59753972354093,612.18381484143663,883.06586727908996,1274.2232704086023,1780.9110794192957,2369.1772880322069,3084.93522749152,3851.2752344402584,4589.856984027474,5312.6355466618279,6003.3697860954835,6641.4762383173838,7229.7419437733288,7769.7698893313391,8253.2856428822361,8684.5254276385986]
["Xl",{"$f":"B20/$B$13*$B$16*B18*1000000","v":437.700803045604},875.17775587735105,1315.0458200663318,1759.1053156114203,2209.1763986053952,2667.1761529683372,3136.2252153946129,3617.7677061465292,4115.2330409912429,4632.0904753447239,5173.3490266273557,5737.7598133605925,6348.5760240252503,6983.2339045798726,7660.4869117022608,8379.1252826975378,9122.8666980381786,9880.3724046174229,10613.750875788402,11270.454465234059,11826.067162517824,12264.578058597508,12582.89418527899,12793.792614331929,12915.755944372337,12968.094793642334,12965.085362424335,12926.432398423258,12881.399011307858,12842.008594517696]
["Yl",{"$f":"IMDIV(1,COMPLEX(B21,B22))","v":"0.000011946141423652-0.00228460320742326i"},"7.30807056681806E-06-0.00114257827575689i","4.98756775525559E-06-0.000760397062963352i","3.98475775309964E-06-0.000568442863596284i","3.51696840976739E-06-0.000452630052650602i","3.22837763966998E-06-0.000374900566677526i","3.04583408917932E-06-0.00031882555436521i","3.14191946339144E-06-0.0002763778279474i","3.20327632180105E-06-0.000242957370502274i","3.47445980939023E-06-0.000215829315288261i","3.80616708433028E-06-0.000193223407790623i","4.27999160790501E-06-0.000174178877197532i","4.97948739043902E-06-0.000157358065113933i","5.89296251469326E-06-0.000142957210684829i","7.11195627778066E-06-0.000130151381249204i","8.67306182262808E-06-0.00011871054058364i","0.0000105118752124493-0.000108597149842367i","0.0000128391161873633-0.0000995549620096197i","0.0000153760968734149-0.0000916374003971206i","0.0000178622297132069-0.0000849727235049846i","0.0000206526054378426-0.0000791715485020109i","0.000023305440595037-0.0000742173378863639i","0.0000255850556645857-0.0000701403222959393i","0.0000276836418678257-0.0000666672444882736i","0.0000295940680151524-0.0000636692013825556i","0.0000312862948736142-0.0000610893757809581i","0.0000328083881438113-0.0000588352331516356i","0.0000341585434817646-0.0000568289807078999i","0.0000352633438834387-0.0000550376204932738i","0.0000361346079520842-0.0000534330804540427i"]
["Yc",{"$f":"COMPLEX(0,2*PI()*B18*1000000*$B$9*0.000000000001)","v":"0.00015707963267949i"},"0.000314159265358979i","0.000471238898038469i","0.000628318530717959i","0.000785398163397448i","0.000942477796076938i","0.00109955742875643i","0.00125663706143592i","0.00141371669411541i","0.0015707963267949i","0.00172787595947439i","0.00188495559215388i","0.00204203522483337i","0.00219911485751285i","0.00235619449019234i","0.00251327412287183i","0.00267035375555132i","0.00282743338823081i","0.0029845130209103i","0.00314159265358979i","0.00329867228626928i","0.00345575191894877i","0.00361283155162826i","0.00376991118430775i","0.00392699081698724i","0.00408407044966673i","0.00424115008234622i","0.00439822971502571i","0.0045553093477052i","0.00471238898038469i"]
["Z",{"$f":"IMDIV(1,IMSUM(B23,B24))","v":"2.63915682018781+470.015225274211i"},"10.6480191319542+1207.02467105927i","59.6332802728418+3457.28634442632i","1106.57782199675-16627.6319464002i","31.7567870815723-3004.76001182609i","10.0212143727553-1761.8177684713i","4.99684424583781-1280.82996639685i","3.26970599370146-1020.12783219431i","2.33698487804192-854.140124125211i","1.89246123858817-738.020495131874i","1.61608815114596-651.609283027167i","1.46235743729944-584.526158428545i","1.40186976936888-530.591148860754i","1.39385402279595-486.340037016692i","1.43521678248709-449.223013149893i","1.51256483081671-417.607153482284i","1.60175893293304-390.350574399412i","1.72534315885133-366.577131336438i","1.83727562967815-345.667038977136i","1.91178019550517-327.147592509233i","1.99241553447029-310.594384929873i","2.03802273044942-295.709678257426i","2.03843614419396-282.256561965814i","2.0185258316907-270.018431435688i","1.98270205212557-258.829427956934i","1.93300015998976-248.556855034162i","1.8755330527709-239.087324326191i","1.81222746654903-230.326145440801i","1.74108250949936-222.195161585995i","1.66463884136759-214.627455250858i"]
["R",{"$f":"IMREAL(B25)","v":2.6391568201878099},10.6480191319542,59.633280272841802,1106.5778219967499,31.756787081572298,10.021214372755299,4.99684424583781,3.2697059937014599,2.3369848780419198,1.8924612385881701,1.6160881511459599,1.4623574372994399,1.40186976936888,1.3938540227959499,1.4352167824870901,1.5125648308167099,1.6017589329330399,1.7253431588513299,1.8372756296781501,1.9117801955051701,1.9924155344702901,2.0380227304494198,2.0384361441939598,2.0185258316907002,1.98270205212557,1.9330001599897599,1.8755330527709,1.8122274665490301,1.7410825094993601,1.6646388413675901]
["X",{"$f":"IMAGINARY(B25)","v":470.01522527421099},1207.0246710592701,3457.2863444263198,-16627.631946400201,-3004.7600118260898,-1761.8177684713,-1280.8299663968501,-1020.12783219431,-854.14012412521095,-738.02049513187399,-651.60928302716695,-584.52615842854505,-530.59114886075395,-486.34003701669201,-449.22301314989301,-417.60715348228399,-390.35057439941198,-366.57713133643801,-345.66703897713597,-327.14759250923299,-310.594384929873,-295.70967825742599,-282.256561965814,-270.018431435688,-258.82942795693401,-248.556855034162,-239.08732432619101,-230.32614544080101,-222.19516158599501,-214.62745525085799]
["|Z|",{"$f":"IMABS(B25)","v":470.02263470846685},1207.0716370030295,3457.8006008838629,16664.41293958727,3004.9278231256849,1761.8462685599716,1280.8397133414367,1020.1330721992831,854.14332119320056,738.02292148972992,651.61128709384013,584.52798767595982,530.59300079083687,486.34203441038727,449.22530582179104,417.60989271321552,390.3538607028629,366.58119159044145,345.6719216496478,327.15317847776305,310.60077538478254,295.71670117151012,282.26392258784216,270.02597608660272,258.83702185727066,248.56437128858983,239.09468057171262,230.33327471732679,222.20198289063785,214.6339105778284]
[]
[]
[]
["Module","Version","Date"]
["CubicSpline",{"$f":"CubicSpline_version(\"v\")","v":"1.04"},{"$f":"CubicSpline_version(\"d\")","v":"2014-03-07"}]
[]
["Copyright: Owen Duffy 2010. All rights reserved."]

{"sheet":"Mix","index":7,"n_rows":111,"n_cols":21,"rows_kept":111,"cut":false,"hidden":false,"merged":[[4,4,4,6],[4,13,4,15]]}
["Mix","#61"]
["µi",125]
["Fetched","2019-04-13"]
[]
["# #61 mix u'",null,null,null,"CSTable",null,null,null,null,"# #61 mix u''",null,null,null,"CSTable"]
[10000,118.03,null,null,{"$f":"cstable(A6:A111,B6:B111)","v":10000},118.03,0,null,null,10000,0.45,null,null,{"$f":"cstable([1]Mix!J6:J111,[1]Mix!K6:K111)","v":10000},0.45,0,null,null,1000000,{"$f":"csinterpolate(CSTableU1,S6)","v":118.57},{"$f":"csinterp1($A$6:$A$36,$B$6:$B$36,S6)","v":118.57}]
[50000,117.55,null,null,50000,117.55,4.3691986194254643E-10,null,null,50000,0.45,null,null,50000,0.45,-2.7006442767139957E-13,null,null,5000000,{"$f":"csinterpolate(CSTableU1,S7)","v":119.69},{"$f":"csinterp1($A$6:$A$36,$B$6:$B$36,S7)","v":119.69}]
[100000,117.59,null,null,100000,117.59,-3.6911502993140081E-11,null,null,100000,0.45,null,null,100000,0.45,9.7223193961703842E-13,null,null,20000000,{"$f":"csinterpolate(CSTableU1,S8)","v":152.65425339002283},{"$f":"csinterp1($A$6:$A$36,$B$6:$B$36,S8)","v":90.640149701922368}]
[300000,117.89,null,null,300000,117.89,4.0487919972094114E-12,null,null,300000,0.46,null,null,300000,0.46,-8.6306374212474469E-13]
[500000,117.95,null,null,500000,117.95,-1.52836649956968E-11,null,null,500000,0.48,null,null,500000,0.48,3.9800230288819335E-12]
[700000,117.85,null,null,700000,117.85,3.3085867985576172E-11,null,null,700000,0.57999999999999996,null,null,700000,0.57999999999999996,-3.0570283734029843E-12]
[1000000,118.57,null,null,1000000,118.57,-4.2097116621455267E-11,null,null,1000000,0.62,null,null,1000000,0.62,2.0341255875533111E-13]
[1080000,118.5,null,null,1080000,118.5,3.0225602957921074E-11,null,null,1080000,0.62,null,null,1080000,0.62,-4.685629079144607E-13]
[1160000,118.51,null,null,1160000,118.51,-3.8052952102306159E-12,null,null,1160000,0.62,null,null,1160000,0.62,1.6708390729025115E-12]
[1240000,118.53,null,null,1240000,118.53,-5.6294221170071348E-12,null,null,1240000,0.63,null,null,1240000,0.63,3.1602066163044229E-12]
[1320000,118.52,null,null,1320000,118.52,-1.8020163217419096E-12,null,null,1320000,0.65,null,null,1320000,0.65,-4.9366655381201957E-12]
[1420000,118.49,null,null,1420000,118.49,4.9079645187973569E-13,null,null,1420000,0.66,null,null,1420000,0.66,6.2438306441891625E-12]
[1530000,118.47,null,null,1530000,118.47,6.2105275588717863E-12,null,null,1530000,0.7,null,null,1530000,0.7,-4.9720375902659253E-12]
[1640000,118.5,null,null,1640000,118.5,-5.3951825761622097E-13,null,null,1640000,0.72,null,null,1640000,0.72,3.7269643449737584E-12]
[1750000,118.53,null,null,1750000,118.53,-4.0524545284069024E-12,null,null,1750000,0.75,null,null,1750000,0.75,-4.977142103678691E-12]
[1870000,118.53,null,null,1870000,118.53,2.3926037920105079E-12,null,null,1870000,0.75,null,null,1870000,0.75,2.0262971115120555E-12]
[2020000,118.54,null,null,2020000,118.54,-2.7047433618442756E-12,null,null,2020000,0.76,null,null,2020000,0.76,-6.4628925183377686E-13]
[2160000,118.54,null,null,2160000,118.54,5.7847184361992766E-12,null,null,2160000,0.76,null,null,2160000,0.76,-2.3506914333087009E-12]
[2310000,118.59,null,null,2310000,118.59,-6.5098174822499731E-12,null,null,2310000,0.74,null,null,2310000,0.74,4.3592101771718326E-12]
[2480000,118.58,null,null,2480000,118.58,5.5625543925849196E-12,null,null,2480000,0.77,null,null,2480000,0.77,-3.402748641070008E-12]
[2670000,118.65,null,null,2670000,118.65,-1.7626457811482711E-12,null,null,2670000,0.76,null,null,2670000,0.76,1.7594752018695661E-12]
[2860000,118.71,null,null,2860000,118.71,-1.7402112949089114E-13,null,null,2860000,0.77,null,null,2860000,0.77,-3.1105244341656288E-13]
[3050000,118.76,null,null,3050000,118.76,7.9668043761986449E-13,null,null,3050000,0.78,null,null,3050000,0.78,-5.1526542820331475E-13]
[3270000,118.84,null,null,3270000,118.84,-7.8832412946800247E-14,null,null,3270000,0.78,null,null,3270000,0.78,7.5376428041661034E-13]
[3530000,118.94,null,null,3530000,118.94,1.0109056164076677E-13,null,null,3530000,0.8,null,null,3530000,0.8,-5.7198789791059465E-13]
[3780000,119.04,null,null,3780000,119.04,3.8766987202456571E-14,null,null,3780000,0.81,null,null,3780000,0.81,6.636419256881047E-13]
[4040000,119.15,null,null,4040000,119.15,2.8325604271008875E-13,null,null,4040000,0.84,null,null,4040000,0.84,-3.1388499006356961E-13]
[4330000,119.29,null,null,4330000,119.29,1.2561766214717757E-13,null,null,4330000,0.86,null,null,4330000,0.86,-3.6478620851170646E-13]
[4660000,119.47,null,null,4660000,119.47,4.1898604588111912E-13,null,null,4660000,0.87,null,null,4660000,0.87,9.435958304329E-13]
[5000000,119.69,null,null,5000000,119.69,1.9795701353070828E-14,null,null,5000000,0.93,null,null,5000000,0.93,-7.8539298934599758E-13]
[5340000,119.92,null,null,5340000,119.92,2.086229057537417E-14,null,null,5340000,0.95,null,null,5340000,0.95,1.2185155947703432E-13]
[5720000,120.19,null,null,5720000,120.19,4.4095296956937364E-13,null,null,5720000,0.98,null,null,5720000,0.98,5.5871159154326142E-13]
[6170000,120.57,null,null,6170000,120.57,1.4133149339116474E-13,null,null,6170000,1.07,null,null,6170000,1.07,-5.4988676686533809E-13]
[6610000,120.98,null,null,6610000,120.98,1.6873529477304756E-13,null,null,6610000,1.1100000000000001,null,null,6610000,1.1100000000000001,1.6552903245540713E-13]
[7050000,121.42,null,null,7050000,121.42,1.1347939363194224E-13,null,null,7050000,1.17,null,null,7050000,1.17,5.0760534778750475E-13]
[7560000,121.97,null,null,7560000,121.97,3.5438011312408477E-13,null,null,7560000,1.31,null,null,7560000,1.31,-4.0863907790007997E-13]
[8170000,122.72,null,null,8170000,122.72,8.9795083415648225E-14,null,null,8170000,1.42,null,null,8170000,1.42,1.4980524050801824E-13]
[8780000,123.54,null,null,8780000,123.54,4.1516838954775948E-13,null,null,8780000,1.56,null,null,8780000,1.56,2.9315904572557588E-13]
[9390000,124.47,null,null,9390000,124.47,2.3248101204147442E-14,null,null,9390000,1.78,null,null,9390000,1.78,-3.2465610456817436E-14]
[10000000,125.48,null,null,10000000,125.48,7.818150185893605E-13,null,null,10000000,2.02,null,null,10000000,2.02,1.5919734934007131E-13]
[10700000,126.84,null,null,10700000,126.84,-4.8545723257721336E-13,null,null,10700000,2.35,null,null,10700000,2.35,1.0088951139169018E-13]
[11600000,128.58000000000001,null,null,11600000,128.58000000000001,1.0544997489908199E-12,null,null,11600000,2.88,null,null,11600000,2.88,3.0053035974493814E-13]
[12400000,130.59,null,null,12400000,130.59,4.0826545343822028E-13,null,null,12400000,3.54,null,null,12400000,3.54,3.8007860410169738E-13]
[13200000,132.86000000000001,null,null,13200000,132.86000000000001,-2.5006156274352133E-13,null,null,13200000,4.43,null,null,13200000,4.43,3.3540522384826778E-13]
[14200000,135.72,null,null,14200000,135.72,7.0860926312593654E-13,null,null,14200000,5.91,null,null,14200000,5.91,6.9347831086488347E-13]
[15300000,139.38999999999999,null,null,15300000,139.38999999999999,1.2007679617856898E-13,null,null,15300000,8.31,null,null,15300000,8.31,8.7535905584391832E-13]
[16400000,143.28,null,null,16400000,143.28,-9.8007356930986415E-14,null,null,16400000,11.73,null,null,16400000,11.73,8.6293670542886428E-13]
[17500000,147.07,null,null,17500000,147.07,-2.2391513704977725E-13,null,null,17500000,16.41,null,null,17500000,16.41,1.9208280067381427E-12]
[18700000,150.66,null,null,18700000,150.66,-1.3207579580617925E-12,null,null,18700000,23.49,null,null,18700000,23.49,7.3073388133383814E-14]
[20200000,152.75,null,null,20200000,152.75,-1.4594725746710627E-12,null,null,20200000,33.549999999999997,null,null,20200000,33.549999999999997,1.4269400639959717E-12]
[21600000,151.80000000000001,null,null,21600000,151.80000000000001,-1.4181076437454882E-12,null,null,21600000,44.49,null,null,21600000,44.49,-1.2429629769017103E-12]
[23100000,147.86000000000001,null,null,23100000,147.86000000000001,-9.4685699353876536E-13,null,null,23100000,54.68,null,null,23100000,54.68,-6.0949673951917313E-13]
[24800000,140.88,null,null,24800000,140.88,-4.0485170198870543E-13,null,null,24800000,64.11,null,null,24800000,64.11,-1.0073079179695562E-12]
[26700000,131.6,null,null,26700000,131.6,-7.6515735217388813E-14,null,null,26700000,71.61,null,null,26700000,71.61,-6.8914786752488556E-13]
[28600000,122.17,null,null,28600000,122.17,4.6160716363389758E-13,null,null,28600000,76.41,null,null,28600000,76.41,-7.2363523796968653E-13]
[30500000,113.86,null,null,30500000,113.86,9.1582925557129098E-14,null,null,30500000,78.94,null,null,30500000,78.94,-1.8916436619192913E-13]
[32700000,105.12,null,null,32700000,105.12,3.5350364832791679E-13,null,null,32700000,80.56,null,null,32700000,80.56,-2.9328959596021657E-13]
[35300000,96.33,null,null,35300000,96.33,-1.668046477902486E-14,null,null,35300000,80.98,null,null,35300000,80.98,-8.3542046965667038E-14]
[37800000,88.56,null,null,37800000,88.56,3.5505865588355145E-13,null,null,37800000,80.56,null,null,37800000,80.56,-1.4501957627376406E-13]
[40400000,82.07,null,null,40400000,82.07,3.5069151927781309E-14,null,null,40400000,79.37,null,null,40400000,79.37,-1.9268865672029209E-14]
[43300000,75.64,null,null,43300000,75.64,1.2571090502007428E-13,null,null,43300000,77.69,null,null,43300000,77.69,-4.8517173140545575E-14]
[46600000,69.45,null,null,46600000,69.45,1.1769304802336857E-13,null,null,46600000,75.44,null,null,46600000,75.44,1.2862313772148496E-14]
[50000000,64.33,null,null,50000000,64.33,6.6858384358529272E-14,null,null,50000000,73.150000000000006,null,null,50000000,73.150000000000006,1.1024790334670663E-14]
[53400000,60.03,null,null,53400000,60.03,4.0478950874698326E-14,null,null,53400000,70.95,null,null,53400000,70.95,-1.0248672342670654E-14]
[57200000,55.88,null,null,57200000,55.88,5.9312714672531632E-14,null,null,57200000,68.5,null,null,57200000,68.5,3.2639074510912912E-14]
[61700000,51.86,null,null,61700000,51.86,1.2049000457662969E-14,null,null,61700000,65.97,null,null,61700000,65.97,-1.7279917068349697E-15]
[66100000,48.4,null,null,66100000,48.4,3.646335401031628E-14,null,null,66100000,63.62,null,null,66100000,63.62,1.1970521788734704E-14]
[70500000,45.5,null,null,70500000,45.5,1.5651302509337059E-14,null,null,70500000,61.47,null,null,70500000,61.47,1.5829375626277259E-14]
[75600000,42.6,null,null,75600000,42.6,1.666024379221676E-14,null,null,75600000,59.3,null,null,75600000,59.3,4.9899161917429475E-15]
[81700000,39.659999999999997,null,null,81700000,39.659999999999997,1.0975462860745488E-14,null,null,81700000,56.95,null,null,81700000,56.95,8.0265292205695592E-15]
[87800000,37.130000000000003,null,null,87800000,37.130000000000003,5.5491651786703318E-15,null,null,87800000,54.88,null,null,87800000,54.88,8.0531203793506075E-15]
[93900000,34.869999999999997,null,null,93900000,34.869999999999997,1.0364560111752248E-14,null,null,93900000,53.08,null,null,93900000,53.08,3.2976729492082184E-15]
[100000000,32.9,null,null,100000000,32.9,-2.4578240611366904E-16,null,null,100000000,51.43,null,null,100000000,51.43,2.9432343166956868E-15]
[107000000,30.8,null,null,107000000,30.8,1.1560085770182387E-14,null,null,107000000,49.72,null,null,107000000,49.72,8.572569981463742E-15]
[116000000,28.6,null,null,116000000,28.6,-3.8743260521898194E-15,null,null,116000000,47.92,null,null,116000000,47.92,-3.2456215454912262E-15]
[124000000,26.66,null,null,124000000,26.66,4.9191225636846806E-15,null,null,124000000,46.32,null,null,124000000,46.32,4.1497503391906239E-15]
[132000000,24.92,null,null,132000000,24.92,2.9478357974513736E-15,null,null,132000000,44.89,null,null,132000000,44.89,2.5841201887288952E-15]
[142000000,23.03,null,null,142000000,23.03,2.5524930782271483E-15,null,null,142000000,43.33,null,null,142000000,43.33,1.0273670492233111E-15]
[153000000,21.2,null,null,153000000,21.2,-7.8625949261163523E-17,null,null,153000000,41.76,null,null,153000000,41.76,9.6779506197244608E-16]
[164000000,19.46,null,null,164000000,19.46,2.2248206361730488E-15,null,null,164000000,40.299999999999997,null,null,164000000,40.299999999999997,5.5599815743232106E-16]
[175000000,17.899999999999999,null,null,175000000,17.899999999999999,1.0496323927952036E-16,null,null,175000000,38.909999999999997,null,null,175000000,38.909999999999997,2.7928668846357787E-16]
[187000000,16.32,null,null,187000000,16.32,2.6339795753609559E-15,null,null,187000000,37.479999999999997,null,null,187000000,37.479999999999997,2.0182208983948764E-15]
[202000000,14.68,null,null,202000000,14.68,-6.3296372938979248E-16,null,null,202000000,35.950000000000003,null,null,202000000,35.950000000000003,-6.2235791832560062E-16]
[216000000,13.23,null,null,216000000,13.23,2.269545088973055E-15,null,null,216000000,34.549999999999997,null,null,216000000,34.549999999999997,1.27310327049692E-15]
[231000000,11.97,null,null,231000000,11.97,-3.5623676802726116E-16,null,null,231000000,33.22,null,null,231000000,33.22,1.9153474451601388E-16]
[248000000,10.62,null,null,248000000,10.62,9.5796403434436306E-16,null,null,248000000,31.81,null,null,248000000,31.81,1.7636285117594933E-16]
[267000000,9.32,null,null,267000000,9.32,1.5930984365740018E-16,null,null,267000000,30.3,null,null,267000000,30.3,2.5530197994377001E-16]
[286000000,8.16,null,null,286000000,8.16,7.3166639712019806E-16,null,null,286000000,28.89,null,null,286000000,28.89,4.6447909054478012E-16]
[305000000,7.2,null,null,305000000,7.2,2.3812429085349965E-16,null,null,305000000,27.62,null,null,305000000,27.62,2.1365146397130025E-16]
[327000000,6.24,null,null,327000000,6.24,3.5962997833588879E-16,null,null,327000000,26.28,null,null,327000000,26.28,4.2061651629110878E-16]
[353000000,5.3,null,null,353000000,5.3,1.9738048369547928E-16,null,null,353000000,24.89,null,null,353000000,24.89,-1.5161657153867883E-17]
[378000000,4.54,null,null,378000000,4.54,2.0159552597620199E-16,null,null,378000000,23.63,null,null,378000000,23.63,3.591876150142492E-16]
[404000000,3.87,null,null,404000000,3.87,8.7975370871376406E-17,null,null,404000000,22.49,null,null,404000000,22.49,1.1788390847963251E-16]
[433000000,3.21,null,null,433000000,3.21,1.0844434504209875E-16,null,null,433000000,21.36,null,null,433000000,21.36,2.4061074846611977E-16]
[466000000,2.57,null,null,466000000,2.57,1.2696070405468248E-16,null,null,466000000,20.25,null,null,466000000,20.25,-3.8771046230735002E-17]
[500000000,2.0499999999999998,null,null,500000000,2.0499999999999998,1.1786861034019827E-16,null,null,500000000,19.170000000000002,null,null,500000000,19.170000000000002,2.4956211822355621E-16]
[534000000,1.63,null,null,534000000,1.63,-7.9404003546962931E-17,null,null,534000000,18.27,null,null,534000000,18.27,-2.522137130018737E-17]
[572000000,1.1499999999999999,null,null,572000000,1.1499999999999999,1.5144255615286614E-16,null,null,572000000,17.329999999999998,null,null,572000000,17.329999999999998,1.4603269020557891E-16]
[617000000,0.74,null,null,617000000,0.74,-2.2206781534384866E-17,null,null,617000000,16.399999999999999,null,null,617000000,16.399999999999999,2.528973704133789E-17]
[661000000,0.37,null,null,661000000,0.37,3.0682120417334795E-17,null,null,661000000,15.59,null,null,661000000,15.59,5.6191143019215427E-17]
[705000000,0.05,null,null,705000000,0.05,5.443697755099606E-17,null,null,705000000,14.87,null,null,705000000,14.87,2.8871310716505116E-17]
[756000000,-0.22,null,null,756000000,-0.22,3.5023278619354799E-18,null,null,756000000,14.13,null,null,756000000,14.13,6.2059516145593044E-17]
[817000000,-0.49,null,null,817000000,-0.49,2.6992156344233884E-17,null,null,817000000,13.41,null,null,817000000,13.41,1.4186605493596262E-17]
[878000000,-0.69,null,null,878000000,-0.69,1.4019303945609727E-18,null,null,878000000,12.79,null,null,878000000,12.79,4.2441038499209671E-17]
[939000000,-0.87,null,null,939000000,-0.87,-3.5048259864024318E-19,null,null,939000000,12.3,null,null,939000000,12.3,2.5670310114514182E-17]
[1000000000,-1.05,null,null,1000000000,-1.05,0,null,null,1000000000,11.9,null,null,1000000000,11.9,0]