{"text_format":"1","workbook":"xlsx","n_sheets":6,"sheets":["FT240-52","FT240-52x2","FT150-52 (2)","FT94-52","Mix","FT240-52 (2)"],"not_rendered":{"charts":11,"images":0,"macros":1,"external_links":1,"defined_names":2,"comments":0,"pivot_tables":0},"unopened":[],"bounds":{"document_bytes":16777216,"sheet_cells":100000,"rows_first":2000,"rows_last":500,"rows_between":2000,"halvings":0,"cell_chars":16384,"cell_head_chars":4096},"cells_cut":0,"cells_raw":0,"read":"whole","date_system":"1900"}

{"sheet":"FT240-52","index":0,"n_rows":35,"n_cols":31,"rows_kept":35,"cut":false,"hidden":false,"merged":[]}
["Calculate impedance of toroidal ferrite cored inductor"]
[]
["Reference:"]
["A method for estimating the impedance of a ferrite cored toroidal inductor at RF"]
[]
["Inputs:"]
["Al (nH for 1t)",340]
["N",11]
["Cs (pF)",3]
[]
["Constants:"]
["Mix",{"$f":"Mix!B1","v":52}]
["µi",{"$f":"Mix!B2","v":250}]
[]
["Calculated values:"]
["2*pi*N^2*Al",{"$f":"2*PI()*$B$8^2*$B$7*0.000000001","v":2.5849024353736822E-4}]
[]
["f (MHz)",1,1.2,1.8,2,2.5,3,3.5,4,4.5,5,5.5,6,{"$f":"M18+1","v":7},8,9,10,11,12,13,14,15,16,17,18,19,22,24,26,28,30]
["µ''",{"$f":"csinterpolate(CSTableU2,'FT240-52'!B18*1000000)","v":3.0499000000000001},{"$f":"csinterpolate(CSTableU2,'FT240-52'!C18*1000000)","v":3.2904831190109389},{"$f":"csinterpolate(CSTableU2,'FT240-52'!D18*1000000)","v":3.967018516752479},{"$f":"csinterpolate(CSTableU2,'FT240-52'!E18*1000000)","v":4.1624213685595173},{"$f":"csinterpolate(CSTableU2,'FT240-52'!F18*1000000)","v":4.6934474029834936},{"$f":"csinterpolate(CSTableU2,'FT240-52'!G18*1000000)","v":5.7869745969032644},{"$f":"csinterpolate(CSTableU2,'FT240-52'!H18*1000000)","v":7.3580620226877942},{"$f":"csinterpolate(CSTableU2,'FT240-52'!I18*1000000)","v":9.926754908090583},{"$f":"csinterpolate(CSTableU2,'FT240-52'!J18*1000000)","v":13.81033892745144},{"$f":"csinterpolate(CSTableU2,'FT240-52'!K18*1000000)","v":20.511611514548019},{"$f":"csinterpolate(CSTableU2,'FT240-52'!L18*1000000)","v":29.809955391832062},{"$f":"csinterpolate(CSTableU2,'FT240-52'!M18*1000000)","v":41.297758756922754},{"$f":"csinterpolate(CSTableU2,'FT240-52'!N18*1000000)","v":71.227829783683418},{"$f":"csinterpolate(CSTableU2,'FT240-52'!O18*1000000)","v":98.042432892117944},{"$f":"csinterpolate(CSTableU2,'FT240-52'!P18*1000000)","v":124.39851411420072},{"$f":"csinterpolate(CSTableU2,'FT240-52'!Q18*1000000)","v":137.48080431574027},{"$f":"csinterpolate(CSTableU2,'FT240-52'!R18*1000000)","v":148.59943423102928},{"$f":"csinterpolate(CSTableU2,'FT240-52'!S18*1000000)","v":151.00249371940657},{"$f":"csinterpolate(CSTableU2,'FT240-52'!T18*1000000)","v":152.23128862750124},{"$f":"csinterpolate(CSTableU2,'FT240-52'!U18*1000000)","v":151.77044049308},{"$f":"csinterpolate(CSTableU2,'FT240-52'!V18*1000000)","v":148.19510684679508},{"$f":"csinterpolate(CSTableU2,'FT240-52'!W18*1000000)","v":144.19751813493576},{"$f":"csinterpolate(CSTableU2,'FT240-52'!X18*1000000)","v":141.70879370829715},{"$f":"csinterpolate(CSTableU2,'FT240-52'!Y18*1000000)","v":139.08719283420325},{"$f":"csinterpolate(CSTableU2,'FT240-52'!Z18*1000000)","v":135.50786137417444},{"$f":"csinterpolate(CSTableU2,'FT240-52'!AA18*1000000)","v":124.19703145370912},{"$f":"csinterpolate(CSTableU2,'FT240-52'!AB18*1000000)","v":118.85411849931367},{"$f":"csinterpolate(CSTableU2,'FT240-52'!AC18*1000000)","v":114.37628656816462},{"$f":"csinterpolate(CSTableU2,'FT240-52'!AD18*1000000)","v":110.32031789018907},{"$f":"csinterpolate(CSTableU2,'FT240-52'!AE18*1000000)","v":106.57469008666072}]
["µ'",{"$f":"csinterpolate(CSTableU1,'FT240-52'!B18*1000000)","v":271.82299999999998},{"$f":"csinterpolate(CSTableU1,'FT240-52'!C18*1000000)","v":272.19082946678634},{"$f":"csinterpolate(CSTableU1,'FT240-52'!D18*1000000)","v":272.34705648423068},{"$f":"csinterpolate(CSTableU1,'FT240-52'!E18*1000000)","v":271.78453117064919},{"$f":"csinterpolate(CSTableU1,'FT240-52'!F18*1000000)","v":270.41777375176463},{"$f":"csinterpolate(CSTableU1,'FT240-52'!G18*1000000)","v":270.72356701062466},{"$f":"csinterpolate(CSTableU1,'FT240-52'!H18*1000000)","v":277.74873858288925},{"$f":"csinterpolate(CSTableU1,'FT240-52'!I18*1000000)","v":284.40522241788904},{"$f":"csinterpolate(CSTableU1,'FT240-52'!J18*1000000)","v":292.22641370148841},{"$f":"csinterpolate(CSTableU1,'FT240-52'!K18*1000000)","v":298.93908294056735},{"$f":"csinterpolate(CSTableU1,'FT240-52'!L18*1000000)","v":301.5249441802431},{"$f":"csinterpolate(CSTableU1,'FT240-52'!M18*1000000)","v":305.38916179553797},{"$f":"csinterpolate(CSTableU1,'FT240-52'!N18*1000000)","v":305.24355321471819},{"$f":"csinterpolate(CSTableU1,'FT240-52'!O18*1000000)","v":296.23832150305083},{"$f":"csinterpolate(CSTableU1,'FT240-52'!P18*1000000)","v":276.51437232303493},{"$f":"csinterpolate(CSTableU1,'FT240-52'!Q18*1000000)","v":260.28916563413679},{"$f":"csinterpolate(CSTableU1,'FT240-52'!R18*1000000)","v":237.53203498823027},{"$f":"csinterpolate(CSTableU1,'FT240-52'!S18*1000000)","v":218.87421660185237},{"$f":"csinterpolate(CSTableU1,'FT240-52'!T18*1000000)","v":203.33172189960433},{"$f":"csinterpolate(CSTableU1,'FT240-52'!U18*1000000)","v":189.37650548986889},{"$f":"csinterpolate(CSTableU1,'FT240-52'!V18*1000000)","v":177.33002992245264},{"$f":"csinterpolate(CSTableU1,'FT240-52'!W18*1000000)","v":167.20965609439202},{"$f":"csinterpolate(CSTableU1,'FT240-52'!X18*1000000)","v":158.87810019508268},{"$f":"csinterpolate(CSTableU1,'FT240-52'!Y18*1000000)","v":151.50124323103856},{"$f":"csinterpolate(CSTableU1,'FT240-52'!Z18*1000000)","v":144.69637942438118},{"$f":"csinterpolate(CSTableU1,'FT240-52'!AA18*1000000)","v":128.55578016848358},{"$f":"csinterpolate(CSTableU1,'FT240-52'!AB18*1000000)","v":121.04195811736874},{"$f":"csinterpolate(CSTableU1,'FT240-52'!AC18*1000000)","v":114.435694181161},{"$f":"csinterpolate(CSTableU1,'FT240-52'!AD18*1000000)","v":108.49306247968192},{"$f":"csinterpolate(CSTableU1,'FT240-52'!AE18*1000000)","v":103.54101076773443}]
["Rl",{"$f":"B19/$B$13*$B$16*B18*1000000","v":3.1534775750584774},4.0826773573859354,7.3831361940907021,8.6075625061127621,12.132103622270318,17.950517674777057,26.627821418906791,41.0555086996496,64.257081708429354,106.04102911478806,169.52281783960055,256.20162524698662,515.52757388783107,810.97639536894872,1157.6088795263934,1421.4978635715588,1690.1061735313313,1873.5682260614074,2046.21574930917,2196.945974990474,2298.4193555924621,2385.5137011317515,2490.8631605990195,2588.5931291022312,2662.0869666757098,2825.127439823696,2949.3724834854538,3074.7760336700876,3193.8732939181436,3305.8221114504568]
["Xl",{"$f":"B20/$B$13*$B$16*B18*1000000","v":281.05437387623215},337.72163422803771,506.87321009251804,562.02919721592446,699.00356193926575,839.7528092145767,1005.1347470988301,1176.2556032975922,1359.6781832234901,1545.4567270428956,1714.7076375823328,1894.5628513488327,2209.269451443155,2450.3909078535939,2573.1456279610975,2691.288392596256,2701.58739716951,2715.6887785662479,2733.0818482604595,2741.3108253625896,2750.2849572686146,2766.2121424408947,2792.6538392283292,2819.6347146483754,2842.5977790851634,2924.2765133021167,3003.6638622718624,3076.3730876586342,3140.9725919586431,3211.7209307348326]
["Yl",{"$f":"IMDIV(1,COMPLEX(B21,B22))","v":"0.0000399166769705046-0.00355758250570624i"},"0.0000357901758521305-0.0029605858166146i","0.0000287309555067174-0.00197246146676408i","0.0000272433541740462-0.00177884975741211i","0.0000248225575361119-0.00143017704714738i","0.0000254434295227731-0.00119028274308903i","0.0000263379746235631-0.000994193743674182i","0.000029637342984169-0.000849120906210543i","0.000034680061632786-0.000733829205143615i","0.0000441896320790221-0.000644025852372189i","0.000057098378734839-0.000577544824690412i","0.0000700960567923037-0.000518347161524488i","0.000100167790054159-0.000429264407558877i","0.000121729875034463-0.000367810679450044i","0.000145407486045936-0.00032321334399663i","0.000153448351298647-0.000290520145894186i","0.000166430391368816-0.000266034320724673i","0.000172120327748328-0.000249483971881768i","0.000175539351268174-0.000234463748394292i","0.000178014948908964-0.000222123944819639i","0.000178909888525601-0.000214083288987849i","0.000178789198890859-0.000207321740669331i","0.000177876681697437-0.000199428056068757i","0.000176681855501784-0.000192451369672798i","0.000175517559788997-0.000187419055760483i","0.0001708807947899-0.000176877930437604i","0.000166435678690488-0.000169499388861365i","0.000162529029588599-0.000162613447976187i","0.000159164161810724-0.000156527896964959i","0.000155614885109581-0.000151185262482575i"]
["Yc",{"$f":"COMPLEX(0,2*PI()*B18*1000000*$B$9*0.000000000001)","v":"0.0000188495559215388i"},"0.0000226194671058465i","0.0000339292006587698i","0.0000376991118430775i","0.0000471238898038469i","0.0000565486677646163i","0.0000659734457253857i","0.000075398223686155i","0.0000848230016469244i","0.0000942477796076938i","0.000103672557568463i","0.000113097335529233i","0.000131946891450771i","0.00015079644737231i","0.000169646003293849i","0.000188495559215388i","0.000207345115136926i","0.000226194671058465i","0.000245044226980004i","0.000263893782901543i","0.000282743338823081i","0.00030159289474462i","0.000320442450666159i","0.000339292006587698i","0.000358141562509236i","0.000414690230273853i","0.00045238934211693i","0.000490088453960008i","0.000527787565803085i","0.000565486677646163i"]
["Z",{"$f":"IMDIV(1,IMSUM(B23,B24))","v":"3.18715764220568+282.551069393008i"},"4.14577523842656+340.320991812025i","7.64378766046085+515.740905713927i","8.98424462898978+574.192268535646i","12.9726562261545+722.805179386265i","19.7849324718505+881.597038687437i","30.5443390920631+1076.46377285667i","49.4346941293531+1290.55914938011i","82.1001331190057+1536.43024820248i","145.260930815948+1807.24008856097i","250.634686210392+2080.07354333949i","414.424102280972+2395.93071312456i","1017.64173239834+3020.55892419144i","1966.13324711218+3505.12884913218i","3251.0536175433+3433.49350232601i","4519.11311424105+3004.6634175811i","5343.9851632008+1884.47699558632i","5705.43211105908+771.992050559399i","5676.10723671544-342.122325475182i","5324.3622789788-1249.32064214492i","4871.8821699101-1869.67682632891i","4376.44301166528-2307.59092838865i","3843.10744726514-2614.57160469538i","3347.60084076649-2782.1976297393i","2927.60605233592-2847.62530101528i","1992.6642453199-2773.16165086679i","1544.96841350189-2625.97566648943i","1216.02889924419-2450.14119671102i","975.468011398376-2275.33589693774i","794.5142965866-2115.27577976706i"]
["R",{"$f":"IMREAL(B25)","v":3.1871576422056802},4.1457752384265598,7.6437876604608501,8.9842446289897797,12.9726562261545,19.7849324718505,30.544339092063101,49.434694129353097,82.100133119005704,145.260930815948,250.634686210392,414.42410228097202,1017.64173239834,1966.13324711218,3251.0536175432999,4519.1131142410504,5343.9851632008003,5705.4321110590799,5676.1072367154402,5324.3622789787996,4871.8821699100999,4376.4430116652802,3843.1074472651399,3347.6008407664899,2927.6060523359201,1992.6642453198999,1544.9684135018899,1216.0288992441899,975.46801139837601,794.51429658660004]
["X",{"$f":"IMAGINARY(B25)","v":282.55106939300799},340.320991812025,515.74090571392696,574.19226853564601,722.80517938626497,881.59703868743702,1076.4637728566699,1290.5591493801101,1536.43024820248,1807.24008856097,2080.0735433394898,2395.93071312456,3020.5589241914399,3505.1288491321802,3433.49350232601,3004.6634175811,1884.4769955863201,771.99205055939899,-342.12232547518198,-1249.3206421449199,-1869.67682632891,-2307.5909283886499,-2614.5716046953798,-2782.1976297392998,-2847.62530101528,-2773.1616508667898,-2625.9756664894298,-2450.1411967110198,-2275.33589693774,-2115.2757797670602]
["|Z|",{"$f":"IMABS(B25)","v":282.56904428646942},340.34624270035351,515.79754683055637,574.26255136275859,722.92158437632281,881.81901894627674,1076.89702893238,1291.5055969806619,1538.6222211607671,1813.0685248283858,2095.1190161021118,2431.5080338433909,3187.3768070360375,4018.9063430762558,4728.4487154516446,5426.8209471342961,5666.518417106251,5757.4236686239256,5686.4084489492961,5468.9702636512575,5218.3261025351112,4947.5478094845594,4648.1673299596423,4352.8215033501529,4084.0968466303871,3414.8406019043623,3046.7483650136173,2735.30951952746,2475.6193740466188,2259.5673461859114]
[]
[]
[]
["Module","Version","Date"]
["CubicSpline",{"$f":"CubicSpline_version(\"v\")","v":"1.04"},{"$f":"CubicSpline_version(\"d\")","v":"2014-03-07"}]
[]
["Copyright: Owen Duffy 2010. All rights reserved."]

{"sheet":"FT240-52x2","index":1,"n_rows":35,"n_cols":31,"rows_kept":35,"cut":false,"hidden":false,"merged":[]}
["Calculate impedance of toroidal ferrite cored inductor"]
[]
["Reference:"]
["A method for estimating the impedance of a ferrite cored toroidal inductor at RF"]
[]
["Inputs:"]
["Al (nH for 1t)",{"$f":"2*340","v":680}]
["N",11]
["Cs (pF)",1.4]
[]
["Constants:"]
["Mix",{"$f":"Mix!B1","v":52}]
["µi",{"$f":"Mix!B2","v":250}]
[]
["Calculated values:"]
["2*pi*N^2*Al",{"$f":"2*PI()*$B$8^2*$B$7*0.000000001","v":5.1698048707473645E-4}]
[]
["f (MHz)",1,1.2,1.8,2,2.5,3,3.5,4,4.5,5,5.5,6,{"$f":"M18+1","v":7},8,9,10,11,12,13,14,15,16,17,18,19,22,24,26,28,30]
["µ''",{"$f":"csinterpolate(CSTableU2,'FT240-52x2'!B18*1000000)","v":3.0499000000000001},{"$f":"csinterpolate(CSTableU2,'FT240-52x2'!C18*1000000)","v":3.2904831190109389},{"$f":"csinterpolate(CSTableU2,'FT240-52x2'!D18*1000000)","v":3.967018516752479},{"$f":"csinterpolate(CSTableU2,'FT240-52x2'!E18*1000000)","v":4.1624213685595173},{"$f":"csinterpolate(CSTableU2,'FT240-52x2'!F18*1000000)","v":4.6934474029834936},{"$f":"csinterpolate(CSTableU2,'FT240-52x2'!G18*1000000)","v":5.7869745969032644},{"$f":"csinterpolate(CSTableU2,'FT240-52x2'!H18*1000000)","v":7.3580620226877942},{"$f":"csinterpolate(CSTableU2,'FT240-52x2'!I18*1000000)","v":9.926754908090583},{"$f":"csinterpolate(CSTableU2,'FT240-52x2'!J18*1000000)","v":13.81033892745144},{"$f":"csinterpolate(CSTableU2,'FT240-52x2'!K18*1000000)","v":20.511611514548019},{"$f":"csinterpolate(CSTableU2,'FT240-52x2'!L18*1000000)","v":29.809955391832062},{"$f":"csinterpolate(CSTableU2,'FT240-52x2'!M18*1000000)","v":41.297758756922754},{"$f":"csinterpolate(CSTableU2,'FT240-52x2'!N18*1000000)","v":71.227829783683418},{"$f":"csinterpolate(CSTableU2,'FT240-52x2'!O18*1000000)","v":98.042432892117944},{"$f":"csinterpolate(CSTableU2,'FT240-52x2'!P18*1000000)","v":124.39851411420072},{"$f":"csinterpolate(CSTableU2,'FT240-52x2'!Q18*1000000)","v":137.48080431574027},{"$f":"csinterpolate(CSTableU2,'FT240-52x2'!R18*1000000)","v":148.59943423102928},{"$f":"csinterpolate(CSTableU2,'FT240-52x2'!S18*1000000)","v":151.00249371940657},{"$f":"csinterpolate(CSTableU2,'FT240-52x2'!T18*1000000)","v":152.23128862750124},{"$f":"csinterpolate(CSTableU2,'FT240-52x2'!U18*1000000)","v":151.77044049308},{"$f":"csinterpolate(CSTableU2,'FT240-52x2'!V18*1000000)","v":148.19510684679508},{"$f":"csinterpolate(CSTableU2,'FT240-52x2'!W18*1000000)","v":144.19751813493576},{"$f":"csinterpolate(CSTableU2,'FT240-52x2'!X18*1000000)","v":141.70879370829715},{"$f":"csinterpolate(CSTableU2,'FT240-52x2'!Y18*1000000)","v":139.08719283420325},{"$f":"csinterpolate(CSTableU2,'FT240-52x2'!Z18*1000000)","v":135.50786137417444},{"$f":"csinterpolate(CSTableU2,'FT240-52x2'!AA18*1000000)","v":124.19703145370912},{"$f":"csinterpolate(CSTableU2,'FT240-52x2'!AB18*1000000)","v":118.85411849931367},{"$f":"csinterpolate(CSTableU2,'FT240-52x2'!AC18*1000000)","v":114.37628656816462},{"$f":"csinterpolate(CSTableU2,'FT240-52x2'!AD18*1000000)","v":110.32031789018907},{"$f":"csinterpolate(CSTableU2,'FT240-52x2'!AE18*1000000)","v":106.57469008666072}]
["µ'",{"$f":"csinterpolate(CSTableU1,'FT240-52x2'!B18*1000000)","v":271.82299999999998},{"$f":"csinterpolate(CSTableU1,'FT240-52x2'!C18*1000000)","v":272.19082946678634},{"$f":"csinterpolate(CSTableU1,'FT240-52x2'!D18*1000000)","v":272.34705648423068},{"$f":"csinterpolate(CSTableU1,'FT240-52x2'!E18*1000000)","v":271.78453117064919},{"$f":"csinterpolate(CSTableU1,'FT240-52x2'!F18*1000000)","v":270.41777375176463},{"$f":"csinterpolate(CSTableU1,'FT240-52x2'!G18*1000000)","v":270.72356701062466},{"$f":"csinterpolate(CSTableU1,'FT240-52x2'!H18*1000000)","v":277.74873858288925},{"$f":"csinterpolate(CSTableU1,'FT240-52x2'!I18*1000000)","v":284.40522241788904},{"$f":"csinterpolate(CSTableU1,'FT240-52x2'!J18*1000000)","v":292.22641370148841},{"$f":"csinterpolate(CSTableU1,'FT240-52x2'!K18*1000000)","v":298.93908294056735},{"$f":"csinterpolate(CSTableU1,'FT240-52x2'!L18*1000000)","v":301.5249441802431},{"$f":"csinterpolate(CSTableU1,'FT240-52x2'!M18*1000000)","v":305.38916179553797},{"$f":"csinterpolate(CSTableU1,'FT240-52x2'!N18*1000000)","v":305.24355321471819},{"$f":"csinterpolate(CSTableU1,'FT240-52x2'!O18*1000000)","v":296.23832150305083},{"$f":"csinterpolate(CSTableU1,'FT240-52x2'!P18*1000000)","v":276.51437232303493},{"$f":"csinterpolate(CSTableU1,'FT240-52x2'!Q18*1000000)","v":260.28916563413679},{"$f":"csinterpolate(CSTableU1,'FT240-52x2'!R18*1000000)","v":237.53203498823027},{"$f":"csinterpolate(CSTableU1,'FT240-52x2'!S18*1000000)","v":218.87421660185237},{"$f":"csinterpolate(CSTableU1,'FT240-52x2'!T18*1000000)","v":203.33172189960433},{"$f":"csinterpolate(CSTableU1,'FT240-52x2'!U18*1000000)","v":189.37650548986889},{"$f":"csinterpolate(CSTableU1,'FT240-52x2'!V18*1000000)","v":177.33002992245264},{"$f":"csinterpolate(CSTableU1,'FT240-52x2'!W18*1000000)","v":167.20965609439202},{"$f":"csinterpolate(CSTableU1,'FT240-52x2'!X18*1000000)","v":158.87810019508268},{"$f":"csinterpolate(CSTableU1,'FT240-52x2'!Y18*1000000)","v":151.50124323103856},{"$f":"csinterpolate(CSTableU1,'FT240-52x2'!Z18*1000000)","v":144.69637942438118},{"$f":"csinterpolate(CSTableU1,'FT240-52x2'!AA18*1000000)","v":128.55578016848358},{"$f":"csinterpolate(CSTableU1,'FT240-52x2'!AB18*1000000)","v":121.04195811736874},{"$f":"csinterpolate(CSTableU1,'FT240-52x2'!AC18*1000000)","v":114.435694181161},{"$f":"csinterpolate(CSTableU1,'FT240-52x2'!AD18*1000000)","v":108.49306247968192},{"$f":"csinterpolate(CSTableU1,'FT240-52x2'!AE18*1000000)","v":103.54101076773443}]
["Rl",{"$f":"B19/$B$13*$B$16*B18*1000000","v":6.3069551501169547},8.1653547147718708,14.766272388181404,17.215125012225524,24.264207244540636,35.901035349554114,53.255642837813582,82.1110173992992,128.51416341685871,212.08205822957612,339.0456356792011,512.40325049397325,1031.0551477756621,1621.9527907378974,2315.2177590527867,2842.9957271431176,3380.2123470626625,3747.1364521228147,4092.4314986183399,4393.8919499809481,4596.8387111849243,4771.0274022635031,4981.7263211980389,5177.1862582044623,5324.1739333514197,5650.254879647392,5898.7449669709076,6149.5520673401752,6387.7465878362873,6611.6442229009135]
["Xl",{"$f":"B20/$B$13*$B$16*B18*1000000","v":562.1087477524643},675.44326845607543,1013.7464201850361,1124.0583944318489,1398.0071238785315,1679.5056184291534,2010.2694941976602,2352.5112065951844,2719.3563664469802,3090.9134540857913,3429.4152751646657,3789.1257026976655,4418.5389028863101,4900.7818157071879,5146.291255922195,5382.576785192512,5403.1747943390201,5431.3775571324959,5466.1636965209191,5482.6216507251793,5500.5699145372291,5532.4242848817894,5585.3076784566583,5639.2694292967508,5685.1955581703269,5848.5530266042333,6007.3277245437248,6152.7461753172684,6281.9451839172862,6423.4418614696651]
["Yl",{"$f":"IMDIV(1,COMPLEX(B21,B22))","v":"0.0000199583384852523-0.00177879125285312i"},"0.0000178950879260653-0.0014802929083073i","0.0000143654777533586-0.000986230733382038i","0.000013621677087023-0.000889424878706055i","0.000012411278768056-0.000715088523573692i","0.0000127217147613866-0.000595141371544516i","0.0000131689873117816-0.000497096871837091i","0.0000148186714920845-0.000424560453105272i","0.000017340030816393-0.000366914602571808i","0.0000220948160395112-0.000322012926186095i","0.0000285491893674193-0.000288772412345205i","0.0000350480283961516-0.000259173580762243i","0.0000500838950270796-0.000214632203779439i","0.0000608649375172311-0.000183905339725022i","0.0000727037430229686-0.000161606671998315i","0.0000767241756493239-0.000145260072947093i","0.0000832151956844082-0.000133017160362337i","0.0000860601638741639-0.000124741985940884i","0.000087769675634087-0.000117231874197146i","0.0000890074744544819-0.000111061972409819i","0.0000894549442628005-0.000107041644493924i","0.0000893945994454294-0.000103660870334666i","0.0000889383408487184-0.0000997140280343785i","0.000088340927750892-0.000096225684836399i","0.0000877587798944983-0.0000937095278802414i","0.00008544039739495-0.0000884389652188022i","0.0000832178393452442-0.0000847496944306824i","0.0000812645147942993-0.0000813067239880936i","0.0000795820809053618-0.0000782639484824795i","0.0000778074425547904-0.0000755926312412875i"]
["Yc",{"$f":"COMPLEX(0,2*PI()*B18*1000000*$B$9*0.000000000001)","v":"8.79645943005142E-06i"},"0.0000105557513160617i","0.0000158336269740926i","0.0000175929188601028i","0.0000219911485751286i","0.0000263893782901543i","0.00003078760800518i","0.0000351858377202057i","0.0000395840674352314i","0.0000439822971502571i","0.0000483805268652828i","0.0000527787565803085i","0.0000615752160103599i","0.0000703716754404114i","0.0000791681348704628i","0.0000879645943005142i","0.0000967610537305656i","0.000105557513160617i","0.000114353972590668i","0.00012315043202072i","0.000131946891450771i","0.000140743350880823i","0.000149539810310874i","0.000158336269740926i","0.000167132729170977i","0.000193522107461131i","0.000211115026321234i","0.000228707945181337i","0.00024630086404144i","0.000263893782901543i"]
["Z",{"$f":"IMDIV(1,IMSUM(B23,B24))","v":"6.36979111238883+564.901587998008i"},"8.28304670901776+680.292914549214i","15.2519693225599+1030.28017249023i","17.9167405477623+1146.73009248532i","25.8278814206722+1442.3362128096i","39.3081459396941+1757.35636065288i","60.5143064163592+2142.79055847109i","97.5990141806386+2564.50644910018i","161.383745631967+3046.46677848554i","284.03445145333+3574.15409407344i","487.159974756031+4102.01856714013i","799.686911266864+4709.2874265544i","1931.14354283585+5901.59797787991i","3667.79241681661+6841.67157484733i","6017.55206417249+6823.28266241184i","8367.44152125242+6248.57240824117i","10099.8213033628+4400.40061343228i","11069.6915962368+2467.64806797806i","11381.2203669789+373.181650053724i","11031.5301063192-1498.23604089424i","10374.6449481542-2888.41602499139i","9544.07237357979-3959.05211634664i","8557.82227363422-4794.33487625249i","7575.21071987615-5325.96589785984i","6702.94528279283-5608.00527686163i","4658.04909997433-5728.93445101515i","3635.01349464411-5519.72618240765i","2868.39137755248-5202.81691192801i","2302.07528321326-4860.81320788402i","1874.36677798123-4536.13962030752i"]
["R",{"$f":"IMREAL(B25)","v":6.36979111238883},8.2830467090177606,15.2519693225599,17.916740547762299,25.827881420672199,39.3081459396941,60.514306416359197,97.599014180638605,161.383745631967,284.03445145333001,487.15997475603098,799.68691126686394,1931.14354283585,3667.7924168166101,6017.5520641724897,8367.44152125242,10099.8213033628,11069.6915962368,11381.2203669789,11031.5301063192,10374.6449481542,9544.0723735797892,8557.8222736342195,7575.2107198761496,6702.9452827928299,4658.0490999743297,3635.0134946441099,2868.3913775524802,2302.0752832132598,1874.3667779812299]
["X",{"$f":"IMAGINARY(B25)","v":564.90158799800804},680.29291454921395,1030.2801724902299,1146.73009248532,1442.3362128096001,1757.3563606528801,2142.7905584710902,2564.5064491001799,3046.4667784855401,3574.1540940734399,4102.0185671401296,4709.2874265543996,5901.5979778799101,6841.6715748473298,6823.2826624118397,6248.5724082411698,4400.4006134322799,2467.6480679780602,373.18165005372401,-1498.23604089424,-2888.4160249913898,-3959.0521163466401,-4794.3348762524902,-5325.96589785984,-5608.0052768616297,-5728.9344510151504,-5519.7261824076504,-5202.8169119280101,-4860.8132078840199,-4536.1396203075201]
["|Z|",{"$f":"IMABS(B25)","v":564.93749951785514},680.34333865236601,1030.3930591743685,1146.8700513149895,1442.5674439140166,1757.795923497478,2143.6448770152906,2566.3629702451376,3050.7383607530601,3585.4222983902928,4130.8450910396841,4776.7025469412374,6209.5228540969911,7762.8069118670837,9097.6985626144269,10443.119014576625,11016.80152850891,11341.400223217215,11387.3368961172,11132.805923075339,10769.22489939218,10332.638149672995,9809.2797377157585,9260.1150206513357,8739.5193603208263,7383.6380844269397,6609.1376317187796,5941.1255595098746,5378.3878301514424,4908.1374749820725]
[]
[]
[]
["Module","Version","Date"]
["CubicSpline",{"$f":"CubicSpline_version(\"v\")","v":"1.04"},{"$f":"CubicSpline_version(\"d\")","v":"2014-03-07"}]
[]
["Copyright: Owen Duffy 2010. All rights reserved."]

{"sheet":"FT150-52 (2)","index":2,"n_rows":35,"n_cols":31,"rows_kept":35,"cut":false,"hidden":false,"merged":[]}
["Calculate impedance of toroidal ferrite cored inductor"]
[]
["Reference:"]
["A method for estimating the impedance of a ferrite cored toroidal inductor at RF"]
[]
["Inputs:"]
["Al (nH for 1t)",510]
["N",11]
["Cs (pF)",4]
[]
["Constants:"]
["Mix",{"$f":"Mix!B1","v":52}]
["µi",{"$f":"Mix!B2","v":250}]
[]
["Calculated values:"]
["2*pi*N^2*Al",{"$f":"2*PI()*$B$8^2*$B$7*0.000000001","v":3.8773536530605228E-4}]
[]
["f (MHz)",1,1.2,1.8,2,2.5,3,3.5,4,4.5,5,5.5,6,{"$f":"M18+1","v":7},8,9,10,11,12,13,14,15,16,17,18,19,22,24,26,28,30]
["µ''",{"$f":"csinterpolate(CSTableU2,'FT150-52 (2)'!B18*1000000)","v":3.0499000000000001},{"$f":"csinterpolate(CSTableU2,'FT150-52 (2)'!C18*1000000)","v":3.2904831190109389},{"$f":"csinterpolate(CSTableU2,'FT150-52 (2)'!D18*1000000)","v":3.967018516752479},{"$f":"csinterpolate(CSTableU2,'FT150-52 (2)'!E18*1000000)","v":4.1624213685595173},{"$f":"csinterpolate(CSTableU2,'FT150-52 (2)'!F18*1000000)","v":4.6934474029834936},{"$f":"csinterpolate(CSTableU2,'FT150-52 (2)'!G18*1000000)","v":5.7869745969032644},{"$f":"csinterpolate(CSTableU2,'FT150-52 (2)'!H18*1000000)","v":7.3580620226877942},{"$f":"csinterpolate(CSTableU2,'FT150-52 (2)'!I18*1000000)","v":9.926754908090583},{"$f":"csinterpolate(CSTableU2,'FT150-52 (2)'!J18*1000000)","v":13.81033892745144},{"$f":"csinterpolate(CSTableU2,'FT150-52 (2)'!K18*1000000)","v":20.511611514548019},{"$f":"csinterpolate(CSTableU2,'FT150-52 (2)'!L18*1000000)","v":29.809955391832062},{"$f":"csinterpolate(CSTableU2,'FT150-52 (2)'!M18*1000000)","v":41.297758756922754},{"$f":"csinterpolate(CSTableU2,'FT150-52 (2)'!N18*1000000)","v":71.227829783683418},{"$f":"csinterpolate(CSTableU2,'FT150-52 (2)'!O18*1000000)","v":98.042432892117944},{"$f":"csinterpolate(CSTableU2,'FT150-52 (2)'!P18*1000000)","v":124.39851411420072},{"$f":"csinterpolate(CSTableU2,'FT150-52 (2)'!Q18*1000000)","v":137.48080431574027},{"$f":"csinterpolate(CSTableU2,'FT150-52 (2)'!R18*1000000)","v":148.59943423102928},{"$f":"csinterpolate(CSTableU2,'FT150-52 (2)'!S18*1000000)","v":151.00249371940657},{"$f":"csinterpolate(CSTableU2,'FT150-52 (2)'!T18*1000000)","v":152.23128862750124},{"$f":"csinterpolate(CSTableU2,'FT150-52 (2)'!U18*1000000)","v":151.77044049308},{"$f":"csinterpolate(CSTableU2,'FT150-52 (2)'!V18*1000000)","v":148.19510684679508},{"$f":"csinterpolate(CSTableU2,'FT150-52 (2)'!W18*1000000)","v":144.19751813493576},{"$f":"csinterpolate(CSTableU2,'FT150-52 (2)'!X18*1000000)","v":141.70879370829715},{"$f":"csinterpolate(CSTableU2,'FT150-52 (2)'!Y18*1000000)","v":139.08719283420325},{"$f":"csinterpolate(CSTableU2,'FT150-52 (2)'!Z18*1000000)","v":135.50786137417444},{"$f":"csinterpolate(CSTableU2,'FT150-52 (2)'!AA18*1000000)","v":124.19703145370912},{"$f":"csinterpolate(CSTableU2,'FT150-52 (2)'!AB18*1000000)","v":118.85411849931367},{"$f":"csinterpolate(CSTableU2,'FT150-52 (2)'!AC18*1000000)","v":114.37628656816462},{"$f":"csinterpolate(CSTableU2,'FT150-52 (2)'!AD18*1000000)","v":110.32031789018907},{"$f":"csinterpolate(CSTableU2,'FT150-52 (2)'!AE18*1000000)","v":106.57469008666072}]
["µ'",{"$f":"csinterpolate(CSTableU1,'FT150-52 (2)'!B18*1000000)","v":271.82299999999998},{"$f":"csinterpolate(CSTableU1,'FT150-52 (2)'!C18*1000000)","v":272.19082946678634},{"$f":"csinterpolate(CSTableU1,'FT150-52 (2)'!D18*1000000)","v":272.34705648423068},{"$f":"csinterpolate(CSTableU1,'FT150-52 (2)'!E18*1000000)","v":271.78453117064919},{"$f":"csinterpolate(CSTableU1,'FT150-52 (2)'!F18*1000000)","v":270.41777375176463},{"$f":"csinterpolate(CSTableU1,'FT150-52 (2)'!G18*1000000)","v":270.72356701062466},{"$f":"csinterpolate(CSTableU1,'FT150-52 (2)'!H18*1000000)","v":277.74873858288925},{"$f":"csinterpolate(CSTableU1,'FT150-52 (2)'!I18*1000000)","v":284.40522241788904},{"$f":"csinterpolate(CSTableU1,'FT150-52 (2)'!J18*1000000)","v":292.22641370148841},{"$f":"csinterpolate(CSTableU1,'FT150-52 (2)'!K18*1000000)","v":298.93908294056735},{"$f":"csinterpolate(CSTableU1,'FT150-52 (2)'!L18*1000000)","v":301.5249441802431},{"$f":"csinterpolate(CSTableU1,'FT150-52 (2)'!M18*1000000)","v":305.38916179553797},{"$f":"csinterpolate(CSTableU1,'FT150-52 (2)'!N18*1000000)","v":305.24355321471819},{"$f":"csinterpolate(CSTableU1,'FT150-52 (2)'!O18*1000000)","v":296.23832150305083},{"$f":"csinterpolate(CSTableU1,'FT150-52 (2)'!P18*1000000)","v":276.51437232303493},{"$f":"csinterpolate(CSTableU1,'FT150-52 (2)'!Q18*1000000)","v":260.28916563413679},{"$f":"csinterpolate(CSTableU1,'FT150-52 (2)'!R18*1000000)","v":237.53203498823027},{"$f":"csinterpolate(CSTableU1,'FT150-52 (2)'!S18*1000000)","v":218.87421660185237},{"$f":"csinterpolate(CSTableU1,'FT150-52 (2)'!T18*1000000)","v":203.33172189960433},{"$f":"csinterpolate(CSTableU1,'FT150-52 (2)'!U18*1000000)","v":189.37650548986889},{"$f":"csinterpolate(CSTableU1,'FT150-52 (2)'!V18*1000000)","v":177.33002992245264},{"$f":"csinterpolate(CSTableU1,'FT150-52 (2)'!W18*1000000)","v":167.20965609439202},{"$f":"csinterpolate(CSTableU1,'FT150-52 (2)'!X18*1000000)","v":158.87810019508268},{"$f":"csinterpolate(CSTableU1,'FT150-52 (2)'!Y18*1000000)","v":151.50124323103856},{"$f":"csinterpolate(CSTableU1,'FT150-52 (2)'!Z18*1000000)","v":144.69637942438118},{"$f":"csinterpolate(CSTableU1,'FT150-52 (2)'!AA18*1000000)","v":128.55578016848358},{"$f":"csinterpolate(CSTableU1,'FT150-52 (2)'!AB18*1000000)","v":121.04195811736874},{"$f":"csinterpolate(CSTableU1,'FT150-52 (2)'!AC18*1000000)","v":114.435694181161},{"$f":"csinterpolate(CSTableU1,'FT150-52 (2)'!AD18*1000000)","v":108.49306247968192},{"$f":"csinterpolate(CSTableU1,'FT150-52 (2)'!AE18*1000000)","v":103.54101076773443}]
["Rl",{"$f":"B19/$B$13*$B$16*B18*1000000","v":4.7302163625877158},6.1240160360789035,11.074704291136051,12.91134375916914,18.198155433405471,26.92577651216558,39.941732128360186,61.583263049474397,96.385622562644002,159.06154367218207,254.28422675940078,384.30243787047988,773.29136083174637,1216.464593053423,1736.4133192895897,2132.2467953573378,2535.1592602969968,2810.3523390921105,3069.3236239637545,3295.4189624857113,3447.6290333886923,3578.2705516976266,3736.2947408985287,3882.8896936533456,3993.1304500135639,4237.6911597355429,4424.0587252281803,4612.1640505051309,4790.809940877215,4958.7331671756847]
["Xl",{"$f":"B20/$B$13*$B$16*B18*1000000","v":421.58156081434817},506.58245134205663,760.30981513877691,843.04379582388663,1048.5053429088985,1259.6292138218651,1507.7021206482448,1764.3834049463878,2039.5172748352347,2318.1850905643428,2572.0614563734989,2841.8442770232487,3313.904177164733,3675.5863617803898,3859.7184419416453,4036.9325888943831,4052.3810957542646,4073.5331678493712,4099.6227723906886,4111.9662380438849,4125.4274359029214,4149.3182136613414,4188.9807588424937,4229.4520719725624,4263.8966686277436,4386.4147699531741,4505.4957934077938,4614.5596314879504,4711.4588879379644,4817.5813961022477]
["Yl",{"$f":"IMDIV(1,COMPLEX(B21,B22))","v":"0.0000266111179803364-0.00237172167047082i"},"0.0000238601172347536-0.00197372387774306i","0.0000191539703378117-0.00131497431117606i","0.0000181622361160307-0.00118589983827474i","0.0000165483716907413-0.000953451364764921i","0.0000169622863485152-0.000793521828726016i","0.0000175586497490422-0.000662795829116124i","0.0000197582286561126-0.000566080604140361i","0.0000231200410885241-0.000489219470095745i","0.0000294597547193483-0.000429350568248128i","0.0000380655858232258-0.000385029883126941i","0.0000467307045282022-0.000345564774349658i","0.0000667785267027729-0.000286176271705919i","0.0000811532500229746-0.000245207119633363i","0.0000969383240306245-0.000215475562664419i","0.000102298900865765-0.000193680097262791i","0.000110953594245878-0.000177356213816449i","0.000114746885165552-0.000166322647921179i","0.000117026234178783-0.000156309165596195i","0.000118676632605976-0.000148082629879759i","0.000119273259017067-0.000142722192658566i","0.000119192799260573-0.000138214493779554i","0.000118584454464958-0.000132952037379171i","0.000117787903667856-0.000128300913115199i","0.000117011706525998-0.000124946037173655i","0.000113920529859933-0.000117918620291736i","0.000110957119126992-0.000112999592574243i","0.000108352686392399-0.000108408965317458i","0.000106109441207149-0.000104351931309973i","0.000103743256739721-0.000100790174988383i"]
["Yc",{"$f":"COMPLEX(0,2*PI()*B18*1000000*$B$9*0.000000000001)","v":"0.0000251327412287183i"},"0.000030159289474462i","0.000045238934211693i","0.0000502654824574367i","0.0000628318530717959i","0.000075398223686155i","0.0000879645943005142i","0.000100530964914873i","0.000113097335529233i","0.000125663706143592i","0.000138230076757951i","0.00015079644737231i","0.000175929188601028i","0.000201061929829747i","0.000226194671058465i","0.000251327412287183i","0.000276460153515902i","0.00030159289474462i","0.000326725635973338i","0.000351858377202057i","0.000376991118430775i","0.000402123859659493i","0.000427256600888212i","0.00045238934211693i","0.000477522083345648i","0.000552920307031803i","0.00060318578948924i","0.000653451271946677i","0.000703716754404114i","0.00075398223686155i"]
["Z",{"$f":"IMDIV(1,IMSUM(B23,B24))","v":"4.8320702265641+426.095683291257i"},"6.31552079697937+514.441000298369i","11.8777329016149+787.386499891447i","14.0793045698537+880.339946766185i","20.8555162379375+1122.42642569674i","32.8733340163848+1391.74145798996i","53.0891011559378+1738.01938126724i","90.9985488920473+2144.13661994084i","162.814443086152+2648.70272666676i","316.45310438482+3262.16735982353i","610.425190997127+3957.71707390678i","1164.81800644781+4854.83060098128i","4019.46352019229+6635.87758861587i","9508.68180973727+5172.46768495664i","10191.2275430905-1126.91109316335i","7419.2658800933-4180.89298926763i","5013.19969751486-4477.79852379398i","3646.82332909455-4299.08568878694i","2738.29404938585-3987.57090686316i","2134.1379349626-3664.45814172832i","1725.89555703436-3389.89394163878i","1421.41422817317-3147.20796840946i","1177.86510991253-2923.2421619629i","990.58597415948-2725.55535975725i","847.901038203363-2554.8691192573i","563.393058921858-2151.29732305476i","439.270622223925-1940.6091057392i","350.870075204372-1764.96810078143i","286.397259111577-1617.73015284235i","237.169438952104-1493.27483742963i"]
["R",{"$f":"IMREAL(B25)","v":4.8320702265640998},6.3155207969793699,11.8777329016149,14.079304569853701,20.855516237937501,32.873334016384803,53.089101155937797,90.998548892047296,162.81444308615201,316.45310438481999,610.42519099712695,1164.8180064478099,4019.4635201922902,9508.6818097372707,10191.227543090499,7419.2658800933004,5013.1996975148604,3646.82332909455,2738.29404938585,2134.1379349626,1725.8955570343601,1421.4142281731699,1177.86510991253,990.58597415947997,847.90103820336299,563.39305892185803,439.27062222392499,350.87007520437197,286.397259111577,237.169438952104]
["X",{"$f":"IMAGINARY(B25)","v":426.09568329125699},514.44100029836898,787.38649989144699,880.33994676618499,1122.4264256967399,1391.7414579899601,1738.0193812672401,2144.1366199408399,2648.7027266667601,3262.1673598235302,3957.7170739067801,4854.8306009812804,6635.8775886158701,5172.4676849566404,-1126.91109316335,-4180.8929892676297,-4477.7985237939802,-4299.0856887869404,-3987.57090686316,-3664.4581417283198,-3389.8939416387798,-3147.2079684094601,-2923.2421619628999,-2725.5553597572498,-2554.8691192573001,-2151.29732305476,-1940.6091057392,-1764.9681007814299,-1617.73015284235,-1493.27483742963]
["|Z|",{"$f":"IMABS(B25)","v":426.12308107179274},514.47976499656772,787.47608265279143,880.45252494922181,1122.620164463435,1392.129642661693,1738.8300153615089,2146.0667699006449,2653.7020701520705,3277.4805034924029,4004.5153702910325,4992.6126579546817,7758.2832096573384,10824.483900433737,10253.343232670066,8516.1829705111322,6721.819011759736,5637.5046033826829,4837.2488087923948,4240.6129507331125,3803.9579925848611,3453.3080378780473,3151.6203696871207,2899.984929495834,2691.8938290952178,2223.8461976998101,1989.7040937855288,1799.5061006981693,1642.8859477888161,1511.991760186987]
[]
[]
[]
["Module","Version","Date"]
["CubicSpline",{"$f":"CubicSpline_version(\"v\")","v":"1.04"},{"$f":"CubicSpline_version(\"d\")","v":"2014-03-07"}]
[]
["Copyright: Owen Duffy 2010. All rights reserved."]

{"sheet":"FT94-52","index":3,"n_rows":35,"n_cols":31,"rows_kept":35,"cut":false,"hidden":false,"merged":[]}
["Calculate impedance of toroidal ferrite cored inductor"]
[]
["Reference:"]
["A method for estimating the impedance of a ferrite cored toroidal inductor at RF"]
[]
["Inputs:"]
["Al (nH for 1t)",180]
["N",11]
["Cs (pF)",4]
[]
["Constants:"]
["Mix",{"$f":"Mix!B1","v":52}]
["µi",{"$f":"Mix!B2","v":250}]
[]
["Calculated values:"]
["2*pi*N^2*Al",{"$f":"2*PI()*$B$8^2*$B$7*0.000000001","v":1.3684777599037141E-4}]
[]
["f (MHz)",1,1.2,1.8,2,2.5,3,3.5,4,4.5,5,5.5,6,{"$f":"M18+1","v":7},8,9,10,11,12,13,14,15,16,17,18,19,22,24,26,28,30]
["µ''",{"$f":"csinterpolate(CSTableU2,'FT94-52'!B18*1000000)","v":3.0499000000000001},{"$f":"csinterpolate(CSTableU2,'FT94-52'!C18*1000000)","v":3.2904831190109389},{"$f":"csinterpolate(CSTableU2,'FT94-52'!D18*1000000)","v":3.967018516752479},{"$f":"csinterpolate(CSTableU2,'FT94-52'!E18*1000000)","v":4.1624213685595173},{"$f":"csinterpolate(CSTableU2,'FT94-52'!F18*1000000)","v":4.6934474029834936},{"$f":"csinterpolate(CSTableU2,'FT94-52'!G18*1000000)","v":5.7869745969032644},{"$f":"csinterpolate(CSTableU2,'FT94-52'!H18*1000000)","v":7.3580620226877942},{"$f":"csinterpolate(CSTableU2,'FT94-52'!I18*1000000)","v":9.926754908090583},{"$f":"csinterpolate(CSTableU2,'FT94-52'!J18*1000000)","v":13.81033892745144},{"$f":"csinterpolate(CSTableU2,'FT94-52'!K18*1000000)","v":20.511611514548019},{"$f":"csinterpolate(CSTableU2,'FT94-52'!L18*1000000)","v":29.809955391832062},{"$f":"csinterpolate(CSTableU2,'FT94-52'!M18*1000000)","v":41.297758756922754},{"$f":"csinterpolate(CSTableU2,'FT94-52'!N18*1000000)","v":71.227829783683418},{"$f":"csinterpolate(CSTableU2,'FT94-52'!O18*1000000)","v":98.042432892117944},{"$f":"csinterpolate(CSTableU2,'FT94-52'!P18*1000000)","v":124.39851411420072},{"$f":"csinterpolate(CSTableU2,'FT94-52'!Q18*1000000)","v":137.48080431574027},{"$f":"csinterpolate(CSTableU2,'FT94-52'!R18*1000000)","v":148.59943423102928},{"$f":"csinterpolate(CSTableU2,'FT94-52'!S18*1000000)","v":151.00249371940657},{"$f":"csinterpolate(CSTableU2,'FT94-52'!T18*1000000)","v":152.23128862750124},{"$f":"csinterpolate(CSTableU2,'FT94-52'!U18*1000000)","v":151.77044049308},{"$f":"csinterpolate(CSTableU2,'FT94-52'!V18*1000000)","v":148.19510684679508},{"$f":"csinterpolate(CSTableU2,'FT94-52'!W18*1000000)","v":144.19751813493576},{"$f":"csinterpolate(CSTableU2,'FT94-52'!X18*1000000)","v":141.70879370829715},{"$f":"csinterpolate(CSTableU2,'FT94-52'!Y18*1000000)","v":139.08719283420325},{"$f":"csinterpolate(CSTableU2,'FT94-52'!Z18*1000000)","v":135.50786137417444},{"$f":"csinterpolate(CSTableU2,'FT94-52'!AA18*1000000)","v":124.19703145370912},{"$f":"csinterpolate(CSTableU2,'FT94-52'!AB18*1000000)","v":118.85411849931367},{"$f":"csinterpolate(CSTableU2,'FT94-52'!AC18*1000000)","v":114.37628656816462},{"$f":"csinterpolate(CSTableU2,'FT94-52'!AD18*1000000)","v":110.32031789018907},{"$f":"csinterpolate(CSTableU2,'FT94-52'!AE18*1000000)","v":106.57469008666072}]
["µ'",{"$f":"csinterpolate(CSTableU1,'FT94-52'!B18*1000000)","v":271.82299999999998},{"$f":"csinterpolate(CSTableU1,'FT94-52'!C18*1000000)","v":272.19082946678634},{"$f":"csinterpolate(CSTableU1,'FT94-52'!D18*1000000)","v":272.34705648423068},{"$f":"csinterpolate(CSTableU1,'FT94-52'!E18*1000000)","v":271.78453117064919},{"$f":"csinterpolate(CSTableU1,'FT94-52'!F18*1000000)","v":270.41777375176463},{"$f":"csinterpolate(CSTableU1,'FT94-52'!G18*1000000)","v":270.72356701062466},{"$f":"csinterpolate(CSTableU1,'FT94-52'!H18*1000000)","v":277.74873858288925},{"$f":"csinterpolate(CSTableU1,'FT94-52'!I18*1000000)","v":284.40522241788904},{"$f":"csinterpolate(CSTableU1,'FT94-52'!J18*1000000)","v":292.22641370148841},{"$f":"csinterpolate(CSTableU1,'FT94-52'!K18*1000000)","v":298.93908294056735},{"$f":"csinterpolate(CSTableU1,'FT94-52'!L18*1000000)","v":301.5249441802431},{"$f":"csinterpolate(CSTableU1,'FT94-52'!M18*1000000)","v":305.38916179553797},{"$f":"csinterpolate(CSTableU1,'FT94-52'!N18*1000000)","v":305.24355321471819},{"$f":"csinterpolate(CSTableU1,'FT94-52'!O18*1000000)","v":296.23832150305083},{"$f":"csinterpolate(CSTableU1,'FT94-52'!P18*1000000)","v":276.51437232303493},{"$f":"csinterpolate(CSTableU1,'FT94-52'!Q18*1000000)","v":260.28916563413679},{"$f":"csinterpolate(CSTableU1,'FT94-52'!R18*1000000)","v":237.53203498823027},{"$f":"csinterpolate(CSTableU1,'FT94-52'!S18*1000000)","v":218.87421660185237},{"$f":"csinterpolate(CSTableU1,'FT94-52'!T18*1000000)","v":203.33172189960433},{"$f":"csinterpolate(CSTableU1,'FT94-52'!U18*1000000)","v":189.37650548986889},{"$f":"csinterpolate(CSTableU1,'FT94-52'!V18*1000000)","v":177.33002992245264},{"$f":"csinterpolate(CSTableU1,'FT94-52'!W18*1000000)","v":167.20965609439202},{"$f":"csinterpolate(CSTableU1,'FT94-52'!X18*1000000)","v":158.87810019508268},{"$f":"csinterpolate(CSTableU1,'FT94-52'!Y18*1000000)","v":151.50124323103856},{"$f":"csinterpolate(CSTableU1,'FT94-52'!Z18*1000000)","v":144.69637942438118},{"$f":"csinterpolate(CSTableU1,'FT94-52'!AA18*1000000)","v":128.55578016848358},{"$f":"csinterpolate(CSTableU1,'FT94-52'!AB18*1000000)","v":121.04195811736874},{"$f":"csinterpolate(CSTableU1,'FT94-52'!AC18*1000000)","v":114.435694181161},{"$f":"csinterpolate(CSTableU1,'FT94-52'!AD18*1000000)","v":108.49306247968192},{"$f":"csinterpolate(CSTableU1,'FT94-52'!AE18*1000000)","v":103.54101076773443}]
["Rl",{"$f":"B19/$B$13*$B$16*B18*1000000","v":1.669488127972135},2.1614174244984365,3.9087191615774297,4.5569448561773447,6.4228783882607559,9.5032152395878526,14.097081927656538,21.735269311579199,34.018455022109656,56.139368354887793,89.747374150376771,135.63615454252235,272.92636264649877,429.34044460709049,612.8517597492671,752.55769247906051,894.76209186952826,991.88906085603912,1083.2906908107368,1163.0890455831923,1216.8102470783622,1262.9190182462214,1318.6922614935984,1370.4316565835338,1409.3401588283168,1495.655703436074,1561.4324912570048,1627.8226060606346,1690.8740967801937,1750.1411178267122]
["Xl",{"$f":"B20/$B$13*$B$16*B18*1000000","v":148.7934920521229},178.79380635601996,268.34464063721543,297.54486911431297,370.06070926196418,444.57501664301117,532.13016022879231,622.72355468696048,719.82962641243591,818.18297314035635,907.78639636711728,1003.0038624787938,1169.6132389993174,1297.26577474602,1362.2535677441103,1424.7997372568411,1430.2521514426815,1437.7175886527193,1446.9256843731846,1451.2822016625475,1456.0332126716196,1464.4652518804735,1478.4637972385274,1492.7477901079635,1504.9047065744983,1548.1463893952382,1590.1749859086331,1628.6681052310416,1662.8678428016347,1700.3228456831469]
["Yl",{"$f":"IMDIV(1,COMPLEX(B21,B22))","v":"0.0000753981676109526-0.00671987806633399i"},"0.0000676036654984688-0.00559221765360535i","0.0000542695826237996-0.00372576054833216i","0.0000514596689954205-0.00336004954177843i","0.0000468870531237671-0.00270144553350061i","0.0000480598113207935-0.00224831184805706i","0.0000497495076222858-0.00187792151582901i","0.0000559816478589858-0.00160389504506436i","0.0000655067830841513-0.00138612183193794i","0.0000834693050381535-0.00121649327670303i","0.000107852493165807-0.001090918002193i","0.000132403662829907-0.000979100193990702i","0.000189205825657856-0.000810832769833435i","0.000229934208398428-0.00069475350562786i","0.000274658584753437-0.000610514094215856i","0.000289846885786335-0.000548760275577908i","0.000314368517029987-0.000502509272479938i","0.000325116174635731-0.000471247502443341i","0.000331574330173219-0.000442875969189218i","0.000336250459050264-0.000419567451325984i","0.000337940900548357-0.000404379545865936i","0.00033771293123829-0.000391607732375404i","0.000335989287650713-0.000376697439240985i","0.000333732393725593-0.000363519253826397i","0.000331533168490327-0.000354013771992022i","0.000322774834603144-0.000334102757493253i","0.000314378504193145-0.00032016551229369i","0.000306999278111798-0.000307158735066133i","0.00030064341675359-0.000295663805378257i","0.000293939227429208-0.000285572162467086i"]
["Yc",{"$f":"COMPLEX(0,2*PI()*B18*1000000*$B$9*0.000000000001)","v":"0.0000251327412287183i"},"0.000030159289474462i","0.000045238934211693i","0.0000502654824574367i","0.0000628318530717959i","0.000075398223686155i","0.0000879645943005142i","0.000100530964914873i","0.000113097335529233i","0.000125663706143592i","0.000138230076757951i","0.00015079644737231i","0.000175929188601028i","0.000201061929829747i","0.000226194671058465i","0.000251327412287183i","0.000276460153515902i","0.00030159289474462i","0.000326725635973338i","0.000351858377202057i","0.000376991118430775i","0.000402123859659493i","0.000427256600888212i","0.00045238934211693i","0.000477522083345648i","0.000552920307031803i","0.00060318578948924i","0.000653451271946677i","0.000703716754404114i","0.00075398223686155i"]
["Z",{"$f":"IMDIV(1,IMSUM(B23,B24))","v":"1.6820449134842+149.351936233655i"},"2.1849173185337+179.762998897745i","4.00537629885859+271.641559192127i","4.69637424946282+302.061496525772i","6.73231158952258+378.867262443055i","10.1738360348366+459.986552686433i","15.5155891293518+558.241427523894i","24.7352068884056+664.253786254461i","40.314781406319+783.45633660071i","69.7392927320873+911.397102291542i","117.327071453312+1036.37923444557i","188.175537665171+1177.20688037329i","431.089590573596+1446.57451183414i","775.230432173356+1664.4967111772i","1230.88695216525+1722.33379798695i","1680.49074899676+1724.4731605505i","2096.82778210382+1507.74027005595i","2417.5223625974+1261.53000074169i","2686.28198564181+941.003326708409i","2858.08441753819+575.51817245432i","2939.78788573683+238.255171400146i","2958.22633377542-92.1169484006986i","2910.3832962314-437.950092273547i","2798.00314508954-745.084358654596i","2648.69395954067-986.736017168558i","2122.61494763724-1438.97649897937i","1756.94915363525-1581.69922513162i","1433.4569121404-1616.92702884233i","1170.30292320874-1588.4118276247i","961.187969524973-1531.71161348544i"]
["R",{"$f":"IMREAL(B25)","v":1.6820449134841999},2.1849173185336999,4.0053762988585904,4.6963742494628198,6.7323115895225802,10.173836034836601,15.515589129351801,24.7352068884056,40.314781406319,69.739292732087307,117.327071453312,188.17553766517099,431.08959057359601,775.23043217335601,1230.88695216525,1680.49074899676,2096.82778210382,2417.5223625973999,2686.28198564181,2858.0844175381899,2939.78788573683,2958.2263337754198,2910.3832962314,2798.0031450895399,2648.6939595406702,2122.6149476372402,1756.94915363525,1433.4569121403999,1170.3029232087399,961.18796952497303]
["X",{"$f":"IMAGINARY(B25)","v":149.35193623365501},179.76299889774501,271.64155919212698,302.06149652577199,378.86726244305498,459.98655268643301,558.241427523894,664.25378625446103,783.45633660070996,911.39710229154196,1036.3792344455701,1177.20688037329,1446.5745118341399,1664.4967111772,1722.33379798695,1724.4731605505001,1507.7402700559501,1261.5300007416899,941.00332670840896,575.51817245432005,238.255171400146,-92.116948400698604,-437.950092273547,-745.08435865459603,-986.73601716855796,-1438.97649897937,-1581.6992251316201,-1616.9270288423299,-1588.4118276247,-1531.71161348544]
["|Z|",{"$f":"IMABS(B25)","v":149.36140777266641},179.77627662291681,271.67108738256496,302.09800332752945,378.92707289191299,460.09904976212721,558.45700363586263,664.71416640026519,784.49290179047784,914.06140221332566,1042.9993093409969,1192.1518662375991,1509.4422987941907,1836.1730649607632,2116.9592345387309,2407.8739250473068,2582.6280161399191,2726.8795933135443,2846.3306496716077,2915.4532588604084,2949.426781566875,2959.6602125962054,2943.1498796876044,2895.5089883201344,2826.5221843963832,2564.4000430018655,2364.0310419369684,2160.8451438184957,1972.9827840629937,1808.3204305779743]
[]
[]
[]
["Module","Version","Date"]
["CubicSpline",{"$f":"CubicSpline_version(\"v\")","v":"1.04"},{"$f":"CubicSpline_version(\"d\")","v":"2014-03-07"}]
[]
["Copyright: Owen Duffy 2010. All rights reserved."]

{"sheet":"Mix","index":4,"n_rows":47,"n_cols":16,"rows_kept":47,"cut":false,"hidden":false,"merged":[[4,4,4,6],[4,13,4,15]]}
["Mix",52]
["µi",250]
[]
[]
["# #F14 mix u'",null,null,null,"CSTable",null,null,null,null,"# #52 mix u''",null,null,null,"CSTable"]
[1000000,271.82299999999998,null,null,{"$f":"cstable(A6:A47,B6:B47)","v":1000000},271.82299999999998,0,null,null,1000000,3.0499000000000001,null,null,{"$f":"cstable(J6:J47,K6:K47)","v":1000000},3.0499000000000001,0]
[1912110,272.07499999999999,null,null,1912110,272.07499999999999,-1.0799851344515032E-11,null,null,1912110,4.0790499999999996,null,null,1912110,4.0790499999999996,-5.1549871432020845E-13]
[2026390,271.69499999999999,null,null,2026390,271.69499999999999,4.9092273147741232E-12,null,null,2026390,4.1866500000000002,null,null,2026390,4.1866500000000002,-5.4619551529505063E-13]
[2735110,269.74,null,null,2735110,269.74,-4.8627789801421826E-12,null,null,2735110,5.1529100000000003,null,null,2735110,5.1529100000000003,4.922947906437755E-12]
[2815660,269.55200000000002,null,null,2815660,269.55200000000002,8.3725192727728786E-11,null,null,2815660,5.3582000000000001,null,null,2815660,5.3582000000000001,-3.3851705030683696E-12]
[3383860,276.44799999999998,null,null,3383860,276.44799999999998,-3.7695506061855022E-11,null,null,3383860,6.8623099999999999,null,null,3383860,6.8623099999999999,8.0728414458794529E-12]
[3763830,280.52100000000002,null,null,3763830,280.52100000000002,4.054797890006972E-11,null,null,3763830,8.6831899999999997,null,null,3763830,8.6831899999999997,-1.3561196902936469E-12]
[4027560,284.88799999999998,null,null,4027560,284.88799999999998,-1.0777313390069482E-11,null,null,4027560,10.0861,null,null,4027560,10.0861,6.9858743282075104E-12]
[4793720,296.43200000000002,null,null,4793720,296.43200000000002,3.3382839594461171E-12,null,null,4793720,17.3598,null,null,4793720,17.3598,1.4375036558405222E-11]
[4887370,297.74299999999999,null,null,4887370,297.74299999999999,-4.1579641315313785E-11,null,null,4887370,18.7334,null,null,4887370,18.7334,1.0358996962507135E-11]
[5489030,301.46300000000002,null,null,5489030,301.46300000000002,1.7638901217911855E-11,null,null,5489030,29.584,null,null,5489030,29.584,7.3973782135391084E-12]
[6470300,306.81200000000001,null,null,6470300,306.81200000000001,-3.5888444832112986E-11,null,null,6470300,55.046500000000002,null,null,6470300,55.046500000000002,1.8173191845658978E-11]
[6660850,305.87,null,null,6660850,305.87,2.3264075395440473E-11,null,null,6660850,61.421300000000002,null,null,6660850,61.421300000000002,-2.5258048348946215E-11]
[7776000,300.89499999999998,null,null,7776000,300.89499999999998,-4.5751205282848544E-11,null,null,7776000,91.168300000000002,null,null,7776000,91.168300000000002,1.9566478908087325E-11]
[8082820,294.33300000000003,null,null,8082820,294.33300000000003,8.5250419247046562E-12,null,null,8082820,100.629,null,null,8082820,100.629,-8.2238519324280462E-12]
[9255220,272.47300000000001,null,null,9255220,272.47300000000001,4.4918748188004302E-12,null,null,9255220,128.81100000000001,null,null,9255220,128.81100000000001,-1.91526240573259E-11]
[9903720,262.15899999999999,null,null,9903720,262.15899999999999,-1.5276108790512733E-11,null,null,9903720,136.364,null,null,9903720,136.364,7.7805837337313757E-12]
[10909800,239.51900000000001,null,null,10909800,239.51900000000001,7.9967715475376955E-12,null,null,10909800,147.929,null,null,10909800,147.929,-1.4151286007703187E-11]
[12492200,211.06899999999999,null,null,12492200,211.06899999999999,7.0461944055635881E-13,null,null,12492200,151.221,null,null,12492200,151.221,5.6524259919164018E-12]
[13111300,201.685,null,null,13111300,201.685,1.8941439656394337E-12,null,null,13111300,152.41399999999999,null,null,13111300,152.41399999999999,-5.5160672980884426E-12]
[16065100,166.61799999999999,null,null,16065100,166.61799999999999,1.9441260295934481E-12,null,null,16065100,143.98699999999999,null,null,16065100,143.98699999999999,2.4503151181154747E-12]
[17357800,156.17400000000001,null,null,17357800,156.17400000000001,5.0227247618011921E-13,null,null,17357800,140.90100000000001,null,null,17357800,140.90100000000001,-1.3329190339394158E-12]
[21063400,132.83699999999999,null,null,21063400,132.83699999999999,8.5127975782914024E-13,null,null,21063400,127.336,null,null,21063400,127.336,6.7913174442286675E-13]
[24353100,119.84099999999999,null,null,24353100,119.84099999999999,9.4958375556873021E-14,null,null,24353100,118.027,null,null,24353100,118.027,1.2870800073039487E-13]
[28985800,105.91200000000001,null,null,28985800,105.91200000000001,2.9313399990894952E-13,null,null,28985800,108.441,null,null,28985800,108.441,6.2540943416185878E-14]
[38004200,91.353200000000001,null,null,38004200,91.353200000000001,-9.8865593413929725E-15,null,null,38004200,95.054199999999994,null,null,38004200,95.054199999999994,1.3362974333806725E-13]
[43097700,85.291600000000003,null,null,43097700,85.291600000000003,3.5556304113761352E-14,null,null,43097700,91.211399999999998,null,null,43097700,91.211399999999998,8.649443300404997E-15]
[67909900,64.1066,null,null,67909900,64.1066,-2.3699476507714991E-15,null,null,67909900,78.569599999999994,null,null,67909900,78.569599999999994,1.0951707126812488E-14]
[71275600,61.697299999999998,null,null,71275600,61.697299999999998,2.3524989329921082E-14,null,null,71275600,77.332400000000007,null,null,71275600,77.332400000000007,5.8377322444130093E-15]
[96204000,48.654000000000003,null,null,96204000,48.654000000000003,-6.723586500868673E-15,null,null,96204000,70.150899999999993,null,null,96204000,70.150899999999993,4.4056895643763629E-15]
[115618000,39.227400000000003,null,null,115618000,39.227400000000003,1.2150091972152247E-14,null,null,115618000,66.082999999999998,null,null,115618000,66.082999999999998,-3.3449422231061401E-15]
[141664000,30.918299999999999,null,null,141664000,30.918299999999999,9.632227661923526E-16,null,null,141664000,60.1599,null,null,141664000,60.1599,4.2747844185456067E-15]
[196842000,19.3384,null,null,196842000,19.3384,3.297991849793848E-15,null,null,196842000,51.674599999999998,null,null,196842000,51.674599999999998,-3.0000285036833306E-15]
[198756000,19.0733,null,null,198756000,19.0733,-8.2260061388190177E-16,null,null,198756000,51.347000000000001,null,null,198756000,51.347000000000001,1.2564815674757952E-15]
[258086000,10.6594,null,null,258086000,10.6594,1.2571920988772611E-15,null,null,258086000,43.245899999999999,null,null,258086000,43.245899999999999,1.0035227147382789E-15]
[313183000,5.61409,null,null,313183000,5.61409,1.1353542737414196E-15,null,null,313183000,38.081000000000003,null,null,313183000,38.081000000000003,-8.60310535770078E-16]
[325541000,4.9384399999999999,null,null,325541000,4.9384399999999999,-8.4820615961386613E-17,null,null,325541000,36.816200000000002,null,null,325541000,36.816200000000002,7.400170974217003E-16]
[372759000,2.3563800000000001,null,null,372759000,2.3563800000000001,-8.4469623001037622E-17,null,null,372759000,32.710999999999999,null,null,372759000,32.710999999999999,3.1531671719946822E-16]
[398878000,0.99868800000000002,null,null,398878000,0.99868800000000002,1.2485676905179624E-15,null,null,398878000,30.833400000000001,null,null,398878000,30.833400000000001,3.4991519210856727E-16]
[470185000,0.124171,null,null,470185000,0.124171,-3.8961935014908749E-17,null,null,470185000,26.71,null,null,470185000,26.71,1.1141466919678081E-16]
[672560000,1.3286999999999999E-3,null,null,672560000,1.3286999999999999E-3,1.1055680712551782E-17,null,null,672560000,18.7332,null,null,672560000,18.7332,1.2118454919956798E-16]
[990372000,9.8413599999999992E-6,null,null,990372000,9.8413599999999992E-6,0,null,null,990372000,14.078799999999999,null,null,990372000,14.078799999999999,0]

{"sheet":"FT240-52 (2)","index":5,"n_rows":35,"n_cols":31,"rows_kept":35,"cut":false,"hidden":false,"merged":[]}
["Calculate impedance of toroidal ferrite cored inductor"]
[]
["Reference:"]
["A method for estimating the impedance of a ferrite cored toroidal inductor at RF"]
[]
["Inputs:"]
["Al (nH for 1t)",{"$f":"2*340","v":680}]
["N",11]
["Cs (pF)",1.1000000000000001]
[]
["Constants:"]
["Mix",{"$f":"Mix!B1","v":52}]
["µi",{"$f":"Mix!B2","v":250}]
[]
["Calculated values:"]
["2*pi*N^2*Al",{"$f":"2*PI()*$B$8^2*$B$7*0.000000001","v":5.1698048707473645E-4}]
[]
["f (MHz)",1,1.2,1.8,2,2.5,3,3.5,4,4.5,5,5.5,6,{"$f":"M18+1","v":7},8,9,10,11,12,13,14,15,16,17,18,19,22,24,26,28,30]
["µ''",{"$f":"csinterpolate(CSTableU2,'FT240-52 (2)'!B18*1000000)","v":3.0499000000000001},{"$f":"csinterpolate(CSTableU2,'FT240-52 (2)'!C18*1000000)","v":3.2904831190109389},{"$f":"csinterpolate(CSTableU2,'FT240-52 (2)'!D18*1000000)","v":3.967018516752479},{"$f":"csinterpolate(CSTableU2,'FT240-52 (2)'!E18*1000000)","v":4.1624213685595173},{"$f":"csinterpolate(CSTableU2,'FT240-52 (2)'!F18*1000000)","v":4.6934474029834936},{"$f":"csinterpolate(CSTableU2,'FT240-52 (2)'!G18*1000000)","v":5.7869745969032644},{"$f":"csinterpolate(CSTableU2,'FT240-52 (2)'!H18*1000000)","v":7.3580620226877942},{"$f":"csinterpolate(CSTableU2,'FT240-52 (2)'!I18*1000000)","v":9.926754908090583},{"$f":"csinterpolate(CSTableU2,'FT240-52 (2)'!J18*1000000)","v":13.81033892745144},{"$f":"csinterpolate(CSTableU2,'FT240-52 (2)'!K18*1000000)","v":20.511611514548019},{"$f":"csinterpolate(CSTableU2,'FT240-52 (2)'!L18*1000000)","v":29.809955391832062},{"$f":"csinterpolate(CSTableU2,'FT240-52 (2)'!M18*1000000)","v":41.297758756922754},{"$f":"csinterpolate(CSTableU2,'FT240-52 (2)'!N18*1000000)","v":71.227829783683418},{"$f":"csinterpolate(CSTableU2,'FT240-52 (2)'!O18*1000000)","v":98.042432892117944},{"$f":"csinterpolate(CSTableU2,'FT240-52 (2)'!P18*1000000)","v":124.39851411420072},{"$f":"csinterpolate(CSTableU2,'FT240-52 (2)'!Q18*1000000)","v":137.48080431574027},{"$f":"csinterpolate(CSTableU2,'FT240-52 (2)'!R18*1000000)","v":148.59943423102928},{"$f":"csinterpolate(CSTableU2,'FT240-52 (2)'!S18*1000000)","v":151.00249371940657},{"$f":"csinterpolate(CSTableU2,'FT240-52 (2)'!T18*1000000)","v":152.23128862750124},{"$f":"csinterpolate(CSTableU2,'FT240-52 (2)'!U18*1000000)","v":151.77044049308},{"$f":"csinterpolate(CSTableU2,'FT240-52 (2)'!V18*1000000)","v":148.19510684679508},{"$f":"csinterpolate(CSTableU2,'FT240-52 (2)'!W18*1000000)","v":144.19751813493576},{"$f":"csinterpolate(CSTableU2,'FT240-52 (2)'!X18*1000000)","v":141.70879370829715},{"$f":"csinterpolate(CSTableU2,'FT240-52 (2)'!Y18*1000000)","v":139.08719283420325},{"$f":"csinterpolate(CSTableU2,'FT240-52 (2)'!Z18*1000000)","v":135.50786137417444},{"$f":"csinterpolate(CSTableU2,'FT240-52 (2)'!AA18*1000000)","v":124.19703145370912},{"$f":"csinterpolate(CSTableU2,'FT240-52 (2)'!AB18*1000000)","v":118.85411849931367},{"$f":"csinterpolate(CSTableU2,'FT240-52 (2)'!AC18*1000000)","v":114.37628656816462},{"$f":"csinterpolate(CSTableU2,'FT240-52 (2)'!AD18*1000000)","v":110.32031789018907},{"$f":"csinterpolate(CSTableU2,'FT240-52 (2)'!AE18*1000000)","v":106.57469008666072}]
["µ'",{"$f":"csinterpolate(CSTableU1,'FT240-52 (2)'!B18*1000000)","v":271.82299999999998},{"$f":"csinterpolate(CSTableU1,'FT240-52 (2)'!C18*1000000)","v":272.19082946678634},{"$f":"csinterpolate(CSTableU1,'FT240-52 (2)'!D18*1000000)","v":272.34705648423068},{"$f":"csinterpolate(CSTableU1,'FT240-52 (2)'!E18*1000000)","v":271.78453117064919},{"$f":"csinterpolate(CSTableU1,'FT240-52 (2)'!F18*1000000)","v":270.41777375176463},{"$f":"csinterpolate(CSTableU1,'FT240-52 (2)'!G18*1000000)","v":270.72356701062466},{"$f":"csinterpolate(CSTableU1,'FT240-52 (2)'!H18*1000000)","v":277.74873858288925},{"$f":"csinterpolate(CSTableU1,'FT240-52 (2)'!I18*1000000)","v":284.40522241788904},{"$f":"csinterpolate(CSTableU1,'FT240-52 (2)'!J18*1000000)","v":292.22641370148841},{"$f":"csinterpolate(CSTableU1,'FT240-52 (2)'!K18*1000000)","v":298.93908294056735},{"$f":"csinterpolate(CSTableU1,'FT240-52 (2)'!L18*1000000)","v":301.5249441802431},{"$f":"csinterpolate(CSTableU1,'FT240-52 (2)'!M18*1000000)","v":305.38916179553797},{"$f":"csinterpolate(CSTableU1,'FT240-52 (2)'!N18*1000000)","v":305.24355321471819},{"$f":"csinterpolate(CSTableU1,'FT240-52 (2)'!O18*1000000)","v":296.23832150305083},{"$f":"csinterpolate(CSTableU1,'FT240-52 (2)'!P18*1000000)","v":276.51437232303493},{"$f":"csinterpolate(CSTableU1,'FT240-52 (2)'!Q18*1000000)","v":260.28916563413679},{"$f":"csinterpolate(CSTableU1,'FT240-52 (2)'!R18*1000000)","v":237.53203498823027},{"$f":"csinterpolate(CSTableU1,'FT240-52 (2)'!S18*1000000)","v":218.87421660185237},{"$f":"csinterpolate(CSTableU1,'FT240-52 (2)'!T18*1000000)","v":203.33172189960433},{"$f":"csinterpolate(CSTableU1,'FT240-52 (2)'!U18*1000000)","v":189.37650548986889},{"$f":"csinterpolate(CSTableU1,'FT240-52 (2)'!V18*1000000)","v":177.33002992245264},{"$f":"csinterpolate(CSTableU1,'FT240-52 (2)'!W18*1000000)","v":167.20965609439202},{"$f":"csinterpolate(CSTableU1,'FT240-52 (2)'!X18*1000000)","v":158.87810019508268},{"$f":"csinterpolate(CSTableU1,'FT240-52 (2)'!Y18*1000000)","v":151.50124323103856},{"$f":"csinterpolate(CSTableU1,'FT240-52 (2)'!Z18*1000000)","v":144.69637942438118},{"$f":"csinterpolate(CSTableU1,'FT240-52 (2)'!AA18*1000000)","v":128.55578016848358},{"$f":"csinterpolate(CSTableU1,'FT240-52 (2)'!AB18*1000000)","v":121.04195811736874},{"$f":"csinterpolate(CSTableU1,'FT240-52 (2)'!AC18*1000000)","v":114.435694181161},{"$f":"csinterpolate(CSTableU1,'FT240-52 (2)'!AD18*1000000)","v":108.49306247968192},{"$f":"csinterpolate(CSTableU1,'FT240-52 (2)'!AE18*1000000)","v":103.54101076773443}]
["Rl",{"$f":"B19/$B$13*$B$16*B18*1000000","v":6.3069551501169547},8.1653547147718708,14.766272388181404,17.215125012225524,24.264207244540636,35.901035349554114,53.255642837813582,82.1110173992992,128.51416341685871,212.08205822957612,339.0456356792011,512.40325049397325,1031.0551477756621,1621.9527907378974,2315.2177590527867,2842.9957271431176,3380.2123470626625,3747.1364521228147,4092.4314986183399,4393.8919499809481,4596.8387111849243,4771.0274022635031,4981.7263211980389,5177.1862582044623,5324.1739333514197,5650.254879647392,5898.7449669709076,6149.5520673401752,6387.7465878362873,6611.6442229009135]
["Xl",{"$f":"B20/$B$13*$B$16*B18*1000000","v":562.1087477524643},675.44326845607543,1013.7464201850361,1124.0583944318489,1398.0071238785315,1679.5056184291534,2010.2694941976602,2352.5112065951844,2719.3563664469802,3090.9134540857913,3429.4152751646657,3789.1257026976655,4418.5389028863101,4900.7818157071879,5146.291255922195,5382.576785192512,5403.1747943390201,5431.3775571324959,5466.1636965209191,5482.6216507251793,5500.5699145372291,5532.4242848817894,5585.3076784566583,5639.2694292967508,5685.1955581703269,5848.5530266042333,6007.3277245437248,6152.7461753172684,6281.9451839172862,6423.4418614696651]
["Yl",{"$f":"IMDIV(1,COMPLEX(B21,B22))","v":"0.0000199583384852523-0.00177879125285312i"},"0.0000178950879260653-0.0014802929083073i","0.0000143654777533586-0.000986230733382038i","0.000013621677087023-0.000889424878706055i","0.000012411278768056-0.000715088523573692i","0.0000127217147613866-0.000595141371544516i","0.0000131689873117816-0.000497096871837091i","0.0000148186714920845-0.000424560453105272i","0.000017340030816393-0.000366914602571808i","0.0000220948160395112-0.000322012926186095i","0.0000285491893674193-0.000288772412345205i","0.0000350480283961516-0.000259173580762243i","0.0000500838950270796-0.000214632203779439i","0.0000608649375172311-0.000183905339725022i","0.0000727037430229686-0.000161606671998315i","0.0000767241756493239-0.000145260072947093i","0.0000832151956844082-0.000133017160362337i","0.0000860601638741639-0.000124741985940884i","0.000087769675634087-0.000117231874197146i","0.0000890074744544819-0.000111061972409819i","0.0000894549442628005-0.000107041644493924i","0.0000893945994454294-0.000103660870334666i","0.0000889383408487184-0.0000997140280343785i","0.000088340927750892-0.000096225684836399i","0.0000877587798944983-0.0000937095278802414i","0.00008544039739495-0.0000884389652188022i","0.0000832178393452442-0.0000847496944306824i","0.0000812645147942993-0.0000813067239880936i","0.0000795820809053618-0.0000782639484824795i","0.0000778074425547904-0.0000755926312412875i"]
["Yc",{"$f":"COMPLEX(0,2*PI()*B18*1000000*$B$9*0.000000000001)","v":"6.91150383789754E-06i"},"8.29380460547705E-06i","0.0000124407069082156i","0.0000138230076757951i","0.0000172787595947439i","0.0000207345115136926i","0.0000241902634326414i","0.0000276460153515902i","0.000031101767270539i","0.0000345575191894877i","0.0000380132711084365i","0.0000414690230273853i","0.0000483805268652828i","0.0000552920307031804i","0.0000622035345410779i","0.0000691150383789754i","0.000076026542216873i","0.0000829380460547705i","0.0000898495498926681i","0.0000967610537305656i","0.000103672557568463i","0.000110584061406361i","0.000117495565244258i","0.000124407069082156i","0.000131318572920053i","0.000152053084433746i","0.000165876092109541i","0.000179699099785336i","0.000193522107461131i","0.000207345115136926i"]
["Z",{"$f":"IMDIV(1,IMSUM(B23,B24))","v":"6.35624745683327+564.300788706159i"},"8.25761374707366+679.247851959613i","15.1458944623339+1026.69199191775i","17.7628285742946+1141.79523087207i","25.4803319724424+1432.6021332756i","38.5383789019969+1740.07275206046i","58.8389576058775+2112.94393598169i","93.9313458987511+2515.92778507603i","153.355329610926+2969.93059530896i","265.822150833533+3458.36844352641i","448.215689183754+3936.86068848002i","720.802253698016+4477.33989718081i","1661.26666513186+5514.51457061054i","3006.28106123652+6352.55322534196i","4793.6055598871+6553.98762942229i","6566.22786375973+6516.6636648318i","8180.24723097174+5602.31028049063i","9401.45343520131+4566.77952440245i","10382.8796156058+3239.24379114892i","10952.2766728562+1759.71309163815i","11162.9777631229+420.424412992328i","11119.6648495248-861.165717885062i","10811.5795992853-2161.57062418414i","10274.2199839348-3277.54924658664i","9626.84938941297-4125.58849055527i","7529.89956092108-5606.34012656522i","6161.22606115877-6006.38131871275i","4990.15104133108-6041.90916276893i","4056.63634259019-5875.19742099802i","3323.29856337174-5627.39020939685i"]
["R",{"$f":"IMREAL(B25)","v":6.3562474568332696},8.2576137470736608,15.145894462333899,17.762828574294598,25.4803319724424,38.5383789019969,58.838957605877503,93.931345898751104,153.35532961092599,265.82215083353299,448.21568918375402,720.80225369801599,1661.26666513186,3006.2810612365201,4793.6055598870998,6566.2278637597301,8180.2472309717396,9401.4534352013106,10382.8796156058,10952.2766728562,11162.977763122901,11119.664849524799,10811.5795992853,10274.2199839348,9626.8493894129697,7529.8995609210797,6161.2260611587699,4990.1510413310798,4056.63634259019,3323.2985633717399]
["X",{"$f":"IMAGINARY(B25)","v":564.30078870615898},679.24785195961294,1026.6919919177501,1141.7952308720701,1432.6021332756,1740.0727520604601,2112.9439359816902,2515.92778507603,2969.9305953089602,3458.3684435264099,3936.8606884800201,4477.3398971808101,5514.5145706105404,6352.5532253419597,6553.9876294222904,6516.6636648317999,5602.3102804906302,4566.7795244024501,3239.2437911489201,1759.71309163815,420.42441299232797,-861.16571788506201,-2161.5706241841399,-3277.54924658664,-4125.5884905552703,-5606.3401265652201,-6006.3813187127498,-6041.9091627689304,-5875.1974209980199,-5627.39020939685]
["|Z|",{"$f":"IMABS(B25)","v":564.33658575014044},679.29804399581792,1026.8037029476966,1141.9333900544127,1432.8287125763588,1740.4994654155046,2113.763018773378,2517.6806226088188,2973.8872873853697,3468.5694035225888,3962.293450077852,4534.9893543230291,5759.3122751031906,7027.9910571906621,8119.9389228245373,9251.067704830275,9914.7529086060349,10451.928143589583,10876.437351019831,11092.743325421028,11170.892051533589,11152.961613823383,11025.544929617668,10784.337037671154,10473.619697117274,9387.7812614213999,8604.4943560027714,7836.2155245021704,7139.6248607139933,6535.4291297606615]
[]
[]
[]
["Module","Version","Date"]
["CubicSpline",{"$f":"CubicSpline_version(\"v\")","v":"1.04"},{"$f":"CubicSpline_version(\"d\")","v":"2014-03-07"}]
[]
["Copyright: Owen Duffy 2010. All rights reserved."]