{"text_format":"1","workbook":"xlsx","n_sheets":17,"sheets":["W0IYH","FT114-43","FT240-43","BN-43-202","FT140-43","5943001001","2643102002","FT240-43 x 2","FB2401-43 x 25","2643167851x2","2643625002","2843009902","2643167851x2 (2)","2643167851x3 4t","Mix","2643167851x3 5t (2)","2643167851x3 5t"],"not_rendered":{"charts":34,"images":1,"macros":1,"external_links":0,"defined_names":6,"comments":0,"pivot_tables":0},"unopened":[],"bounds":{"document_bytes":16777216,"sheet_cells":100000,"rows_first":2000,"rows_last":500,"rows_between":2000,"halvings":0,"cell_chars":16384,"cell_head_chars":4096},"cells_cut":0,"cells_raw":0,"read":"whole","date_system":"1900"}

{"sheet":"W0IYH","index":0,"n_rows":35,"n_cols":31,"rows_kept":35,"cut":false,"hidden":false,"merged":[]}
["Calculate impedance of ferrite cored inductor"]
[]
["Reference:"]
["A method for estimating the impedance of a ferrite cored toroidal inductor at RF"]
[]
["Inputs:"]
["Al (nH for 1t)",{"$f":"100*1450","v":145000},null,"2643540102",null,"FB-43-5622 "]
["N",1]
["Cs (pF)",9]
[]
["Constants:"]
["Mix",{"$f":"Mix!B1","v":"#43"}]
["µi",{"$f":"Mix!B2","v":800}]
[]
["Calculated values:"]
["2*pi*N^2*Al",{"$f":"2*PI()*$B$8^2*$B$7*0.000000001","v":9.1106186954104009E-4}]
[]
["f (MHz)",1,1.2,1.8,2,2.5,3,3.7,4,4.5,5,5.5,6,7.1,{"$f":"N18+1","v":8.1},9.1,10.1,11.1,12.1,13.1,14.1,15.1,16.100000000000001,17.100000000000001,18.100000000000001,19.100000000000001,22,24,26,28,30]
["µ''",{"$f":"csinterpolate(CSTableU2,W0IYH!B18*1000000)","v":48},{"$f":"csinterpolate(CSTableU2,W0IYH!C18*1000000)","v":66.347280523402432},{"$f":"csinterpolate(CSTableU2,W0IYH!D18*1000000)","v":177.16847791255344},{"$f":"csinterpolate(CSTableU2,W0IYH!E18*1000000)","v":223.78271015153356},{"$f":"csinterpolate(CSTableU2,W0IYH!F18*1000000)","v":322.99305056103822},{"$f":"csinterpolate(CSTableU2,W0IYH!G18*1000000)","v":386.64382608764055},{"$f":"csinterpolate(CSTableU2,W0IYH!H18*1000000)","v":426.61023233902631},{"$f":"csinterpolate(CSTableU2,W0IYH!I18*1000000)","v":433.16031558972583},{"$f":"csinterpolate(CSTableU2,W0IYH!J18*1000000)","v":435.27669864112431},{"$f":"csinterpolate(CSTableU2,W0IYH!K18*1000000)","v":431.488003256664},{"$f":"csinterpolate(CSTableU2,W0IYH!L18*1000000)","v":424.49052648831525},{"$f":"csinterpolate(CSTableU2,W0IYH!M18*1000000)","v":415.87136912183911},{"$f":"csinterpolate(CSTableU2,W0IYH!N18*1000000)","v":394.57236402572494},{"$f":"csinterpolate(CSTableU2,W0IYH!O18*1000000)","v":375.24193837768485},{"$f":"csinterpolate(CSTableU2,W0IYH!P18*1000000)","v":357.55532363635677},{"$f":"csinterpolate(CSTableU2,W0IYH!Q18*1000000)","v":341.4815140824403},{"$f":"csinterpolate(CSTableU2,W0IYH!R18*1000000)","v":327.03428334612471},{"$f":"csinterpolate(CSTableU2,W0IYH!S18*1000000)","v":314.1284568473086},{"$f":"csinterpolate(CSTableU2,W0IYH!T18*1000000)","v":302.60867877808306},{"$f":"csinterpolate(CSTableU2,W0IYH!U18*1000000)","v":292.05359008843709},{"$f":"csinterpolate(CSTableU2,W0IYH!V18*1000000)","v":282.6440990372551},{"$f":"csinterpolate(CSTableU2,W0IYH!W18*1000000)","v":274.09543414509642},{"$f":"csinterpolate(CSTableU2,W0IYH!X18*1000000)","v":266.29388040447418},{"$f":"csinterpolate(CSTableU2,W0IYH!Y18*1000000)","v":259.09607822266605},{"$f":"csinterpolate(CSTableU2,W0IYH!Z18*1000000)","v":252.46208105150615},{"$f":"csinterpolate(CSTableU2,W0IYH!AA18*1000000)","v":235.99249104234499},{"$f":"csinterpolate(CSTableU2,W0IYH!AB18*1000000)","v":226.32326658075181},{"$f":"csinterpolate(CSTableU2,W0IYH!AC18*1000000)","v":217.67779772639955},{"$f":"csinterpolate(CSTableU2,W0IYH!AD18*1000000)","v":209.8349532419403},{"$f":"csinterpolate(CSTableU2,W0IYH!AE18*1000000)","v":202.6519482236636}]
["µ'",{"$f":"csinterpolate(CSTableU1,W0IYH!B18*1000000)","v":851.35508159999995},{"$f":"csinterpolate(CSTableU1,W0IYH!C18*1000000)","v":871.43462511973303},{"$f":"csinterpolate(CSTableU1,W0IYH!D18*1000000)","v":911.39948614140371},{"$f":"csinterpolate(CSTableU1,W0IYH!E18*1000000)","v":905.13111057437402},{"$f":"csinterpolate(CSTableU1,W0IYH!F18*1000000)","v":853.41235727690139},{"$f":"csinterpolate(CSTableU1,W0IYH!G18*1000000)","v":778.18884880591781},{"$f":"csinterpolate(CSTableU1,W0IYH!H18*1000000)","v":673.66996273444033},{"$f":"csinterpolate(CSTableU1,W0IYH!I18*1000000)","v":634.66365833561963},{"$f":"csinterpolate(CSTableU1,W0IYH!J18*1000000)","v":577.45143379453214},{"$f":"csinterpolate(CSTableU1,W0IYH!K18*1000000)","v":529.67518696767149},{"$f":"csinterpolate(CSTableU1,W0IYH!L18*1000000)","v":488.91695376155724},{"$f":"csinterpolate(CSTableU1,W0IYH!M18*1000000)","v":454.54725462303065},{"$f":"csinterpolate(CSTableU1,W0IYH!N18*1000000)","v":394.48579978626685},{"$f":"csinterpolate(CSTableU1,W0IYH!O18*1000000)","v":353.38425357012767},{"$f":"csinterpolate(CSTableU1,W0IYH!P18*1000000)","v":321.02380762208554},{"$f":"csinterpolate(CSTableU1,W0IYH!Q18*1000000)","v":294.79716985101908},{"$f":"csinterpolate(CSTableU1,W0IYH!R18*1000000)","v":273.11446869826125},{"$f":"csinterpolate(CSTableU1,W0IYH!S18*1000000)","v":254.98098862409782},{"$f":"csinterpolate(CSTableU1,W0IYH!T18*1000000)","v":239.27951604175249},{"$f":"csinterpolate(CSTableU1,W0IYH!U18*1000000)","v":225.5451233535542},{"$f":"csinterpolate(CSTableU1,W0IYH!V18*1000000)","v":213.66087255067467},{"$f":"csinterpolate(CSTableU1,W0IYH!W18*1000000)","v":202.91886097031249},{"$f":"csinterpolate(CSTableU1,W0IYH!X18*1000000)","v":193.35052138753485},{"$f":"csinterpolate(CSTableU1,W0IYH!Y18*1000000)","v":184.63837664633883},{"$f":"csinterpolate(CSTableU1,W0IYH!Z18*1000000)","v":176.65256208147119},{"$f":"csinterpolate(CSTableU1,W0IYH!AA18*1000000)","v":156.64931380497691},{"$f":"csinterpolate(CSTableU1,W0IYH!AB18*1000000)","v":145.11851941771693},{"$f":"csinterpolate(CSTableU1,W0IYH!AC18*1000000)","v":134.79024907345377},{"$f":"csinterpolate(CSTableU1,W0IYH!AD18*1000000)","v":125.53942475369485},{"$f":"csinterpolate(CSTableU1,W0IYH!AE18*1000000)","v":117.30421979684496}]
["Rl",{"$f":"B19/$B$13*$B$16*B18*1000000","v":54.663712172462404},90.669716148922276,363.17575059919068,509.69973570404215,919.58328904032237,1320.9616764071495,1797.590960760605,1973.1792346608127,2230.6725159279449,2456.9516683221664,2658.8177870712216,2841.6341028055108,3190.3835412917301,3461.4197968243452,3705.4633708875826,3927.7736812498697,4134.0349600520167,4328.6306949666823,4514.5093687655599,4689.6404325865387,4860.4306817284132,5025.5727106310032,5185.7930362996467,5340.6891115436456,5491.4547412802867,5912.6034023838647,6185.8349511508486,6445.3330940111728,6691.041867848061,6923.5673555544381]
["Xl",{"$f":"B20/$B$13*$B$16*B18*1000000","v":969.54644035720071},1190.8962881165692,1868.2679694211436,2061.5761044491182,2429.7233053441246,2658.66820293416,2838.6169476239797,2891.0892954650276,2959.2786534862535,3016.0429130516673,3062.3559583671627,3105.9050369370411,3189.6836110634345,3259.7935520801502,3326.8752601102251,3390.8030663359468,3452.4354760068727,3513.5897749235601,3569.7245078564424,3621.6830258147315,3674.1749216327398,3720.5416914201201,3765.2978951428336,3805.9092769468684,3842.4762465761905,3924.7234591807915,3966.3584881719871,3991.0733302948047,4003.0964056022785,4007.6775672437498]
["Yl",{"$f":"IMDIV(1,COMPLEX(B21,B22))","v":"0.000057967363736919-0.00102814186842462i"},"0.0000635629713378866-0.000834864272692982i","0.000100260486920899-0.000515765317491162i","0.000113018222637422-0.000457123382327807i","0.000136250936360066-0.000360002274285015i","0.000149880094922621-0.000301660108495612i","0.000159232732013737-0.000251448044397937i","0.000161051749317112-0.000235971968631962i","0.000162428832278093-0.000215483076354354i","0.000162355855021238-0.000199300715696879i","0.000161656439712126-0.00018619160883009i","0.000160349249021316-0.000175261670639678i","0.000156755355368285-0.000156720965204767i","0.000153108131478957-0.000144189647330278i","0.000149422535067058-0.000134155997633967i","0.000145878579483692-0.000125935345253557i","0.000142505972627326-0.000119010284188611i","0.000139263271535023-0.000113041292124281i","0.000136292309308658-0.000107769406823604i","0.000133572540192969-0.000103154476017049i","0.000130926518596361-0.0000989720793697993i","0.000128535178224894-0.000095157411291297i","0.000126267432039307-0.0000916801910054519i","0.00012417924183312-0.0000884932484602715i","0.000122247758340178-0.0000855391020685721i","0.000117401300213343-0.0000779297385141476i","0.000114559810345817-0.0000734557710893931i","0.000112149340953647-0.0000694450134945135i","0.000110059403673539-0.0000658460090296778i","0.000108185364161983-0.0000626226387049217i"]
["Yc",{"$f":"COMPLEX(0,2*PI()*B18*1000000*$B$9*0.000000000001)","v":"0.0000565486677646163i"},"0.0000678584013175395i","0.000101787601976309i","0.000113097335529233i","0.000141371669411541i","0.000169646003293849i","0.00020923007072908i","0.000226194671058465i","0.000254469004940773i","0.000282743338823081i","0.000311017672705389i","0.000339292006587698i","0.000401495541128776i","0.000458044208893392i","0.000514592876658008i","0.000571141544422624i","0.000627690212187241i","0.000684238879951857i","0.000740787547716473i","0.00079733621548109i","0.000853884883245706i","0.000910433551010322i","0.000966982218774938i","0.00102353088653955i","0.00108007955430417i","0.00124407069082156i","0.00135716802635079i","0.00147026536188002i","0.00158336269740926i","0.00169646003293849i"]
["Z",{"$f":"IMDIV(1,IMSUM(B23,B24))","v":"61.1887324980512+1025.58668567235i"},"107.308569848536+1294.87815610769i","552.613376335618+2281.75256398722i","861.898682740844+2623.60873888005i","2053.0955995801+3294.4326460484i","3757.16863019584+3309.30705016906i","5867.64440299121+1555.71064925475i","6186.3838797282+375.569444929716i","5821.1901307983-1397.19346340384i","4872.31835074338-2504.12295780017i","3875.31957013038-2992.40097740446i","3047.43165141989-3117.39057471097i","1855.38204122212-2897.19194122699i","1255.53232544162-2573.70097671105i","894.428047539409-2277.25633730382i","664.627839697226-2028.37479923931i","510.658380280311-1822.81249917995i","402.889809506626-1652.47939972903i","325.056887494809-1509.74701103928i","267.289464328233-1389.11384794905i","223.030138695756-1285.97559269651i","188.69031585832-1196.82964959347i","161.447256816864-1119.17308356782i","139.571796118212-1050.9395987474i","121.754018333949-990.523655398182i","85.4655699252544-848.92501974867i","68.9686787633231-772.835935136455i","56.7880670733536-709.320975276297i","47.5424757176026-655.523271072281i","40.3506791777855-609.384171639686i"]
["R",{"$f":"IMREAL(B25)","v":61.188732498051202},107.308569848536,552.613376335618,861.89868274084404,2053.0955995801,3757.1686301958398,5867.64440299121,6186.3838797281996,5821.1901307982998,4872.3183507433796,3875.3195701303798,3047.4316514198899,1855.3820412221201,1255.5323254416201,894.42804753940902,664.62783969722602,510.65838028031101,402.88980950662602,325.05688749480902,267.28946432823301,223.03013869575599,188.69031585831999,161.44725681686401,139.57179611821201,121.75401833394901,85.4655699252544,68.968678763323098,56.788067073353602,47.542475717602599,40.350679177785501]
["X",{"$f":"IMAGINARY(B25)","v":1025.5866856723501},1294.8781561076901,2281.7525639872201,2623.6087388800502,3294.4326460483999,3309.3070501690599,1555.71064925475,375.56944492971598,-1397.19346340384,-2504.1229578001698,-2992.4009774044598,-3117.3905747109702,-2897.1919412269899,-2573.7009767110499,-2277.2563373038201,-2028.3747992393101,-1822.81249917995,-1652.4793997290301,-1509.7470110392801,-1389.1138479490501,-1285.9755926965099,-1196.8296495934701,-1119.17308356782,-1050.9395987473999,-990.52365539818197,-848.92501974867002,-772.83593513645496,-709.32097527629696,-655.52327107228098,-609.38417163968597]
["|Z|",{"$f":"IMABS(B25)","v":1027.4103906487971},1299.3169622258417,2347.7172544766336,2761.5561109704381,3881.8150394325376,5006.7783322238593,6070.3777859502879,6197.7736256921926,5986.5185302546206,5478.1491307532478,4896.1786507649704,4359.4682778261558,3440.3726052856796,2863.6162692917246,2446.609482123285,2134.4869387020649,1892.9916504087294,1700.8845831311132,1544.3438792736069,1414.5956808589124,1305.1726582248757,1211.6126631249531,1130.7579792848658,1060.1671219609718,997.97853327806604,853.2162989523398,775.90725044208557,711.59056382785514,657.24504251813266,610.71863075813803]
[]
[]
[]
["Module","Version","Date"]
["CubicSpline",{"$f":"CubicSpline_version(\"v\")","v":"1.04"},{"$f":"CubicSpline_version(\"d\")","v":"2014-03-07"}]
[]
["Copyright: Owen Duffy 2010. All rights reserved."]

{"sheet":"FT114-43","index":1,"n_rows":35,"n_cols":31,"rows_kept":35,"cut":false,"hidden":false,"merged":[]}
["Calculate impedance of ferrite cored inductor"]
[]
["Reference:"]
["A method for estimating the impedance of a ferrite cored toroidal inductor at RF"]
[]
["Inputs:"]
["Al (nH for 1t)",510]
["N",12]
["Cs (pF)",1.6]
[]
["Constants:"]
["Mix",{"$f":"Mix!B1","v":"#43"}]
["µi",{"$f":"Mix!B2","v":800}]
[]
["Calculated values:"]
["2*pi*N^2*Al",{"$f":"2*PI()*$B$8^2*$B$7*0.000000001","v":4.6143712895926881E-4}]
[]
["f (MHz)",1,1.2,1.8,2,2.5,3,3.5,4,4.5,5,5.5,6,{"$f":"M18+1","v":7},8,9,10,11,12,13,14,15,16,17,18,19,22,24,26,28,30]
["µ''",{"$f":"csinterpolate(CSTableU2,'FT114-43'!B18*1000000)","v":48},{"$f":"csinterpolate(CSTableU2,'FT114-43'!C18*1000000)","v":66.347280523402432},{"$f":"csinterpolate(CSTableU2,'FT114-43'!D18*1000000)","v":177.16847791255344},{"$f":"csinterpolate(CSTableU2,'FT114-43'!E18*1000000)","v":223.78271015153356},{"$f":"csinterpolate(CSTableU2,'FT114-43'!F18*1000000)","v":322.99305056103822},{"$f":"csinterpolate(CSTableU2,'FT114-43'!G18*1000000)","v":386.64382608764055},{"$f":"csinterpolate(CSTableU2,'FT114-43'!H18*1000000)","v":419.50126365521584},{"$f":"csinterpolate(CSTableU2,'FT114-43'!I18*1000000)","v":433.16031558972583},{"$f":"csinterpolate(CSTableU2,'FT114-43'!J18*1000000)","v":435.27669864112431},{"$f":"csinterpolate(CSTableU2,'FT114-43'!K18*1000000)","v":431.488003256664},{"$f":"csinterpolate(CSTableU2,'FT114-43'!L18*1000000)","v":424.49052648831525},{"$f":"csinterpolate(CSTableU2,'FT114-43'!M18*1000000)","v":415.87136912183911},{"$f":"csinterpolate(CSTableU2,'FT114-43'!N18*1000000)","v":396.51381905459618},{"$f":"csinterpolate(CSTableU2,'FT114-43'!O18*1000000)","v":377.10613203745709},{"$f":"csinterpolate(CSTableU2,'FT114-43'!P18*1000000)","v":359.24301627958164},{"$f":"csinterpolate(CSTableU2,'FT114-43'!Q18*1000000)","v":343.01177808708195},{"$f":"csinterpolate(CSTableU2,'FT114-43'!R18*1000000)","v":328.3746681677697},{"$f":"csinterpolate(CSTableU2,'FT114-43'!S18*1000000)","v":315.3658178118219},{"$f":"csinterpolate(CSTableU2,'FT114-43'!T18*1000000)","v":303.71912185523638},{"$f":"csinterpolate(CSTableU2,'FT114-43'!U18*1000000)","v":293.05299615112307},{"$f":"csinterpolate(CSTableU2,'FT114-43'!V18*1000000)","v":283.53831282652527},{"$f":"csinterpolate(CSTableU2,'FT114-43'!W18*1000000)","v":274.9277292838795},{"$f":"csinterpolate(CSTableU2,'FT114-43'!X18*1000000)","v":267.03710576431388},{"$f":"csinterpolate(CSTableU2,'FT114-43'!Y18*1000000)","v":259.78646115941109},{"$f":"csinterpolate(CSTableU2,'FT114-43'!Z18*1000000)","v":253.10413373398319},{"$f":"csinterpolate(CSTableU2,'FT114-43'!AA18*1000000)","v":235.99249104234499},{"$f":"csinterpolate(CSTableU2,'FT114-43'!AB18*1000000)","v":226.32326658075181},{"$f":"csinterpolate(CSTableU2,'FT114-43'!AC18*1000000)","v":217.67779772639955},{"$f":"csinterpolate(CSTableU2,'FT114-43'!AD18*1000000)","v":209.8349532419403},{"$f":"csinterpolate(CSTableU2,'FT114-43'!AE18*1000000)","v":202.6519482236636}]
["µ'",{"$f":"csinterpolate(CSTableU1,'FT114-43'!B18*1000000)","v":851.35508159999995},{"$f":"csinterpolate(CSTableU1,'FT114-43'!C18*1000000)","v":871.43462511973303},{"$f":"csinterpolate(CSTableU1,'FT114-43'!D18*1000000)","v":911.39948614140371},{"$f":"csinterpolate(CSTableU1,'FT114-43'!E18*1000000)","v":905.13111057437402},{"$f":"csinterpolate(CSTableU1,'FT114-43'!F18*1000000)","v":853.41235727690139},{"$f":"csinterpolate(CSTableU1,'FT114-43'!G18*1000000)","v":778.18884880591781},{"$f":"csinterpolate(CSTableU1,'FT114-43'!H18*1000000)","v":702.00809951230747},{"$f":"csinterpolate(CSTableU1,'FT114-43'!I18*1000000)","v":634.66365833561963},{"$f":"csinterpolate(CSTableU1,'FT114-43'!J18*1000000)","v":577.45143379453214},{"$f":"csinterpolate(CSTableU1,'FT114-43'!K18*1000000)","v":529.67518696767149},{"$f":"csinterpolate(CSTableU1,'FT114-43'!L18*1000000)","v":488.91695376155724},{"$f":"csinterpolate(CSTableU1,'FT114-43'!M18*1000000)","v":454.54725462303065},{"$f":"csinterpolate(CSTableU1,'FT114-43'!N18*1000000)","v":399.24764527317183},{"$f":"csinterpolate(CSTableU1,'FT114-43'!O18*1000000)","v":357.04073559650715},{"$f":"csinterpolate(CSTableU1,'FT114-43'!P18*1000000)","v":323.944213278745},{"$f":"csinterpolate(CSTableU1,'FT114-43'!Q18*1000000)","v":297.16798360241029},{"$f":"csinterpolate(CSTableU1,'FT114-43'!R18*1000000)","v":275.11122800113469},{"$f":"csinterpolate(CSTableU1,'FT114-43'!S18*1000000)","v":256.6781558712193},{"$f":"csinterpolate(CSTableU1,'FT114-43'!T18*1000000)","v":240.72870055395072},{"$f":"csinterpolate(CSTableU1,'FT114-43'!U18*1000000)","v":226.83601903048785},{"$f":"csinterpolate(CSTableU1,'FT114-43'!V18*1000000)","v":214.80645504057313},{"$f":"csinterpolate(CSTableU1,'FT114-43'!W18*1000000)","v":203.94046916188543},{"$f":"csinterpolate(CSTableU1,'FT114-43'!X18*1000000)","v":194.26083744402825},{"$f":"csinterpolate(CSTableU1,'FT114-43'!Y18*1000000)","v":185.47551177934841},{"$f":"csinterpolate(CSTableU1,'FT114-43'!Z18*1000000)","v":177.42149961879051},{"$f":"csinterpolate(CSTableU1,'FT114-43'!AA18*1000000)","v":156.64931380497691},{"$f":"csinterpolate(CSTableU1,'FT114-43'!AB18*1000000)","v":145.11851941771693},{"$f":"csinterpolate(CSTableU1,'FT114-43'!AC18*1000000)","v":134.79024907345377},{"$f":"csinterpolate(CSTableU1,'FT114-43'!AD18*1000000)","v":125.53942475369485},{"$f":"csinterpolate(CSTableU1,'FT114-43'!AE18*1000000)","v":117.30421979684496}]
["Rl",{"$f":"B19/$B$13*$B$16*B18*1000000","v":27.686227737556127},45.922647958461049,183.94225602761765,258.15412820761969,465.7530810146294,669.04431389890385,846.88388179433537,999.38126202406943,1129.7971694465398,1244.4036587695166,1346.6453674655897,1439.2386793795633,1600.954234750744,1740.1077088029915,1864.8907428455777,1978.4796259964617,2083.4586314064636,2182.8224631446842,2277.3932934822969,2366.4468305955029,2453.1582191367534,2537.2372414408892,2618.4427524513994,2697.1901725474627,2773.8015639508853,2994.631681869455,3133.0187504311602,3264.4500856840036,3388.8973432742168,3506.667493737365]
["Xl",{"$f":"B20/$B$13*$B$16*B18*1000000","v":491.05855572298492},603.16843723641955,946.24551499509505,1044.1527524878841,1230.6129623756724,1346.5696056792046,1417.2051335098643,1464.2868817858732,1498.8236159450373,1527.5737347207892,1551.0304936723062,1573.0873511217674,1611.9922628127588,1647.5185195515767,1681.6487368310229,1714.0542646513911,1745.5148589079081,1776.6124696766269,1805.0688571777969,1831.7348239046216,1858.4938855470064,1882.1140913733343,1904.832215862157,1925.6689720735553,1944.385600743889,1987.8047644292228,2008.8921887679362,2021.4098301851759,2027.4993105340091,2029.8195899198686]
["Yl",{"$f":"IMDIV(1,COMPLEX(B21,B22))","v":"0.000114450813478394-0.00202996420100176i"},"0.000125498786002091-0.00164835674755559i","0.000197954392749596-0.00101832749232323i","0.000223143277266155-0.000902544804432629i","0.000269013967486513-0.000710788804075806i","0.000295923390029686-0.000595597981098363i","0.000310705234285243-0.000519945015489579i","0.000317980714201816-0.000465903260507007i","0.000320699628000047-0.000425449973738852i","0.000320555541640516-0.000393499506754458i","0.000319174615444692-0.000367616874732612i","0.000316593697005593-0.000346036795244463i","0.000310167864399521-0.000312306364999266i","0.000303033644983129-0.000286909562914561i","0.000295744011128068-0.000266684546881273i","0.000288729513827035-0.000250140586743063i","0.000282020199980132-0.000236275605455717i","0.000275571813906627-0.00022428957422978i","0.000269680154362679-0.000213749311299075i","0.00026425030262489-0.000204541456536144i","0.000258990937856702-0.000196209551697055i","0.000254234066686746-0.000188589979526918i","0.000249741116031494-0.000181678565627143i","0.000245577836357303-0.000175331211167646i","0.000241733832155002-0.00016945112028322i","0.000231797229451726-0.000153864543634959i","0.000226186989381038-0.000145031138452642i","0.000221427756512511-0.000137112295162098i","0.00021730138252537-0.000130006417610339i","0.000213601277280604-0.000123642192432103i"]
["Yc",{"$f":"COMPLEX(0,2*PI()*B18*1000000*$B$9*0.000000000001)","v":"0.0000100530964914873i"},"0.0000120637157897848i","0.0000180955736846772i","0.0000201061929829747i","0.0000251327412287183i","0.000030159289474462i","0.0000351858377202057i","0.0000402123859659493i","0.000045238934211693i","0.0000502654824574367i","0.0000552920307031803i","0.000060318578948924i","0.0000703716754404114i","0.0000804247719318987i","0.000090477868423386i","0.000100530964914873i","0.000110584061406361i","0.000120637157897848i","0.000130690254389335i","0.000140743350880823i","0.00015079644737231i","0.000160849543863797i","0.000170902640355285i","0.000180955736846772i","0.000191008833338259i","0.000221168122812721i","0.000241274315795696i","0.000261380508778671i","0.000281486701761645i","0.00030159289474462i"]
["Z",{"$f":"IMDIV(1,IMSUM(B23,B24))","v":"27.9616180794554+493.486949915209i"},"46.5983071741123+607.563529099097i","190.404871456376+962.085393759599i","269.337052973847+1065.1157316951i","495.88490699763+1263.89903146696i","726.564000304642+1388.28971130694i","937.18813133971+1462.19148515011i","1126.29532533998+1507.80729969423i","1296.23431260196+1536.77320593927i","1453.33523725662+1556.15497889494i","1600.52064231771+1566.17204435667i","1740.8030204871+1571.0329631947i","2004.49065457583+1563.52697974465i","2253.61868264478+1535.5984074522i","2495.44968422941+1486.8091442989i","2730.3602792578+1414.77801635193i","2958.24068563216+1318.43690442361i","3179.05187616612+1195.75512436418i","3386.8271932219+1043.11224995428i","3575.85859130873+863.321638426437i","3745.96431401999+656.841006087579i","3887.10403860942+424.136548276848i","3996.70543928948+172.451376176202i","4069.8938140992-93.2137142678114i","4104.14111669376-366.00543557486i","3978.68716502373-1155.23333591219i","3743.37344765095-1592.81555304946i","3434.43464855163-1927.45058379463i","3096.95385656444-2158.87927054994i","2763.56405640811-2302.31846449781i"]
["R",{"$f":"IMREAL(B25)","v":27.961618079455398},46.5983071741123,190.40487145637599,269.33705297384699,495.88490699763003,726.56400030464204,937.18813133971003,1126.2953253399801,1296.23431260196,1453.3352372566201,1600.5206423177101,1740.8030204871,2004.4906545758299,2253.6186826447802,2495.4496842294102,2730.3602792577999,2958.24068563216,3179.0518761661201,3386.8271932219,3575.85859130873,3745.9643140199901,3887.1040386094201,3996.7054392894802,4069.8938140992,4104.1411166937596,3978.6871650237299,3743.3734476509499,3434.4346485516298,3096.9538565644398,2763.56405640811]
["X",{"$f":"IMAGINARY(B25)","v":493.48694991520898},607.56352909909697,962.08539375959901,1065.1157316951001,1263.89903146696,1388.28971130694,1462.1914851501101,1507.8072996942301,1536.7732059392699,1556.1549788949401,1566.1720443566701,1571.0329631947,1563.5269797446499,1535.5984074522,1486.8091442989,1414.7780163519301,1318.43690442361,1195.7551243641799,1043.1122499542801,863.32163842643695,656.84100608757899,424.13654827684798,172.45137617620199,-93.213714267811397,-366.00543557485997,-1155.2333359121899,-1592.81555304946,-1927.4505837946299,-2158.87927054994,-2302.3184644978101]
["|Z|",{"$f":"IMABS(B25)","v":494.27848610094014},609.34788431801599,980.74579782932631,1098.6418752300613,1357.6975372781551,1566.9216856816397,1736.7571887772631,1882.0265707194192,2010.4465373790813,2129.2725589250585,2239.3215934763471,2344.8965281183155,2542.1643142549356,2727.0606219399169,2904.801294080456,3075.1364343881451,3238.7441740704908,3396.498365787701,3543.8230207999964,3678.5987707837562,3803.1156633988135,3910.1751391156204,4000.4242082048231,4070.9611217218144,4120.4288957105719,4143.0080397613729,4068.1575872395133,3938.3254192793938,3775.1666048665447,3596.9371145237446]
[]
[]
[]
["Module","Version","Date"]
["CubicSpline",{"$f":"CubicSpline_version(\"v\")","v":"1.04"},{"$f":"CubicSpline_version(\"d\")","v":"2014-03-07"}]
[]
["Copyright: Owen Duffy 2010. All rights reserved."]

{"sheet":"FT240-43","index":2,"n_rows":35,"n_cols":31,"rows_kept":35,"cut":false,"hidden":false,"merged":[]}
["Calculate impedance of ferrite cored inductor"]
[]
["Reference:"]
["A method for estimating the impedance of a ferrite cored toroidal inductor at RF"]
[]
["Inputs:"]
["Al (nH for 1t)",1075,null,"5943003801"]
["N",11,null,"2643803802"]
["Cs (pF)",3]
[]
["Constants:"]
["Mix",{"$f":"Mix!B1","v":"#43"}]
["µi",{"$f":"Mix!B2","v":800}]
[]
["Calculated values:"]
["2*pi*N^2*Al",{"$f":"2*PI()*$B$8^2*$B$7*0.000000001","v":8.1728532883138482E-4}]
[]
["f (MHz)",1,1.2,1.8,2,2.5,3,3.5,4,4.5,5,5.5,6,{"$f":"M18+1","v":7},8,9,10,11,12,13,14,15,16,17,18,19,22,24,26,28,30]
["µ''",{"$f":"csinterpolate(CSTableU2,'FT240-43'!B18*1000000)","v":48},{"$f":"csinterpolate(CSTableU2,'FT240-43'!C18*1000000)","v":66.347280523402432},{"$f":"csinterpolate(CSTableU2,'FT240-43'!D18*1000000)","v":177.16847791255344},{"$f":"csinterpolate(CSTableU2,'FT240-43'!E18*1000000)","v":223.78271015153356},{"$f":"csinterpolate(CSTableU2,'FT240-43'!F18*1000000)","v":322.99305056103822},{"$f":"csinterpolate(CSTableU2,'FT240-43'!G18*1000000)","v":386.64382608764055},{"$f":"csinterpolate(CSTableU2,'FT240-43'!H18*1000000)","v":419.50126365521584},{"$f":"csinterpolate(CSTableU2,'FT240-43'!I18*1000000)","v":433.16031558972583},{"$f":"csinterpolate(CSTableU2,'FT240-43'!J18*1000000)","v":435.27669864112431},{"$f":"csinterpolate(CSTableU2,'FT240-43'!K18*1000000)","v":431.488003256664},{"$f":"csinterpolate(CSTableU2,'FT240-43'!L18*1000000)","v":424.49052648831525},{"$f":"csinterpolate(CSTableU2,'FT240-43'!M18*1000000)","v":415.87136912183911},{"$f":"csinterpolate(CSTableU2,'FT240-43'!N18*1000000)","v":396.51381905459618},{"$f":"csinterpolate(CSTableU2,'FT240-43'!O18*1000000)","v":377.10613203745709},{"$f":"csinterpolate(CSTableU2,'FT240-43'!P18*1000000)","v":359.24301627958164},{"$f":"csinterpolate(CSTableU2,'FT240-43'!Q18*1000000)","v":343.01177808708195},{"$f":"csinterpolate(CSTableU2,'FT240-43'!R18*1000000)","v":328.3746681677697},{"$f":"csinterpolate(CSTableU2,'FT240-43'!S18*1000000)","v":315.3658178118219},{"$f":"csinterpolate(CSTableU2,'FT240-43'!T18*1000000)","v":303.71912185523638},{"$f":"csinterpolate(CSTableU2,'FT240-43'!U18*1000000)","v":293.05299615112307},{"$f":"csinterpolate(CSTableU2,'FT240-43'!V18*1000000)","v":283.53831282652527},{"$f":"csinterpolate(CSTableU2,'FT240-43'!W18*1000000)","v":274.9277292838795},{"$f":"csinterpolate(CSTableU2,'FT240-43'!X18*1000000)","v":267.03710576431388},{"$f":"csinterpolate(CSTableU2,'FT240-43'!Y18*1000000)","v":259.78646115941109},{"$f":"csinterpolate(CSTableU2,'FT240-43'!Z18*1000000)","v":253.10413373398319},{"$f":"csinterpolate(CSTableU2,'FT240-43'!AA18*1000000)","v":235.99249104234499},{"$f":"csinterpolate(CSTableU2,'FT240-43'!AB18*1000000)","v":226.32326658075181},{"$f":"csinterpolate(CSTableU2,'FT240-43'!AC18*1000000)","v":217.67779772639955},{"$f":"csinterpolate(CSTableU2,'FT240-43'!AD18*1000000)","v":209.8349532419403},{"$f":"csinterpolate(CSTableU2,'FT240-43'!AE18*1000000)","v":202.6519482236636}]
["µ'",{"$f":"csinterpolate(CSTableU1,'FT240-43'!B18*1000000)","v":851.35508159999995},{"$f":"csinterpolate(CSTableU1,'FT240-43'!C18*1000000)","v":871.43462511973303},{"$f":"csinterpolate(CSTableU1,'FT240-43'!D18*1000000)","v":911.39948614140371},{"$f":"csinterpolate(CSTableU1,'FT240-43'!E18*1000000)","v":905.13111057437402},{"$f":"csinterpolate(CSTableU1,'FT240-43'!F18*1000000)","v":853.41235727690139},{"$f":"csinterpolate(CSTableU1,'FT240-43'!G18*1000000)","v":778.18884880591781},{"$f":"csinterpolate(CSTableU1,'FT240-43'!H18*1000000)","v":702.00809951230747},{"$f":"csinterpolate(CSTableU1,'FT240-43'!I18*1000000)","v":634.66365833561963},{"$f":"csinterpolate(CSTableU1,'FT240-43'!J18*1000000)","v":577.45143379453214},{"$f":"csinterpolate(CSTableU1,'FT240-43'!K18*1000000)","v":529.67518696767149},{"$f":"csinterpolate(CSTableU1,'FT240-43'!L18*1000000)","v":488.91695376155724},{"$f":"csinterpolate(CSTableU1,'FT240-43'!M18*1000000)","v":454.54725462303065},{"$f":"csinterpolate(CSTableU1,'FT240-43'!N18*1000000)","v":399.24764527317183},{"$f":"csinterpolate(CSTableU1,'FT240-43'!O18*1000000)","v":357.04073559650715},{"$f":"csinterpolate(CSTableU1,'FT240-43'!P18*1000000)","v":323.944213278745},{"$f":"csinterpolate(CSTableU1,'FT240-43'!Q18*1000000)","v":297.16798360241029},{"$f":"csinterpolate(CSTableU1,'FT240-43'!R18*1000000)","v":275.11122800113469},{"$f":"csinterpolate(CSTableU1,'FT240-43'!S18*1000000)","v":256.6781558712193},{"$f":"csinterpolate(CSTableU1,'FT240-43'!T18*1000000)","v":240.72870055395072},{"$f":"csinterpolate(CSTableU1,'FT240-43'!U18*1000000)","v":226.83601903048785},{"$f":"csinterpolate(CSTableU1,'FT240-43'!V18*1000000)","v":214.80645504057313},{"$f":"csinterpolate(CSTableU1,'FT240-43'!W18*1000000)","v":203.94046916188543},{"$f":"csinterpolate(CSTableU1,'FT240-43'!X18*1000000)","v":194.26083744402825},{"$f":"csinterpolate(CSTableU1,'FT240-43'!Y18*1000000)","v":185.47551177934841},{"$f":"csinterpolate(CSTableU1,'FT240-43'!Z18*1000000)","v":177.42149961879051},{"$f":"csinterpolate(CSTableU1,'FT240-43'!AA18*1000000)","v":156.64931380497691},{"$f":"csinterpolate(CSTableU1,'FT240-43'!AB18*1000000)","v":145.11851941771693},{"$f":"csinterpolate(CSTableU1,'FT240-43'!AC18*1000000)","v":134.79024907345377},{"$f":"csinterpolate(CSTableU1,'FT240-43'!AD18*1000000)","v":125.53942475369485},{"$f":"csinterpolate(CSTableU1,'FT240-43'!AE18*1000000)","v":117.30421979684496}]
["Rl",{"$f":"B19/$B$13*$B$16*B18*1000000","v":49.037119729883088},81.336988469455633,325.79369489096359,457.23581463243642,824.92962980634445,1184.9937245424828,1499.9784984259011,1770.0778548172775,2001.0670862712236,2204.0550914276268,2385.1429217468221,2549.1417649822538,2835.5681111819586,3082.0330912656473,3303.0455252674092,3504.2311730867345,3690.1672314841467,3866.1578416877019,4033.6592136398394,4191.3885006768796,4344.9694356510527,4493.887992652828,4637.7170618888322,4777.1924250287493,4912.8845102248297,5304.0130176902157,5549.1205604892866,5781.908291058644,6002.3260066230105,6210.9174053361621]
["Xl",{"$f":"B20/$B$13*$B$16*B18*1000000","v":869.75002227215793},1068.3161012190533,1675.9652146376227,1849.3759433532346,2179.6293720181866,2385.00873445973,2510.116526978426,2593.5064835007829,2654.6770403601686,2705.5984959668667,2747.1444916179917,2786.2110184799012,2855.1183767071029,2918.0415499819087,2978.492094816113,3035.8879149581935,3091.6100935790596,3146.6893653756438,3197.0905718600484,3244.3206320723543,3291.7155795551043,3333.5510680199686,3373.7888137019349,3410.6943292819687,3443.8447306203893,3520.7476134685617,3558.097105854974,3580.2680237110126,3591.0535514394232,3595.1631693740055]
["Yl",{"$f":"IMDIV(1,COMPLEX(B21,B22))","v":"0.0000646186257301808-0.00114611240377912i"},"0.0000708562817143465-0.00093065784770696i","0.000111764525108824-0.000574945001239427i","0.000125986102497992-0.000509574402748662i","0.000151884572532842-0.000401309473544701i","0.000167077561128426-0.000336273040414098i","0.000175423351188992-0.000293559576686947i","0.000179531067853018-0.000263047745159596i","0.000181066159372081-0.000240207926745196i","0.000180984808595652-0.000222168777828541i","0.000180205141328143-0.000207555512437925i","0.000178747961622839-0.000195371456796105i","0.000175119953576789-0.000176327345343425i","0.000171091992216498-0.000161988378246745i","0.000166976284276343-0.000150569387837484i","0.000163015917704843-0.00014122871182326i","0.000159227856902102-0.000133400580162735i","0.000155587115228158-0.000126633298723314i","0.000152260699876188-0.000120682294228746i","0.000149195019986715-0.000115483563851735i","0.000146225596588093-0.000110779392478429i","0.000143539879742261-0.000106477402240683i","0.000141003171719031-0.000102575236284124i","0.000138652595057316-0.0000989915367914808i","0.00013648228048021-0.0000956716530739935i","0.00013087210094895-0.0000868715132389112i","0.00012770457428517-0.0000818841961019565i","0.000125017524030589-0.00007741323818339i","0.000122687784221897-0.0000734012785646994i","0.00012059871461455-0.0000698080539090037i"]
["Yc",{"$f":"COMPLEX(0,2*PI()*B18*1000000*$B$9*0.000000000001)","v":"0.0000188495559215388i"},"0.0000226194671058465i","0.0000339292006587698i","0.0000376991118430775i","0.0000471238898038469i","0.0000565486677646163i","0.0000659734457253857i","0.000075398223686155i","0.0000848230016469244i","0.0000942477796076938i","0.000103672557568463i","0.000113097335529233i","0.000131946891450771i","0.00015079644737231i","0.000169646003293849i","0.000188495559215388i","0.000207345115136926i","0.000226194671058465i","0.000245044226980004i","0.000263893782901543i","0.000282743338823081i","0.00030159289474462i","0.000320442450666159i","0.000339292006587698i","0.000358141562509236i","0.000414690230273853i","0.00045238934211693i","0.000490088453960008i","0.000527787565803085i","0.000565486677646163i"]
["Z",{"$f":"IMDIV(1,IMSUM(B23,B24))","v":"50.6853658903759+884.199087378652i"},"85.4148795058575+1094.60992009738i","366.213646594773+1772.72143377443i","528.157719983527+1978.19102916712i","1022.67912862446+2384.82551658182i","1573.81838774842+2634.91613238689i","2124.57190849589+2756.32119285691i","2661.93791443763+2782.31161775956i","3180.53707013745+2729.4305911687i","3684.59795304915+2604.29287879944i","4165.09426952679+2401.05413663208i","4616.44074634379+2124.85559184966i","5365.74983561437+1359.83597708401i","5819.90505231797+380.70732707873i","5911.71192717194-675.398039980481i","5658.63543137859-1640.73460523612i","5166.16212800338-2399.13708310071i","4560.02193454674-2917.9925408097i","3939.5551878462-3217.70947945984i","3368.99338332894-3351.27168481712i","2869.78378100729-3374.91763174708i","2446.40701586476-3325.43060940718i","2093.6499228162-3234.94621443018i","1801.41162074559-3122.04801203026i","1559.47906796152-2999.04374614672i","1050.40012002511-2631.1247181269i","831.504607580558-2412.41739200202i","672.389498445604-2219.51669182857i","553.847203870202-2051.22764470814i","463.411043413841-1904.68819637204i"]
["R",{"$f":"IMREAL(B25)","v":50.685365890375898},85.414879505857499,366.21364659477302,528.15771998352704,1022.67912862446,1573.81838774842,2124.5719084958901,2661.9379144376298,3180.53707013745,3684.59795304915,4165.0942695267904,4616.4407463437901,5365.7498356143697,5819.9050523179703,5911.7119271719403,5658.6354313785896,5166.1621280033796,4560.0219345467403,3939.5551878462002,3368.9933833289401,2869.7837810072901,2446.4070158647601,2093.6499228162002,1801.41162074559,1559.4790679615201,1050.40012002511,831.50460758055794,672.38949844560398,553.84720387020195,463.41104341384101]
["X",{"$f":"IMAGINARY(B25)","v":884.19908737865205},1094.6099200973799,1772.7214337744299,1978.19102916712,2384.82551658182,2634.9161323868898,2756.3211928569099,2782.3116177595598,2729.4305911687002,2604.2928787994401,2401.0541366320799,2124.85559184966,1359.83597708401,380.70732707872997,-675.39803998048103,-1640.7346052361199,-2399.1370831007098,-2917.9925408097001,-3217.7094794598402,-3351.2716848171199,-3374.9176317470801,-3325.4306094071799,-3234.9462144301801,-3122.04801203026,-2999.04374614672,-2631.1247181269,-2412.4173920020198,-2219.5166918285699,-2051.2276447081399,-1904.68819637204]
["|Z|",{"$f":"IMABS(B25)","v":885.65062662241837},1097.9374202642848,1810.1529539559665,2047.4839010491551,2594.8536268282705,3069.150915534738,3480.1023422540329,3850.6066273563151,4191.1343818262421,4512.0509166208958,4807.6055621362002,5081.981547656188,5535.3794073186755,5832.3436873085311,5950.168100337708,5891.7030636372438,5696.0591531624204,5413.7307387575574,5086.6245558613455,4751.9615236627442,4430.0934494443591,4128.3648125201498,3853.3423166861821,3604.4788273451341,3380.2719350241459,2833.0474218563877,2551.6970011467906,2319.1295744148429,2124.6838766390033,1960.2517492804031]
[]
[]
[]
["Module","Version","Date"]
["CubicSpline",{"$f":"CubicSpline_version(\"v\")","v":"1.04"},{"$f":"CubicSpline_version(\"d\")","v":"2014-03-07"}]
[]
["Copyright: Owen Duffy 2010. All rights reserved."]

{"sheet":"BN-43-202","index":3,"n_rows":35,"n_cols":31,"rows_kept":35,"cut":false,"hidden":false,"merged":[]}
["Calculate impedance of ferrite cored inductor"]
[]
["Reference:"]
["A method for estimating the impedance of a ferrite cored toroidal inductor at RF"]
[]
["Inputs:"]
["Al (nH for 1t)",2500,null,"BN-43-202"]
["N",6,null,"2843000202"]
["Cs (pF)",2.65]
[]
["Constants:"]
["Mix",{"$f":"Mix!B1","v":"#43"}]
["µi",{"$f":"Mix!B2","v":800}]
[]
["Calculated values:"]
["2*pi*N^2*Al",{"$f":"2*PI()*$B$8^2*$B$7*0.000000001","v":5.6548667764616284E-4}]
[]
["f (MHz)",1,{"$f":"30^(1/29)*B18","v":1.1244372275696026},{"$f":"$C$18/$B$18*C18","v":1.2643590787444143},{"$f":"$C$18/$B$18*D18","v":1.4216924171558261},1.5986038800034241,1.79752971481306,2.0212093289983755,2.27272301423675,2.5555343651620017,2.8735379765216056,3.2311130756359199,3.6331838287319456,4.0852871516300633,4.5936489586046267,5.1652698994413786,5.8080217653765835,6.5307558915239543,7.3434250485990438,8.257220502511883,9.2847261292753434,10.440091707545415,11.739227775204766,13.200024733359321,14.842599215028738,16.689571111273676,18.766375069686305,21.101610754889379,23.727436694480723,26.680013134075161,30.000000000000057]
["µ''",{"$f":"csinterpolate(CSTableU2,'BN-43-202'!B18*1000000)","v":48},{"$f":"csinterpolate(CSTableU2,'BN-43-202'!C18*1000000)","v":60.386240528414334},{"$f":"csinterpolate(CSTableU2,'BN-43-202'!D18*1000000)","v":73.643220329514321},{"$f":"csinterpolate(CSTableU2,'BN-43-202'!E18*1000000)","v":97.714586289462602},{"$f":"csinterpolate(CSTableU2,'BN-43-202'!F18*1000000)","v":131.12300701739528},{"$f":"csinterpolate(CSTableU2,'BN-43-202'!G18*1000000)","v":176.57034588686989},{"$f":"csinterpolate(CSTableU2,'BN-43-202'!H18*1000000)","v":228.600069929189},{"$f":"csinterpolate(CSTableU2,'BN-43-202'!I18*1000000)","v":282.02433852082873},{"$f":"csinterpolate(CSTableU2,'BN-43-202'!J18*1000000)","v":331.99626924004042},{"$f":"csinterpolate(CSTableU2,'BN-43-202'!K18*1000000)","v":373.61774328861225},{"$f":"csinterpolate(CSTableU2,'BN-43-202'!L18*1000000)","v":405.18003033367899},{"$f":"csinterpolate(CSTableU2,'BN-43-202'!M18*1000000)","v":424.47794812898155},{"$f":"csinterpolate(CSTableU2,'BN-43-202'!N18*1000000)","v":434.05901956951362},{"$f":"csinterpolate(CSTableU2,'BN-43-202'!O18*1000000)","v":434.88815891467857},{"$f":"csinterpolate(CSTableU2,'BN-43-202'!P18*1000000)","v":429.26179213024778},{"$f":"csinterpolate(CSTableU2,'BN-43-202'!Q18*1000000)","v":419.37516312670544},{"$f":"csinterpolate(CSTableU2,'BN-43-202'!R18*1000000)","v":405.66277544752438},{"$f":"csinterpolate(CSTableU2,'BN-43-202'!S18*1000000)","v":389.66965973437408},{"$f":"csinterpolate(CSTableU2,'BN-43-202'!T18*1000000)","v":372.3460265041337},{"$f":"csinterpolate(CSTableU2,'BN-43-202'!U18*1000000)","v":354.40333592159209},{"$f":"csinterpolate(CSTableU2,'BN-43-202'!V18*1000000)","v":336.27536405357989},{"$f":"csinterpolate(CSTableU2,'BN-43-202'!W18*1000000)","v":318.64380530246325},{"$f":"csinterpolate(CSTableU2,'BN-43-202'!X18*1000000)","v":301.50128223436809},{"$f":"csinterpolate(CSTableU2,'BN-43-202'!Y18*1000000)","v":284.96566685353537},{"$f":"csinterpolate(CSTableU2,'BN-43-202'!Z18*1000000)","v":269.37975251167393},{"$f":"csinterpolate(CSTableU2,'BN-43-202'!AA18*1000000)","v":254.6270063692613},{"$f":"csinterpolate(CSTableU2,'BN-43-202'!AB18*1000000)","v":240.72647047755126},{"$f":"csinterpolate(CSTableU2,'BN-43-202'!AC18*1000000)","v":227.5697787500431},{"$f":"csinterpolate(CSTableU2,'BN-43-202'!AD18*1000000)","v":214.89338164927355},{"$f":"csinterpolate(CSTableU2,'BN-43-202'!AE18*1000000)","v":202.6519482236732}]
["µ'",{"$f":"csinterpolate(CSTableU1,'BN-43-202'!B18*1000000)","v":851.35508159999995},{"$f":"csinterpolate(CSTableU1,'BN-43-202'!C18*1000000)","v":863.00171945883642},{"$f":"csinterpolate(CSTableU1,'BN-43-202'!D18*1000000)","v":877.8590577541047},{"$f":"csinterpolate(CSTableU1,'BN-43-202'!E18*1000000)","v":894.15717034793533},{"$f":"csinterpolate(CSTableU1,'BN-43-202'!F18*1000000)","v":906.65983437996556},{"$f":"csinterpolate(CSTableU1,'BN-43-202'!G18*1000000)","v":911.3845646157024},{"$f":"csinterpolate(CSTableU1,'BN-43-202'!H18*1000000)","v":903.95214847434283},{"$f":"csinterpolate(CSTableU1,'BN-43-202'!I18*1000000)","v":881.67154029834182},{"$f":"csinterpolate(CSTableU1,'BN-43-202'!J18*1000000)","v":845.5571118338853},{"$f":"csinterpolate(CSTableU1,'BN-43-202'!K18*1000000)","v":797.57176278679276},{"$f":"csinterpolate(CSTableU1,'BN-43-202'!L18*1000000)","v":742.20512887835628},{"$f":"csinterpolate(CSTableU1,'BN-43-202'!M18*1000000)","v":682.88793316386693},{"$f":"csinterpolate(CSTableU1,'BN-43-202'!N18*1000000)","v":624.18759241406849},{"$f":"csinterpolate(CSTableU1,'BN-43-202'!O18*1000000)","v":567.8603389201412},{"$f":"csinterpolate(CSTableU1,'BN-43-202'!P18*1000000)","v":515.55157832882912},{"$f":"csinterpolate(CSTableU1,'BN-43-202'!Q18*1000000)","v":467.19497614760616},{"$f":"csinterpolate(CSTableU1,'BN-43-202'!R18*1000000)","v":423.09680868209733},{"$f":"csinterpolate(CSTableU1,'BN-43-202'!S18*1000000)","v":383.43402954838922},{"$f":"csinterpolate(CSTableU1,'BN-43-202'!T18*1000000)","v":347.82014360815771},{"$f":"csinterpolate(CSTableU1,'BN-43-202'!U18*1000000)","v":315.80474161643662},{"$f":"csinterpolate(CSTableU1,'BN-43-202'!V18*1000000)","v":287.03689467083836},{"$f":"csinterpolate(CSTableU1,'BN-43-202'!W18*1000000)","v":261.21930822870934},{"$f":"csinterpolate(CSTableU1,'BN-43-202'!X18*1000000)","v":237.85418524726683},{"$f":"csinterpolate(CSTableU1,'BN-43-202'!Y18*1000000)","v":216.63060780159813},{"$f":"csinterpolate(CSTableU1,'BN-43-202'!Z18*1000000)","v":197.142042867583},{"$f":"csinterpolate(CSTableU1,'BN-43-202'!AA18*1000000)","v":179.24294847563763},{"$f":"csinterpolate(CSTableU1,'BN-43-202'!AB18*1000000)","v":162.43770958216464},{"$f":"csinterpolate(CSTableU1,'BN-43-202'!AC18*1000000)","v":146.6311936973882},{"$f":"csinterpolate(CSTableU1,'BN-43-202'!AD18*1000000)","v":131.53211496964167},{"$f":"csinterpolate(CSTableU1,'BN-43-202'!AE18*1000000)","v":117.3042197968505}]
["Rl",{"$f":"B19/$B$13*$B$16*B18*1000000","v":33.929200658769773},47.996061265533825,65.816622753315201,98.19682262690722,148.16722727331887,224.35008425475664,326.60290538022741,453.07019142109277,599.71832542514812,758.88649597267772,925.40657370410224,1090.1214785978746,1253.4406182450032,1412.1075581665868,1567.2838003933055,1721.7232034875349,1872.6689054801886,2022.6821862581278,2173.2665554669461,2325.9441903496599,2481.5998598237506,2644.0971006312175,2813.1720846880548,2989.7501067854282,3177.9167546782633,3377.6702363197478,3590.6398520830007,3816.7859198817118,4052.6721320290908,4297.3866344822773]
["Xl",{"$f":"B20/$B$13*$B$16*B18*1000000","v":601.78744573895221},685.92916261970504,784.56262743886043,898.56997190911773,1024.5133695137447,1158.0042097840296,1291.4842856691614,1416.39936336203,1527.4150409012609,1620.015246118717,1695.1514237641352,1753.756129614156,1802.4785719515576,1843.8760866089553,1882.3376591988974,1918.0449910027507,1953.1499698309312,1990.3145184600171,2030.1166968755808,2072.6221499510275,2118.2364030268427,2167.5902811316428,2219.3098125655629,2272.8049661530131,2325.7167446289127,2377.687978856286,2422.8964614890406,2459.2890962659658,2480.5628387118604,2487.5240072548636]
["Yl",{"$f":"IMDIV(1,COMPLEX(B21,B22))","v":"0.0000933918637983698-0.00165645078801744i"},"0.000101513988518334-0.00145077331978009i","0.000106178047342769-0.00126568827622463i","0.000120181562496714-0.00109974579979002i","0.000138269718810909-0.000956076307342703i","0.000161251349262381-0.0008323141125597i","0.000184042995397529-0.000727760324626249i","0.000204873812611753-0.000640481636725327i","0.000222723477086238-0.000567251615368233i","0.000237125493319981-0.000506198115871628i","0.000248103886000099-0.000454474462949905i","0.000255655484259425-0.000411291201386223i","0.000260047634007292-0.000373954921487335i","0.000261795833745673-0.000341842995334038i","0.000261232532780252-0.000313745241376692i","0.000259169693553539-0.000288721863963474i","0.000255770257093887-0.000266762409769643i","0.000251183892754995-0.000247164360249016i","0.000245720623997619-0.000229535369368012i","0.000239645287780782-0.000213545163141326i","0.00023311775241597-0.000198983936674777i","0.00022619038603069-0.000185427411999541i","0.000219106801140423-0.00017285322729367i","0.000211975149782343-0.000161143291552331i","0.000204919624853034-0.000149967742900184i","0.000197963842517516-0.000139355299857502i","0.000191366867856754-0.000129130775036486i","0.000185137454720689-0.000119290558407619i","0.000179501726977237-0.000109869562332791i","0.000174298642260964-0.000100892029024591i"]
["Yc",{"$f":"COMPLEX(0,2*PI()*B18*1000000*$B$9*0.000000000001)","v":"0.0000166504410640259i"},"0.0000187223757878444i","0.0000210521363244i","0.0000236718058030256i","0.0000266174596887201i","0.0000299296625773301i","0.0000336540268105468i","0.0000378418406034043i","0.0000425507743342228i","0.0000478456747233132i","0.0000537994578370793i","0.0000604941132150732i","0.0000680218329478386i","0.0000764862812540703i","0.0000860040220404357i","0.0000967061241029825i","0.00010873996607536i","0.00012227126597979i","0.00013748636332974i","0.00015459478521112i","0.00017383213167951i","0.000195463320208223i","0.000219786233866484i","0.000247135823466793i","0.000277888720172132i","0.000312468422083217i","0.000351351126230301i","0.000395072286281857i","0.000444233986276355i","0.000499513231920778i"]
["Z",{"$f":"IMDIV(1,IMSUM(B23,B24))","v":"34.6194901921279+607.85864763299i"},"49.2529329173787+694.807780761964i","68.0457130034212+797.642786704579i","102.510858713082+917.855175709156i","156.588673057729+1052.60015618416i","240.737324093812+1197.90554477118i","356.91084330717+1346.06624698278i","505.676471592983+1487.45592157231i","685.478658053366+1614.87793337656i","890.393270518113+1721.08837143585i","1117.10201114492+1804.06224683986i","1356.85043385029+1861.79922037365i","1613.0003329337+1897.61454878611i","1884.08412687261+1909.71095988805i","2174.97125174993+1896.12909090271i","2491.08274107148+1845.61354000185i","2829.64513174931+1748.23860908315i","3192.00254533513+1587.1203779416i","3568.8417543364+1336.91804476995i","3934.73843600621+967.90685937149i","4240.31637742355+457.501024859262i","4412.36805412597-195.77366461597i","4363.76479887778-934.724987640563i","4050.87949013116-1643.33123101659i","3511.55365448994-2192.08568016556i","2862.49330341507-2503.15990436758i","2225.1143106357-2583.86255203788i","1678.01178993636-2499.57520222016i","1246.36287381335-2321.64565402812i","920.856263392196-2105.99937352521i"]
["R",{"$f":"IMREAL(B25)","v":34.619490192127898},49.2529329173787,68.045713003421199,102.510858713082,156.58867305772901,240.73732409381199,356.91084330717001,505.67647159298298,685.47865805336596,890.39327051811301,1117.10201114492,1356.8504338502901,1613.0003329337001,1884.0841268726101,2174.9712517499302,2491.0827410714801,2829.6451317493102,3192.00254533513,3568.8417543363998,3934.7384360062101,4240.31637742355,4412.36805412597,4363.7647988777799,4050.8794901311599,3511.5536544899401,2862.4933034150699,2225.1143106356999,1678.0117899363599,1246.36287381335,920.85626339219596]
["X",{"$f":"IMAGINARY(B25)","v":607.85864763299003},694.80778076196395,797.64278670457895,917.85517570915601,1052.6001561841599,1197.9055447711801,1346.0662469827801,1487.45592157231,1614.8779333765599,1721.0883714358499,1804.0622468398601,1861.7992203736501,1897.6145487861099,1909.71095988805,1896.12909090271,1845.61354000185,1748.2386090831501,1587.1203779416001,1336.91804476995,967.90685937148999,457.50102485926197,-195.77366461597001,-934.72498764056297,-1643.33123101659,-2192.08568016556,-2503.1599043675801,-2583.8625520378801,-2499.57520222016,-2321.6456540281201,-2105.9993735252101]
["|Z|",{"$f":"IMABS(B25)","v":608.84369472252092},696.55129287679119,800.53996417417568,923.56190898617035,1064.1837723480369,1221.8560281004416,1392.58022797128,1571.0613649833217,1754.3408250260816,1937.7681384715893,2121.9230649995088,2303.7663589920858,2490.5242520017628,2682.6794343435563,2885.4471880986134,3100.2874966529084,3326.143383247565,3564.8045308969517,3811.0341543899103,4052.0377895822953,4264.925575950143,4416.7090885441576,4462.7518441477878,4371.5171483593413,4139.595233540178,3802.5882526155306,3409.9089992578233,3010.5812991379885,2635.0443935706153,2298.5233562261692]
[]
[]
[]
["Module","Version","Date"]
["CubicSpline",{"$f":"CubicSpline_version(\"v\")","v":"1.04"},{"$f":"CubicSpline_version(\"d\")","v":"2014-03-07"}]
[]
["Copyright: Owen Duffy 2010. All rights reserved."]

{"sheet":"FT140-43","index":4,"n_rows":35,"n_cols":31,"rows_kept":35,"cut":false,"hidden":false,"merged":[]}
["Calculate impedance of ferrite cored inductor"]
[]
["Reference:"]
["A method for estimating the impedance of a ferrite cored toroidal inductor at RF"]
[]
["Inputs:"]
["Al (nH for 1t)",885]
["N",9]
["Cs (pF)",3]
[]
["Constants:"]
["Mix",{"$f":"Mix!B1","v":"#43"}]
["µi",{"$f":"Mix!B2","v":800}]
[]
["Calculated values:"]
["2*pi*N^2*Al",{"$f":"2*PI()*$B$8^2*$B$7*0.000000001","v":4.5041013874516867E-4}]
[]
["f (MHz)",1,1.2,1.8,2,2.5,3,3.5,4,4.5,5,5.5,6,{"$f":"M18+1","v":7},8,9,10,11,12,13,14,15,16,17,18,19,22,24,26,28,30]
["µ''",{"$f":"csinterpolate(CSTableU2,'FT140-43'!B18*1000000)","v":48},{"$f":"csinterpolate(CSTableU2,'FT140-43'!C18*1000000)","v":66.347280523402432},{"$f":"csinterpolate(CSTableU2,'FT140-43'!D18*1000000)","v":177.16847791255344},{"$f":"csinterpolate(CSTableU2,'FT140-43'!E18*1000000)","v":223.78271015153356},{"$f":"csinterpolate(CSTableU2,'FT140-43'!F18*1000000)","v":322.99305056103822},{"$f":"csinterpolate(CSTableU2,'FT140-43'!G18*1000000)","v":386.64382608764055},{"$f":"csinterpolate(CSTableU2,'FT140-43'!H18*1000000)","v":419.50126365521584},{"$f":"csinterpolate(CSTableU2,'FT140-43'!I18*1000000)","v":433.16031558972583},{"$f":"csinterpolate(CSTableU2,'FT140-43'!J18*1000000)","v":435.27669864112431},{"$f":"csinterpolate(CSTableU2,'FT140-43'!K18*1000000)","v":431.488003256664},{"$f":"csinterpolate(CSTableU2,'FT140-43'!L18*1000000)","v":424.49052648831525},{"$f":"csinterpolate(CSTableU2,'FT140-43'!M18*1000000)","v":415.87136912183911},{"$f":"csinterpolate(CSTableU2,'FT140-43'!N18*1000000)","v":396.51381905459618},{"$f":"csinterpolate(CSTableU2,'FT140-43'!O18*1000000)","v":377.10613203745709},{"$f":"csinterpolate(CSTableU2,'FT140-43'!P18*1000000)","v":359.24301627958164},{"$f":"csinterpolate(CSTableU2,'FT140-43'!Q18*1000000)","v":343.01177808708195},{"$f":"csinterpolate(CSTableU2,'FT140-43'!R18*1000000)","v":328.3746681677697},{"$f":"csinterpolate(CSTableU2,'FT140-43'!S18*1000000)","v":315.3658178118219},{"$f":"csinterpolate(CSTableU2,'FT140-43'!T18*1000000)","v":303.71912185523638},{"$f":"csinterpolate(CSTableU2,'FT140-43'!U18*1000000)","v":293.05299615112307},{"$f":"csinterpolate(CSTableU2,'FT140-43'!V18*1000000)","v":283.53831282652527},{"$f":"csinterpolate(CSTableU2,'FT140-43'!W18*1000000)","v":274.9277292838795},{"$f":"csinterpolate(CSTableU2,'FT140-43'!X18*1000000)","v":267.03710576431388},{"$f":"csinterpolate(CSTableU2,'FT140-43'!Y18*1000000)","v":259.78646115941109},{"$f":"csinterpolate(CSTableU2,'FT140-43'!Z18*1000000)","v":253.10413373398319},{"$f":"csinterpolate(CSTableU2,'FT140-43'!AA18*1000000)","v":235.99249104234499},{"$f":"csinterpolate(CSTableU2,'FT140-43'!AB18*1000000)","v":226.32326658075181},{"$f":"csinterpolate(CSTableU2,'FT140-43'!AC18*1000000)","v":217.67779772639955},{"$f":"csinterpolate(CSTableU2,'FT140-43'!AD18*1000000)","v":209.8349532419403},{"$f":"csinterpolate(CSTableU2,'FT140-43'!AE18*1000000)","v":202.6519482236636}]
["µ'",{"$f":"csinterpolate(CSTableU1,'FT140-43'!B18*1000000)","v":851.35508159999995},{"$f":"csinterpolate(CSTableU1,'FT140-43'!C18*1000000)","v":871.43462511973303},{"$f":"csinterpolate(CSTableU1,'FT140-43'!D18*1000000)","v":911.39948614140371},{"$f":"csinterpolate(CSTableU1,'FT140-43'!E18*1000000)","v":905.13111057437402},{"$f":"csinterpolate(CSTableU1,'FT140-43'!F18*1000000)","v":853.41235727690139},{"$f":"csinterpolate(CSTableU1,'FT140-43'!G18*1000000)","v":778.18884880591781},{"$f":"csinterpolate(CSTableU1,'FT140-43'!H18*1000000)","v":702.00809951230747},{"$f":"csinterpolate(CSTableU1,'FT140-43'!I18*1000000)","v":634.66365833561963},{"$f":"csinterpolate(CSTableU1,'FT140-43'!J18*1000000)","v":577.45143379453214},{"$f":"csinterpolate(CSTableU1,'FT140-43'!K18*1000000)","v":529.67518696767149},{"$f":"csinterpolate(CSTableU1,'FT140-43'!L18*1000000)","v":488.91695376155724},{"$f":"csinterpolate(CSTableU1,'FT140-43'!M18*1000000)","v":454.54725462303065},{"$f":"csinterpolate(CSTableU1,'FT140-43'!N18*1000000)","v":399.24764527317183},{"$f":"csinterpolate(CSTableU1,'FT140-43'!O18*1000000)","v":357.04073559650715},{"$f":"csinterpolate(CSTableU1,'FT140-43'!P18*1000000)","v":323.944213278745},{"$f":"csinterpolate(CSTableU1,'FT140-43'!Q18*1000000)","v":297.16798360241029},{"$f":"csinterpolate(CSTableU1,'FT140-43'!R18*1000000)","v":275.11122800113469},{"$f":"csinterpolate(CSTableU1,'FT140-43'!S18*1000000)","v":256.6781558712193},{"$f":"csinterpolate(CSTableU1,'FT140-43'!T18*1000000)","v":240.72870055395072},{"$f":"csinterpolate(CSTableU1,'FT140-43'!U18*1000000)","v":226.83601903048785},{"$f":"csinterpolate(CSTableU1,'FT140-43'!V18*1000000)","v":214.80645504057313},{"$f":"csinterpolate(CSTableU1,'FT140-43'!W18*1000000)","v":203.94046916188543},{"$f":"csinterpolate(CSTableU1,'FT140-43'!X18*1000000)","v":194.26083744402825},{"$f":"csinterpolate(CSTableU1,'FT140-43'!Y18*1000000)","v":185.47551177934841},{"$f":"csinterpolate(CSTableU1,'FT140-43'!Z18*1000000)","v":177.42149961879051},{"$f":"csinterpolate(CSTableU1,'FT140-43'!AA18*1000000)","v":156.64931380497691},{"$f":"csinterpolate(CSTableU1,'FT140-43'!AB18*1000000)","v":145.11851941771693},{"$f":"csinterpolate(CSTableU1,'FT140-43'!AC18*1000000)","v":134.79024907345377},{"$f":"csinterpolate(CSTableU1,'FT140-43'!AD18*1000000)","v":125.53942475369485},{"$f":"csinterpolate(CSTableU1,'FT140-43'!AE18*1000000)","v":117.30421979684496}]
["Rl",{"$f":"B19/$B$13*$B$16*B18*1000000","v":27.024608324710119},44.825231738865469,179.54657711519297,251.98500382030522,454.62295224038274,653.05612257411394,826.64584785439729,975.49898921834722,1102.7983400296187,1214.6660713356864,1314.464503904831,1404.8451079973311,1562.6961372291269,1698.5242525264496,1820.3253390643415,1931.1997819928699,2033.6700979353529,2130.6594263415941,2222.9702919836395,2309.8957114820073,2394.5349528706183,2476.6047338329272,2555.8696719700242,2632.7352603358513,2707.5158648123534,2923.0687924130161,3058.1488170568864,3186.4393299599374,3307.912664115091,3422.8684543649642]
["Xl",{"$f":"B20/$B$13*$B$16*B18*1000000","v":479.32370053107542},588.75448561128439,923.6330302617564,1019.2005727409311,1201.2049320247831,1314.390552602312,1383.3380990693713,1429.2947320373139,1463.0061398287039,1491.0692153248879,1513.9654267279316,1535.4951901574607,1573.470388885248,1608.1476725769987,1641.4622780464581,1673.0934090622952,1703.802187647241,1734.1566569821487,1761.933020517298,1787.9617490686658,1814.0813478409195,1837.1371002191922,1859.3123283507452,1879.6511473732683,1897.9205036672888,1940.3020770439657,1960.8855739628198,1973.1040805667801,1979.0480402455123,1981.3128717784011]
["Yl",{"$f":"IMDIV(1,COMPLEX(B21,B22))","v":"0.000117252810795191-0.00207966200629936i"},"0.00012857126098896-0.00168871199749575i","0.000202800733815028-0.00104325829722004i","0.000228606295353649-0.000924641004917794i","0.000275599996822342-0.000728190413215138i","0.000303168218787474-0.000610179475927513i","0.000318311953768685-0.000532674366151282i","0.000325765552779262-0.000477309555020361i","0.000328551031322084-0.000435865886466922i","0.000328403417424559-0.000403133204659934i","0.000326988683242774-0.000376616911213825i","0.00032434457847654-0.0003545085058625i","0.000317761427934725-0.000319952283539736i","0.000310452547779327-0.000293933714172356i","0.000302984448311993-0.000273213547087407i","0.000295798221321858-0.000256264555910031i","0.000288924649320513-0.000242060130636366i","0.000282318393154812-0.000229780656084747i","0.000276282493358376-0.000218982345285682i","0.00027071970739725-0.000209549062816689i","0.000265331582286339-0.000201013175373253i","0.000260458252876817-0.000193207060004978i","0.000255855305312868-0.000186126440115191i","0.000251590099770948-0.000179623689030507i","0.000247651986237893-0.00017359964111878i","0.00023747211454188-0.000157631472198527i","0.000231724523960988-0.000148581806625682i","0.000226848775033533-0.00014046909334874i","0.000222621378707724-0.000133189248926599i","0.000218830687082201-0.0001266692140924i"]
["Yc",{"$f":"COMPLEX(0,2*PI()*B18*1000000*$B$9*0.000000000001)","v":"0.0000188495559215388i"},"0.0000226194671058465i","0.0000339292006587698i","0.0000376991118430775i","0.0000471238898038469i","0.0000565486677646163i","0.0000659734457253857i","0.000075398223686155i","0.0000848230016469244i","0.0000942477796076938i","0.000103672557568463i","0.000113097335529233i","0.000131946891450771i","0.00015079644737231i","0.000169646003293849i","0.000188495559215388i","0.000207345115136926i","0.000226194671058465i","0.000245044226980004i","0.000263893782901543i","0.000282743338823081i","0.00030159289474462i","0.000320442450666159i","0.000339292006587698i","0.000358141562509236i","0.000414690230273853i","0.00045238934211693i","0.000490088453960008i","0.000527787565803085i","0.000565486677646163i"]
["Z",{"$f":"IMDIV(1,IMSUM(B23,B24))","v":"27.5196366783128+483.679747307748i"},"46.0433663937239+596.653624087701i","191.34430671892+952.311032606526i","272.498513890339+1057.2339987228i","510.552870534595+1261.68531408511i","760.929947620307+1389.57263904929i","997.429607091723+1462.40601453511i","1217.10575476638+1501.59705376872i","1421.21055158425+1518.50338121651i","1615.6893453391+1519.66411951876i","1802.38280366144+1504.48695804447i","1984.01664509162+1476.71276795179i","2331.02456139927+1379.16420341899i","2656.41345630446+1224.76611754707i","2955.2016440017+1010.160677847i","3212.08287338209+735.905823423776i","3411.85437766638+409.942792631474i","3541.52868375686+44.9842062650742i","3587.56074050501-338.416605604306i","3550.77124899736-712.787670566421i","3442.25846200671-1060.31986208393i","3272.66458209855-1361.87077443605i","3064.03529085962-1608.52242619079i","2833.49147477558-1798.23775658085i","2596.28038184916-1934.66072052638i","1938.98774246846-2098.91499035067i","1587.20565539858-2080.94089586131i","1306.02491384081-2012.8457614634i","1084.53952624865-1922.35567908147i","910.09706224418-1825.00219583785i"]
["R",{"$f":"IMREAL(B25)","v":27.5196366783128},46.0433663937239,191.34430671892,272.49851389033898,510.552870534595,760.92994762030696,997.42960709172303,1217.10575476638,1421.21055158425,1615.6893453391001,1802.38280366144,1984.0166450916199,2331.0245613992702,2656.4134563044599,2955.2016440017001,3212.0828733820899,3411.8543776663801,3541.5286837568601,3587.56074050501,3550.7712489973601,3442.25846200671,3272.66458209855,3064.0352908596201,2833.4914747755802,2596.2803818491602,1938.9877424684601,1587.2056553985799,1306.0249138408101,1084.53952624865,910.09706224418005]
["X",{"$f":"IMAGINARY(B25)","v":483.67974730774802},596.65362408770102,952.31103260652606,1057.2339987227999,1261.6853140851099,1389.57263904929,1462.40601453511,1501.5970537687199,1518.50338121651,1519.6641195187599,1504.4869580444699,1476.7127679517901,1379.1642034189899,1224.7661175470701,1010.160677847,735.90582342377604,409.94279263147399,44.984206265074199,-338.41660560430603,-712.78767056642096,-1060.31986208393,-1361.8707744360499,-1608.5224261907899,-1798.2377565808499,-1934.6607205263799,-2098.91499035067,-2080.9408958613099,-2012.8457614634001,-1922.35567908147,-1825.00219583785]
["|Z|",{"$f":"IMABS(B25)","v":484.46199887978139},598.42755511912583,971.34388685874376,1091.7871441484574,1361.0709259216278,1584.2747565936447,1770.1686847449348,1932.9097573793608,2079.8297888770567,2218.0692272323281,2347.7786901367804,2473.2574971143713,2708.4625538927057,2925.1640113892299,3123.0820277057505,3295.3048062999528,3436.3939511691228,3541.8143650798384,3603.4869037866083,3621.6077543016418,3601.8636189043141,3544.7179680738104,3460.5861727736101,3355.9399528029139,3237.8363029533275,2857.4669905637911,2617.161975231435,2399.4268346865824,2207.1876542089544,2039.3405006321186]
[]
[]
[]
["Module","Version","Date"]
["CubicSpline",{"$f":"CubicSpline_version(\"v\")","v":"1.04"},{"$f":"CubicSpline_version(\"d\")","v":"2014-03-07"}]
[]
["Copyright: Owen Duffy 2010. All rights reserved."]

{"sheet":"5943001001","index":5,"n_rows":35,"n_cols":31,"rows_kept":35,"cut":false,"hidden":false,"merged":[]}
["Calculate impedance of ferrite cored inductor"]
[]
["Reference:"]
["A method for estimating the impedance of a ferrite cored toroidal inductor at RF"]
[]
["Inputs:"]
["Al (nH for 1t)",510]
["N",17]
["Cs (pF)",1.3]
[]
["Constants:"]
["Mix",{"$f":"Mix!B1","v":"#43"}]
["µi",{"$f":"Mix!B2","v":800}]
[]
["Calculated values:"]
["2*pi*N^2*Al",{"$f":"2*PI()*$B$8^2*$B$7*0.000000001","v":9.2607868242519924E-4}]
[]
["f (MHz)",1,1.2,1.8,2,2.5,3,3.5,4,4.5,5,5.5,6,{"$f":"M18+1","v":7},8,9,10,11,12,13,14,15,16,17,18,19,22,24,26,28,30]
["µ''",{"$f":"csinterpolate(CSTableU2,'5943001001'!B18*1000000)","v":48},{"$f":"csinterpolate(CSTableU2,'5943001001'!C18*1000000)","v":66.347280523402432},{"$f":"csinterpolate(CSTableU2,'5943001001'!D18*1000000)","v":177.16847791255344},{"$f":"csinterpolate(CSTableU2,'5943001001'!E18*1000000)","v":223.78271015153356},{"$f":"csinterpolate(CSTableU2,'5943001001'!F18*1000000)","v":322.99305056103822},{"$f":"csinterpolate(CSTableU2,'5943001001'!G18*1000000)","v":386.64382608764055},{"$f":"csinterpolate(CSTableU2,'5943001001'!H18*1000000)","v":419.50126365521584},{"$f":"csinterpolate(CSTableU2,'5943001001'!I18*1000000)","v":433.16031558972583},{"$f":"csinterpolate(CSTableU2,'5943001001'!J18*1000000)","v":435.27669864112431},{"$f":"csinterpolate(CSTableU2,'5943001001'!K18*1000000)","v":431.488003256664},{"$f":"csinterpolate(CSTableU2,'5943001001'!L18*1000000)","v":424.49052648831525},{"$f":"csinterpolate(CSTableU2,'5943001001'!M18*1000000)","v":415.87136912183911},{"$f":"csinterpolate(CSTableU2,'5943001001'!N18*1000000)","v":396.51381905459618},{"$f":"csinterpolate(CSTableU2,'5943001001'!O18*1000000)","v":377.10613203745709},{"$f":"csinterpolate(CSTableU2,'5943001001'!P18*1000000)","v":359.24301627958164},{"$f":"csinterpolate(CSTableU2,'5943001001'!Q18*1000000)","v":343.01177808708195},{"$f":"csinterpolate(CSTableU2,'5943001001'!R18*1000000)","v":328.3746681677697},{"$f":"csinterpolate(CSTableU2,'5943001001'!S18*1000000)","v":315.3658178118219},{"$f":"csinterpolate(CSTableU2,'5943001001'!T18*1000000)","v":303.71912185523638},{"$f":"csinterpolate(CSTableU2,'5943001001'!U18*1000000)","v":293.05299615112307},{"$f":"csinterpolate(CSTableU2,'5943001001'!V18*1000000)","v":283.53831282652527},{"$f":"csinterpolate(CSTableU2,'5943001001'!W18*1000000)","v":274.9277292838795},{"$f":"csinterpolate(CSTableU2,'5943001001'!X18*1000000)","v":267.03710576431388},{"$f":"csinterpolate(CSTableU2,'5943001001'!Y18*1000000)","v":259.78646115941109},{"$f":"csinterpolate(CSTableU2,'5943001001'!Z18*1000000)","v":253.10413373398319},{"$f":"csinterpolate(CSTableU2,'5943001001'!AA18*1000000)","v":235.99249104234499},{"$f":"csinterpolate(CSTableU2,'5943001001'!AB18*1000000)","v":226.32326658075181},{"$f":"csinterpolate(CSTableU2,'5943001001'!AC18*1000000)","v":217.67779772639955},{"$f":"csinterpolate(CSTableU2,'5943001001'!AD18*1000000)","v":209.8349532419403},{"$f":"csinterpolate(CSTableU2,'5943001001'!AE18*1000000)","v":202.6519482236636}]
["µ'",{"$f":"csinterpolate(CSTableU1,'5943001001'!B18*1000000)","v":851.35508159999995},{"$f":"csinterpolate(CSTableU1,'5943001001'!C18*1000000)","v":871.43462511973303},{"$f":"csinterpolate(CSTableU1,'5943001001'!D18*1000000)","v":911.39948614140371},{"$f":"csinterpolate(CSTableU1,'5943001001'!E18*1000000)","v":905.13111057437402},{"$f":"csinterpolate(CSTableU1,'5943001001'!F18*1000000)","v":853.41235727690139},{"$f":"csinterpolate(CSTableU1,'5943001001'!G18*1000000)","v":778.18884880591781},{"$f":"csinterpolate(CSTableU1,'5943001001'!H18*1000000)","v":702.00809951230747},{"$f":"csinterpolate(CSTableU1,'5943001001'!I18*1000000)","v":634.66365833561963},{"$f":"csinterpolate(CSTableU1,'5943001001'!J18*1000000)","v":577.45143379453214},{"$f":"csinterpolate(CSTableU1,'5943001001'!K18*1000000)","v":529.67518696767149},{"$f":"csinterpolate(CSTableU1,'5943001001'!L18*1000000)","v":488.91695376155724},{"$f":"csinterpolate(CSTableU1,'5943001001'!M18*1000000)","v":454.54725462303065},{"$f":"csinterpolate(CSTableU1,'5943001001'!N18*1000000)","v":399.24764527317183},{"$f":"csinterpolate(CSTableU1,'5943001001'!O18*1000000)","v":357.04073559650715},{"$f":"csinterpolate(CSTableU1,'5943001001'!P18*1000000)","v":323.944213278745},{"$f":"csinterpolate(CSTableU1,'5943001001'!Q18*1000000)","v":297.16798360241029},{"$f":"csinterpolate(CSTableU1,'5943001001'!R18*1000000)","v":275.11122800113469},{"$f":"csinterpolate(CSTableU1,'5943001001'!S18*1000000)","v":256.6781558712193},{"$f":"csinterpolate(CSTableU1,'5943001001'!T18*1000000)","v":240.72870055395072},{"$f":"csinterpolate(CSTableU1,'5943001001'!U18*1000000)","v":226.83601903048785},{"$f":"csinterpolate(CSTableU1,'5943001001'!V18*1000000)","v":214.80645504057313},{"$f":"csinterpolate(CSTableU1,'5943001001'!W18*1000000)","v":203.94046916188543},{"$f":"csinterpolate(CSTableU1,'5943001001'!X18*1000000)","v":194.26083744402825},{"$f":"csinterpolate(CSTableU1,'5943001001'!Y18*1000000)","v":185.47551177934841},{"$f":"csinterpolate(CSTableU1,'5943001001'!Z18*1000000)","v":177.42149961879051},{"$f":"csinterpolate(CSTableU1,'5943001001'!AA18*1000000)","v":156.64931380497691},{"$f":"csinterpolate(CSTableU1,'5943001001'!AB18*1000000)","v":145.11851941771693},{"$f":"csinterpolate(CSTableU1,'5943001001'!AC18*1000000)","v":134.79024907345377},{"$f":"csinterpolate(CSTableU1,'5943001001'!AD18*1000000)","v":125.53942475369485},{"$f":"csinterpolate(CSTableU1,'5943001001'!AE18*1000000)","v":117.30421979684496}]
["Rl",{"$f":"B19/$B$13*$B$16*B18*1000000","v":55.564720945511951},92.164203194411414,369.16188883320484,518.10099341668115,934.74055842519374,1342.73476886655,1699.6489016566868,2005.702671701084,2267.4401525697917,2497.4490096138215,2702.6424388719129,2888.4720718103736,3213.0262072428122,3492.2994989171148,3742.7321158498048,3970.6986938401205,4181.3857255310268,4380.8034156167614,4570.6018181693325,4749.327319736808,4923.3522592397348,5092.0941859473405,5255.0691351281557,5413.1108324042843,5566.8656387625406,6010.0594170852255,6287.7945755180926,6551.5699636297013,6801.3286958767285,7037.6868450701277]
["Xl",{"$f":"B20/$B$13*$B$16*B18*1000000","v":985.52724030515742},1210.5255441758695,1899.0621793998782,2095.5565657569341,2469.7718481011757,2702.4903891756258,2844.2519693357694,2938.7424224730371,3008.0557292230264,3065.7556203771392,3112.8320324395595,3157.0989199596584,3235.1789163394947,3306.4781399333729,3374.9755898900389,3440.011683918417,3503.1513487804546,3565.5625259482308,3622.6729147526612,3676.1900285308029,3729.8939786325336,3777.298419492317,3822.8924332233564,3864.7106453420661,3902.2738792707219,3989.413728611426,4031.7350177356489,4056.8572286355261,4069.0784773911701,4073.7351492141802]
["Yl",{"$f":"IMDIV(1,COMPLEX(B21,B22))","v":"0.0000570273949511723-0.00101147005171022i"},"0.0000625322670737063-0.000821326545494826i","0.0000986347147264418-0.000507401933891161i","0.000111185577599745-0.000449710906014873i","0.000134041561654179-0.000354164663622546i","0.0001474497168314-0.000296768544215101i","0.000154815064834169-0.000259072948894461i","0.000158440217456959-0.000232145569249166i","0.000159794970352965-0.000211988914250501i","0.000159723176457558-0.000196068958382845i","0.000159035102505314-0.000183172422012098i","0.000157749108542579-0.000172419718045684i","0.000154547309596993-0.000155612860068838i","0.000150992542828964-0.000142958398130439i","0.000147360337724712-0.000132880881491015i","0.000143865224882674-0.000124637524190315i","0.000140522175768647-0.00011772902140354i","0.000137309139109184-0.000111756742868818i","0.000134373502519813-0.00010650484715248i","0.000131667970858076-0.000101916850315587i","0.000129047387720987-0.0000977653129563177i","0.000126677182016925-0.0000939687095220632i","0.000124438479960329-0.0000905249600356699i","0.000122364043029245-0.000087362264388031i","0.000120448691454396-0.0000844323921134385i","0.000115497581456915-0.000076666070184893i","0.000112702167719272-0.0000722646503016624i","0.000110330785251909-0.0000683189290773082i","0.000108274737313679-0.0000647782842072275i","0.000106431086257464-0.0000616071823883143i"]
["Yc",{"$f":"COMPLEX(0,2*PI()*B18*1000000*$B$9*0.000000000001)","v":"8.16814089933346E-06i"},"9.80176907920015E-06i","0.0000147026536188002i","0.0000163362817986669i","0.0000204203522483337i","0.0000245044226980004i","0.0000285884931476671i","0.0000326725635973338i","0.0000367566340470006i","0.0000408407044966673i","0.000044924774946334i","0.0000490088453960008i","0.0000571769862953342i","0.0000653451271946677i","0.0000735132680940012i","0.0000816814089933346i","0.0000898495498926681i","0.0000980176907920015i","0.000106185831691335i","0.000114353972590668i","0.000122522113490002i","0.000130690254389335i","0.000138858395288669i","0.000147026536188002i","0.000155194677087336i","0.000179699099785336i","0.000196035381584003i","0.00021237166338267i","0.000228707945181337i","0.000245044226980004i"]
["Z",{"$f":"IMDIV(1,IMSUM(B23,B24))","v":"56.470211952647+993.499205153892i"},"94.3907857851474+1224.97495956285i","390.661329982444+1951.42812189828i","555.439663253527+2164.97013851755i","1036.25101524917+2580.11677294107i","1538.03058386777+2839.95489975751i","2008.21742213737+2989.77945110418i","2441.56917570158+3073.88584666871i","2841.26495672671+3115.75098971994i","3219.75120382088+3129.14110777055i","3581.5025777413+3113.36488946621i","3932.41957565957+3076.42519149864i","4603.11682184519+2931.86486145509i","5238.69156268515+2692.79515389172i","5838.46174242094+2352.16303728093i","6381.9747920228+1905.56713461456i","6846.80906653482+1358.40067424737i","7210.64448293409+721.491815484079i","7441.90145342999+17.6677810687532i","7527.69669390211-711.052837084419i","7474.02033794954-1433.83631361353i","7282.14752388987-2110.96981138155i","6982.66579474601-2712.15322777393i","6602.57199779035-3219.39060284964i","6172.0486589697-3626.01088318287i","4821.33949524592-4301.01833009176i","4022.06481575324-4417.07478733461i","3351.06738296765-4375.30122037857i","2805.31009630855-4247.28375634683i","2366.35916002049-4078.48821261271i"]
["R",{"$f":"IMREAL(B25)","v":56.470211952646999},94.390785785147401,390.66132998244399,555.43966325352699,1036.25101524917,1538.03058386777,2008.21742213737,2441.5691757015802,2841.2649567267099,3219.7512038208802,3581.5025777412998,3932.41957565957,4603.1168218451903,5238.6915626851496,5838.46174242094,6381.9747920228001,6846.80906653482,7210.6444829340899,7441.9014534299904,7527.6966939021104,7474.0203379495397,7282.1475238898702,6982.6657947460099,6602.57199779035,6172.0486589697002,4821.3394952459203,4022.0648157532401,3351.0673829676498,2805.3100963085499,2366.35916002049]
["X",{"$f":"IMAGINARY(B25)","v":993.49920515389204},1224.97495956285,1951.4281218982801,2164.9701385175499,2580.1167729410699,2839.9548997575098,2989.7794511041802,3073.8858466687102,3115.7509897199402,3129.1411077705502,3113.3648894662101,3076.4251914986398,2931.8648614550898,2692.79515389172,2352.16303728093,1905.56713461456,1358.40067424737,721.49181548407898,17.6677810687532,-711.05283708441902,-1433.8363136135299,-2110.9698113815498,-2712.1532277739302,-3219.3906028496399,-3626.0108831828702,-4301.0183300917597,-4417.0747873346099,-4375.3012203785702,-4247.2837563468302,-4078.48821261271]
["|Z|",{"$f":"IMABS(B25)","v":995.10278638912075},1228.6062314660232,1990.1477306167751,2235.0858865349874,2780.434989100946,3229.6875869918631,3601.6271851512997,3925.5616461961604,4216.7156394834146,4489.8019874873671,4745.5454532991798,4992.8264217693395,5457.5192204324148,5890.2491483613239,6294.4663373207113,6660.38950441621,6980.2612261561617,7246.6505572628748,7441.9224258958311,7561.2045106921014,7610.3131726835127,7581.9434252874516,7490.8875797224773,7345.6403968423219,7158.3615145960803,6460.9653461540474,5973.9061809696377,5511.1626154774149,5090.1064864478349,4715.2647618806823]
[]
[]
[]
["Module","Version","Date"]
["CubicSpline",{"$f":"CubicSpline_version(\"v\")","v":"1.04"},{"$f":"CubicSpline_version(\"d\")","v":"2014-03-07"}]
[]
["Copyright: Owen Duffy 2010. All rights reserved."]

{"sheet":"2643102002","index":6,"n_rows":35,"n_cols":31,"rows_kept":35,"cut":false,"hidden":false,"merged":[]}
["Calculate impedance of ferrite cored inductor"]
[]
["Reference:"]
["A method for estimating the impedance of a ferrite cored toroidal inductor at RF"]
[]
["Inputs:"]
["Al (nH for 1t)",{"$f":"10*3225*0.99","v":31927.5}]
["N",1]
["Cs (pF)",0.5]
[]
["Constants:"]
["Mix",{"$f":"Mix!B1","v":"#43"}]
["µi",{"$f":"Mix!B2","v":800}]
[]
["Calculated values:"]
["2*pi*N^2*Al",{"$f":"2*PI()*$B$8^2*$B$7*0.000000001","v":2.0060639889497625E-4}]
[]
["f (MHz)",1,1.2,1.8,2,2.5,3,3.5,4,4.5,5,5.5,6,{"$f":"M18+1","v":7},{"$f":"N18+1","v":8},{"$f":"O18+2","v":10},12,14,16,18,20,{"$f":"U18+5","v":25},{"$f":"V18+5","v":30},35,40,45,50,55,60,65,70]
["µ''",{"$f":"csinterpolate(CSTableU2,'2643102002'!B18*1000000)","v":48},{"$f":"csinterpolate(CSTableU2,'2643102002'!C18*1000000)","v":66.347280523402432},{"$f":"csinterpolate(CSTableU2,'2643102002'!D18*1000000)","v":177.16847791255344},{"$f":"csinterpolate(CSTableU2,'2643102002'!E18*1000000)","v":223.78271015153356},{"$f":"csinterpolate(CSTableU2,'2643102002'!F18*1000000)","v":322.99305056103822},{"$f":"csinterpolate(CSTableU2,'2643102002'!G18*1000000)","v":386.64382608764055},{"$f":"csinterpolate(CSTableU2,'2643102002'!H18*1000000)","v":419.50126365521584},{"$f":"csinterpolate(CSTableU2,'2643102002'!I18*1000000)","v":433.16031558972583},{"$f":"csinterpolate(CSTableU2,'2643102002'!J18*1000000)","v":435.27669864112431},{"$f":"csinterpolate(CSTableU2,'2643102002'!K18*1000000)","v":431.488003256664},{"$f":"csinterpolate(CSTableU2,'2643102002'!L18*1000000)","v":424.49052648831525},{"$f":"csinterpolate(CSTableU2,'2643102002'!M18*1000000)","v":415.87136912183911},{"$f":"csinterpolate(CSTableU2,'2643102002'!N18*1000000)","v":396.51381905459618},{"$f":"csinterpolate(CSTableU2,'2643102002'!O18*1000000)","v":377.10613203745709},{"$f":"csinterpolate(CSTableU2,'2643102002'!P18*1000000)","v":343.01177808708195},{"$f":"csinterpolate(CSTableU2,'2643102002'!Q18*1000000)","v":315.3658178118219},{"$f":"csinterpolate(CSTableU2,'2643102002'!R18*1000000)","v":293.05299615112307},{"$f":"csinterpolate(CSTableU2,'2643102002'!S18*1000000)","v":274.9277292838795},{"$f":"csinterpolate(CSTableU2,'2643102002'!T18*1000000)","v":259.78646115941109},{"$f":"csinterpolate(CSTableU2,'2643102002'!U18*1000000)","v":247.00849635707047},{"$f":"csinterpolate(CSTableU2,'2643102002'!V18*1000000)","v":221.92381522438305},{"$f":"csinterpolate(CSTableU2,'2643102002'!W18*1000000)","v":202.6519482236636},{"$f":"csinterpolate(CSTableU2,'2643102002'!X18*1000000)","v":186.81444385359242},{"$f":"csinterpolate(CSTableU2,'2643102002'!Y18*1000000)","v":173.45644401060923},{"$f":"csinterpolate(CSTableU2,'2643102002'!Z18*1000000)","v":162.065910282792},{"$f":"csinterpolate(CSTableU2,'2643102002'!AA18*1000000)","v":152.07985829077916},{"$f":"csinterpolate(CSTableU2,'2643102002'!AB18*1000000)","v":143.29355419081313},{"$f":"csinterpolate(CSTableU2,'2643102002'!AC18*1000000)","v":135.41284775010064},{"$f":"csinterpolate(CSTableU2,'2643102002'!AD18*1000000)","v":128.30062824135248},{"$f":"csinterpolate(CSTableU2,'2643102002'!AE18*1000000)","v":121.86888026580752}]
["µ'",{"$f":"csinterpolate(CSTableU1,'2643102002'!B18*1000000)","v":851.35508159999995},{"$f":"csinterpolate(CSTableU1,'2643102002'!C18*1000000)","v":871.43462511973303},{"$f":"csinterpolate(CSTableU1,'2643102002'!D18*1000000)","v":911.39948614140371},{"$f":"csinterpolate(CSTableU1,'2643102002'!E18*1000000)","v":905.13111057437402},{"$f":"csinterpolate(CSTableU1,'2643102002'!F18*1000000)","v":853.41235727690139},{"$f":"csinterpolate(CSTableU1,'2643102002'!G18*1000000)","v":778.18884880591781},{"$f":"csinterpolate(CSTableU1,'2643102002'!H18*1000000)","v":702.00809951230747},{"$f":"csinterpolate(CSTableU1,'2643102002'!I18*1000000)","v":634.66365833561963},{"$f":"csinterpolate(CSTableU1,'2643102002'!J18*1000000)","v":577.45143379453214},{"$f":"csinterpolate(CSTableU1,'2643102002'!K18*1000000)","v":529.67518696767149},{"$f":"csinterpolate(CSTableU1,'2643102002'!L18*1000000)","v":488.91695376155724},{"$f":"csinterpolate(CSTableU1,'2643102002'!M18*1000000)","v":454.54725462303065},{"$f":"csinterpolate(CSTableU1,'2643102002'!N18*1000000)","v":399.24764527317183},{"$f":"csinterpolate(CSTableU1,'2643102002'!O18*1000000)","v":357.04073559650715},{"$f":"csinterpolate(CSTableU1,'2643102002'!P18*1000000)","v":297.16798360241029},{"$f":"csinterpolate(CSTableU1,'2643102002'!Q18*1000000)","v":256.6781558712193},{"$f":"csinterpolate(CSTableU1,'2643102002'!R18*1000000)","v":226.83601903048785},{"$f":"csinterpolate(CSTableU1,'2643102002'!S18*1000000)","v":203.94046916188543},{"$f":"csinterpolate(CSTableU1,'2643102002'!T18*1000000)","v":185.47551177934841},{"$f":"csinterpolate(CSTableU1,'2643102002'!U18*1000000)","v":170.00962425060237},{"$f":"csinterpolate(CSTableU1,'2643102002'!V18*1000000)","v":139.79023257626091},{"$f":"csinterpolate(CSTableU1,'2643102002'!W18*1000000)","v":117.30421979684496},{"$f":"csinterpolate(CSTableU1,'2643102002'!X18*1000000)","v":99.848923459336945},{"$f":"csinterpolate(CSTableU1,'2643102002'!Y18*1000000)","v":86.032251659697579},{"$f":"csinterpolate(CSTableU1,'2643102002'!Z18*1000000)","v":74.91223435736562},{"$f":"csinterpolate(CSTableU1,'2643102002'!AA18*1000000)","v":65.647067854114312},{"$f":"csinterpolate(CSTableU1,'2643102002'!AB18*1000000)","v":57.83468258150031},{"$f":"csinterpolate(CSTableU1,'2643102002'!AC18*1000000)","v":51.16007803489719},{"$f":"csinterpolate(CSTableU1,'2643102002'!AD18*1000000)","v":45.452718286589509},{"$f":"csinterpolate(CSTableU1,'2643102002'!AE18*1000000)","v":40.534863180334519}]
["Rl",{"$f":"B19/$B$13*$B$16*B18*1000000","v":12.036383933698573},19.964533533411835,79.967543291418338,112.23060904614347,202.48272731610268,290.86209602406393,368.17654052272121,434.4736552733317,491.17101208475486,540.99534062314467,585.44417170149245,625.69843322291683,696.00308183557161,756.499031492477,860.12946975765294,948.96601568698122,1028.7953592570523,1103.0452345602396,1172.5835952343291,1238.7871237663689,1391.2292937874249,1524.4979085825125,1639.5825618828649,1739.8236299048192,1828.7695488075303,1906.7620447607189,1976.2602675118292,2037.3512813446032,2091.2065693561913,2139.1717556550848]
["Xl",{"$f":"B20/$B$13*$B$16*B18*1000000","v":213.48409637589327},262.22304302649485,411.37327995650736,453.93773155033938,534.99993676810027,585.4112348219337,616.11951116743182,636.58795504110117,651.60254627022312,664.10144901004901,674.29910248805231,683.88815908143022,700.80178337356153,716.24656226828665,745.17248821701094,772.36920786493079,796.33324605412326,818.23526215035588,837.17042627830119,852.62546246003421,876.33797368171554,882.44914157361939,876.32706738139927,862.9310097139138,845.31788817792926,823.07636751425184,797.63800901872889,769.72792663250243,740.84612350617022,711.51088157690378]
["Yl",{"$f":"IMDIV(1,COMPLEX(B21,B22))","v":"0.000263261067789627-0.00466934683021125i"},"0.000288673740317706-0.00379156900917649i","0.000455336954147061-0.00234236852356803i","0.000513276713880707-0.0020760438630501i","0.000618788999207877-0.00163496452184879i","0.000680686360152847-0.00137000127576114i","0.000714687727066264-0.00119598346057645i","0.000731422869030814-0.00107167599879836i","0.000737676945589962-0.000978624886739685i","0.000737345516500807-0.000905132057819981i","0.000734169094299843-0.000845596532154508i","0.000728232436241196-0.000795957786947092i","0.000713451662720251-0.000718370666213954i","0.00069704144977092-0.000659952652116368i","0.000664138923982692-0.000575376233354023i","0.000633873432411015-0.00051591343924313i","0.000607831562908837-0.000470488593470031i","0.000584792102653656-0.000433796823943525i","0.000564880942826103-0.000403298853594922i","0.000547756896841134-0.000377007048688799i","0.000514605468781108-0.000324150961865869i","0.000491328096577796-0.000284403182592238i","0.000474391528067428-0.00025355364606007i","0.000461291477209372-0.000228794869410115i","0.000450551217791324-0.000208259703464387i","0.00044207635252765-0.000190827481280219i","0.000435124127430753-0.00017562036154117i","0.000429523602313766-0.00016227751928499i","0.000424869456307896-0.000150517358884724i","0.000420905941766317-0.00013999771495459i"]
["Yc",{"$f":"COMPLEX(0,2*PI()*B18*1000000*$B$9*0.000000000001)","v":"3.14159265358979E-06i"},"3.76991118430775E-06i","5.65486677646163E-06i","6.28318530717959E-06i","7.85398163397448E-06i","9.42477796076938E-06i","0.0000109955742875643i","0.0000125663706143592i","0.0000141371669411541i","0.000015707963267949i","0.0000172787595947439i","0.0000188495559215388i","0.0000219911485751286i","0.0000251327412287183i","0.0000314159265358979i","0.0000376991118430775i","0.0000439822971502571i","0.0000502654824574367i","0.0000565486677646163i","0.0000628318530717959i","0.0000785398163397448i","0.0000942477796076938i","0.000109955742875643i","0.000125663706143592i","0.000141371669411541i","0.00015707963267949i","0.000172787595947439i","0.000188495559215388i","0.000204203522483337i","0.000219911485751286i"]
["Z",{"$f":"IMDIV(1,IMSUM(B23,B24))","v":"12.05254529891+213.626915942681i"},"20.0040642099189+262.481015027957i","80.3408798244973+412.296057622243i","112.873504654333+455.156322456638i","204.194608029532+536.931327811581i","294.096208992472+587.848403422529i","373.209983198001+618.800760644246i","441.495821945875+639.291572118161i","500.322182246996+654.154374221502i","552.420686152191+666.358250775621i","599.265651944274+676.114527081043i","642.055896723115+685.147896868425i","717.788752224554+700.612825170056i","784.194380704239+714.193118703153i","901.170911869194+738.100400404646i","1005.37516991831+758.487082884156i","1102.408651014+773.543625350329i","1195.70291687711+784.192436333748i","1285.78942068392+789.277326882744i","1373.70680937307+787.912681782932i","1582.70201810686+755.392780054352i","1770.15380853782+685.090702428082i","1931.02946486321+584.520940479971i","2064.62881870289+461.590084157945i","2171.64086225927+322.397947690437i","2248.94648615159+171.683251302247i","2298.09738288519+14.9611818487736i","2319.51857005677-141.582977423029i","2316.67460652296-292.733144461231i","2293.1652210496-435.383447201736i"]
["R",{"$f":"IMREAL(B25)","v":12.052545298909999},20.004064209918901,80.340879824497307,112.873504654333,204.19460802953199,294.09620899247199,373.209983198001,441.49582194587498,500.32218224699602,552.42068615219102,599.26565194427405,642.05589672311498,717.78875222455395,784.19438070423905,901.17091186919401,1005.37516991831,1102.408651014,1195.7029168771101,1285.7894206839201,1373.70680937307,1582.7020181068599,1770.1538085378199,1931.02946486321,2064.6288187028899,2171.6408622592699,2248.9464861515899,2298.0973828851902,2319.5185700567699,2316.6746065229599,2293.1652210495999]
["X",{"$f":"IMAGINARY(B25)","v":213.62691594268099},262.48101502795703,412.29605762224298,455.15632245663801,536.93132781158101,587.84840342252903,618.800760644246,639.29157211816096,654.15437422150205,666.35825077562095,676.11452708104298,685.14789686842505,700.612825170056,714.193118703153,738.10040040464605,758.48708288415605,773.54362535032897,784.19243633374799,789.27732688274398,787.91268178293205,755.39278005435199,685.09070242808195,584.52094047997105,461.590084157945,322.39794769043698,171.68325130224699,14.961181848773601,-141.58297742302901,-292.73314446123101,-435.38344720173598]
["|Z|",{"$f":"IMABS(B25)","v":213.96664007121194},263.24218095704407,420.05082561735099,468.94317984719942,574.44816017969958,657.31143725798665,722.63412106857345,776.92488374164805,823.55341743054009,865.56451687069682,903.46564701167142,938.96933661336845,1003.0349064777605,1060.6755571479155,1164.8610275379006,1259.3974301984213,1346.7273570216939,1429.9172153070569,1508.7124090010861,1583.6277315809773,1753.7285794209347,1898.1026780536272,2017.5578118184087,2115.5986303671662,2195.4417485574945,2255.4900656733766,2298.1460828646364,2323.8356517478105,2335.0961278659324,2334.1305612858778]
[]
[]
[]
["Module","Version","Date"]
["CubicSpline",{"$f":"CubicSpline_version(\"v\")","v":"1.04"},{"$f":"CubicSpline_version(\"d\")","v":"2014-03-07"}]
[]
["Copyright: Owen Duffy 2010. All rights reserved."]

{"sheet":"FT240-43 x 2","index":7,"n_rows":35,"n_cols":31,"rows_kept":35,"cut":false,"hidden":false,"merged":[]}
["Calculate impedance of ferrite cored inductor"]
[]
["Reference:"]
["A method for estimating the impedance of a ferrite cored toroidal inductor at RF"]
[]
["Inputs:"]
["Al (nH for 1t)",{"$f":"2*1075","v":2150}]
["N",7]
["Cs (pF)",3]
[]
["Constants:"]
["Mix",{"$f":"Mix!B1","v":"#43"}]
["µi",{"$f":"Mix!B2","v":800}]
[]
["Calculated values:"]
["2*pi*N^2*Al",{"$f":"2*PI()*$B$8^2*$B$7*0.000000001","v":6.6193357211136942E-4}]
[]
["f (MHz)",1,1.2,1.8,2,2.5,3,3.5,4,4.5,5,5.5,6,{"$f":"M18+1","v":7},8,9,10,11,12,13,14,15,16,17,18,19,22,24,26,28,30]
["µ''",{"$f":"csinterpolate(CSTableU2,'FT240-43 x 2'!B18*1000000)","v":48},{"$f":"csinterpolate(CSTableU2,'FT240-43 x 2'!C18*1000000)","v":66.347280523402432},{"$f":"csinterpolate(CSTableU2,'FT240-43 x 2'!D18*1000000)","v":177.16847791255344},{"$f":"csinterpolate(CSTableU2,'FT240-43 x 2'!E18*1000000)","v":223.78271015153356},{"$f":"csinterpolate(CSTableU2,'FT240-43 x 2'!F18*1000000)","v":322.99305056103822},{"$f":"csinterpolate(CSTableU2,'FT240-43 x 2'!G18*1000000)","v":386.64382608764055},{"$f":"csinterpolate(CSTableU2,'FT240-43 x 2'!H18*1000000)","v":419.50126365521584},{"$f":"csinterpolate(CSTableU2,'FT240-43 x 2'!I18*1000000)","v":433.16031558972583},{"$f":"csinterpolate(CSTableU2,'FT240-43 x 2'!J18*1000000)","v":435.27669864112431},{"$f":"csinterpolate(CSTableU2,'FT240-43 x 2'!K18*1000000)","v":431.488003256664},{"$f":"csinterpolate(CSTableU2,'FT240-43 x 2'!L18*1000000)","v":424.49052648831525},{"$f":"csinterpolate(CSTableU2,'FT240-43 x 2'!M18*1000000)","v":415.87136912183911},{"$f":"csinterpolate(CSTableU2,'FT240-43 x 2'!N18*1000000)","v":396.51381905459618},{"$f":"csinterpolate(CSTableU2,'FT240-43 x 2'!O18*1000000)","v":377.10613203745709},{"$f":"csinterpolate(CSTableU2,'FT240-43 x 2'!P18*1000000)","v":359.24301627958164},{"$f":"csinterpolate(CSTableU2,'FT240-43 x 2'!Q18*1000000)","v":343.01177808708195},{"$f":"csinterpolate(CSTableU2,'FT240-43 x 2'!R18*1000000)","v":328.3746681677697},{"$f":"csinterpolate(CSTableU2,'FT240-43 x 2'!S18*1000000)","v":315.3658178118219},{"$f":"csinterpolate(CSTableU2,'FT240-43 x 2'!T18*1000000)","v":303.71912185523638},{"$f":"csinterpolate(CSTableU2,'FT240-43 x 2'!U18*1000000)","v":293.05299615112307},{"$f":"csinterpolate(CSTableU2,'FT240-43 x 2'!V18*1000000)","v":283.53831282652527},{"$f":"csinterpolate(CSTableU2,'FT240-43 x 2'!W18*1000000)","v":274.9277292838795},{"$f":"csinterpolate(CSTableU2,'FT240-43 x 2'!X18*1000000)","v":267.03710576431388},{"$f":"csinterpolate(CSTableU2,'FT240-43 x 2'!Y18*1000000)","v":259.78646115941109},{"$f":"csinterpolate(CSTableU2,'FT240-43 x 2'!Z18*1000000)","v":253.10413373398319},{"$f":"csinterpolate(CSTableU2,'FT240-43 x 2'!AA18*1000000)","v":235.99249104234499},{"$f":"csinterpolate(CSTableU2,'FT240-43 x 2'!AB18*1000000)","v":226.32326658075181},{"$f":"csinterpolate(CSTableU2,'FT240-43 x 2'!AC18*1000000)","v":217.67779772639955},{"$f":"csinterpolate(CSTableU2,'FT240-43 x 2'!AD18*1000000)","v":209.8349532419403},{"$f":"csinterpolate(CSTableU2,'FT240-43 x 2'!AE18*1000000)","v":202.6519482236636}]
["µ'",{"$f":"csinterpolate(CSTableU1,'FT240-43 x 2'!B18*1000000)","v":851.35508159999995},{"$f":"csinterpolate(CSTableU1,'FT240-43 x 2'!C18*1000000)","v":871.43462511973303},{"$f":"csinterpolate(CSTableU1,'FT240-43 x 2'!D18*1000000)","v":911.39948614140371},{"$f":"csinterpolate(CSTableU1,'FT240-43 x 2'!E18*1000000)","v":905.13111057437402},{"$f":"csinterpolate(CSTableU1,'FT240-43 x 2'!F18*1000000)","v":853.41235727690139},{"$f":"csinterpolate(CSTableU1,'FT240-43 x 2'!G18*1000000)","v":778.18884880591781},{"$f":"csinterpolate(CSTableU1,'FT240-43 x 2'!H18*1000000)","v":702.00809951230747},{"$f":"csinterpolate(CSTableU1,'FT240-43 x 2'!I18*1000000)","v":634.66365833561963},{"$f":"csinterpolate(CSTableU1,'FT240-43 x 2'!J18*1000000)","v":577.45143379453214},{"$f":"csinterpolate(CSTableU1,'FT240-43 x 2'!K18*1000000)","v":529.67518696767149},{"$f":"csinterpolate(CSTableU1,'FT240-43 x 2'!L18*1000000)","v":488.91695376155724},{"$f":"csinterpolate(CSTableU1,'FT240-43 x 2'!M18*1000000)","v":454.54725462303065},{"$f":"csinterpolate(CSTableU1,'FT240-43 x 2'!N18*1000000)","v":399.24764527317183},{"$f":"csinterpolate(CSTableU1,'FT240-43 x 2'!O18*1000000)","v":357.04073559650715},{"$f":"csinterpolate(CSTableU1,'FT240-43 x 2'!P18*1000000)","v":323.944213278745},{"$f":"csinterpolate(CSTableU1,'FT240-43 x 2'!Q18*1000000)","v":297.16798360241029},{"$f":"csinterpolate(CSTableU1,'FT240-43 x 2'!R18*1000000)","v":275.11122800113469},{"$f":"csinterpolate(CSTableU1,'FT240-43 x 2'!S18*1000000)","v":256.6781558712193},{"$f":"csinterpolate(CSTableU1,'FT240-43 x 2'!T18*1000000)","v":240.72870055395072},{"$f":"csinterpolate(CSTableU1,'FT240-43 x 2'!U18*1000000)","v":226.83601903048785},{"$f":"csinterpolate(CSTableU1,'FT240-43 x 2'!V18*1000000)","v":214.80645504057313},{"$f":"csinterpolate(CSTableU1,'FT240-43 x 2'!W18*1000000)","v":203.94046916188543},{"$f":"csinterpolate(CSTableU1,'FT240-43 x 2'!X18*1000000)","v":194.26083744402825},{"$f":"csinterpolate(CSTableU1,'FT240-43 x 2'!Y18*1000000)","v":185.47551177934841},{"$f":"csinterpolate(CSTableU1,'FT240-43 x 2'!Z18*1000000)","v":177.42149961879051},{"$f":"csinterpolate(CSTableU1,'FT240-43 x 2'!AA18*1000000)","v":156.64931380497691},{"$f":"csinterpolate(CSTableU1,'FT240-43 x 2'!AB18*1000000)","v":145.11851941771693},{"$f":"csinterpolate(CSTableU1,'FT240-43 x 2'!AC18*1000000)","v":134.79024907345377},{"$f":"csinterpolate(CSTableU1,'FT240-43 x 2'!AD18*1000000)","v":125.53942475369485},{"$f":"csinterpolate(CSTableU1,'FT240-43 x 2'!AE18*1000000)","v":117.30421979684496}]
["Rl",{"$f":"B19/$B$13*$B$16*B18*1000000","v":39.716014326682163},65.876238595096297,263.86596776292919,370.32322176841956,668.12482414067551,959.74698351374616,1214.8586185598206,1433.6167749759766,1620.6989624345447,1785.1024707430361,1931.7686473651943,2064.5941567624864,2296.5758255853875,2496.1920904465569,2675.1938964975707,2838.1376443181812,2988.7304850036894,3131.2683345900386,3266.9306027826797,3394.6782898044148,3519.06615449424,3639.6778783469181,3756.1675377281445,3869.1310549819614,3979.0304297688695,4295.8121961457937,4494.3290489913225,4682.867872097082,4861.3880053640896,5030.3297993631722]
["Xl",{"$f":"B20/$B$13*$B$16*B18*1000000","v":704.4256378733179},865.24775140055544,1357.3933143346035,1497.8416731290658,1765.3196566758859,1931.6599667525084,2032.9869392056673,2100.5259122568318,2150.069007895012,2191.3111785516767,2224.9600014757284,2256.6006595952913,2312.4099249363308,2363.3724950266696,2412.3324404295786,2458.8183112884535,2503.9486708326267,2548.558328981926,2589.3791408453276,2627.6315863065347,2666.0175768297536,2699.9008650079081,2732.4901135767732,2762.3805311539904,2789.2296165355215,2851.5145960323885,2881.7645981304745,2899.7212092866048,2908.4565953806896,2911.7850462698548]
["Yl",{"$f":"IMDIV(1,COMPLEX(B21,B22))","v":"0.0000797842215648151-0.00141509796793137i"},"0.0000874858172187336-0.00114907754665859i","0.000137994974879263-0.000709881072958884i","0.000155554269410785-0.000629168395230487i","0.000187530951800754-0.000495494349988866i","0.000206289641801424-0.000415194264184753i","0.000216594137692531-0.000362456212031842i","0.000221665910308318-0.000324783440452155i","0.000223561278408386-0.000296583256491518i","0.000223460835102795-0.000274310429767892i","0.000222498184701074-0.000256267520459071i","0.000220699013840444-0.000241223941554374i","0.00021621953451828-0.000217710293740351i","0.000211246235287718-0.000200006058855675i","0.000206164595892219-0.000185907101309547i","0.00020127475553353-0.000174374225822597i","0.000196597660052595-0.000164708879588684i","0.000192102458598032-0.000156353358627765i","0.000187995353928763-0.000149005689813043i","0.000184210177738699-0.000142586849245509i","0.000180543848848564-0.000136778637651938i","0.000177227810702179-0.000131466996644109i","0.000174095752836763-0.000126649016228357i","0.000171193510223829-0.000122224244405808i","0.000168513836103117-0.000118125204305645i","0.000161586981783908-0.000107259725529676i","0.000157676056005159-0.000101101915595273i","0.000154358371507156-0.0000955816512264305i","0.000151481856029076-0.0000906281092482513i","0.000148902494575107-0.0000861915767651983i"]
["Yc",{"$f":"COMPLEX(0,2*PI()*B18*1000000*$B$9*0.000000000001)","v":"0.0000188495559215388i"},"0.0000226194671058465i","0.0000339292006587698i","0.0000376991118430775i","0.0000471238898038469i","0.0000565486677646163i","0.0000659734457253857i","0.000075398223686155i","0.0000848230016469244i","0.0000942477796076938i","0.000103672557568463i","0.000113097335529233i","0.000131946891450771i","0.00015079644737231i","0.000169646003293849i","0.000188495559215388i","0.000207345115136926i","0.000226194671058465i","0.000245044226980004i","0.000263893782901543i","0.000282743338823081i","0.00030159289474462i","0.000320442450666159i","0.000339292006587698i","0.000358141562509236i","0.000414690230273853i","0.00045238934211693i","0.000490088453960008i","0.000527787565803085i","0.000565486677646163i"]
["Z",{"$f":"IMDIV(1,IMSUM(B23,B24))","v":"40.7920830543544+713.873997516485i"},"68.5323912728711+882.41578251914i","289.933704285303+1420.2055576736i","415.883761978305+1581.32895742117i","793.936636979043+1898.23456801017i","1205.08900011813+2095.11180208821i","1606.60205047888+2199.18149841979i","1991.09292207016+2240.07895161263i","2357.69292769399+2233.23850520193i","2713.3092935907+2186.35924225151i","3056.68570306998+2096.35346937715i","3388.879380898+1967.41075434507i","3996.20268256261+1585.09238796988i","4490.15284498617+1045.97687481507i","4820.50420225915+380.214124441619i","4943.99685031565-346.868277798432i","4858.04306617513-1053.56629584266i","4597.82453160748-1671.59807301302i","4218.39103068108-2154.98997883934i","3786.53374036606-2493.52561768048i","3349.49726039398-2707.97576214881i","2936.54376501013-2818.86992427686i","2565.31602567699-2855.56307338761i","2240.00125695882-2840.24820506888i","1959.35464485901-2790.73325469i","1339.59376827998-2548.6705908352i","1063.47746983415-2369.32780415041i","860.116707889583-2198.27333687256i","707.676787354301-2042.27494886844i","591.127466714306-1902.75186188659i"]
["R",{"$f":"IMREAL(B25)","v":40.7920830543544},68.532391272871095,289.93370428530301,415.88376197830502,793.93663697904299,1205.0890001181299,1606.6020504788801,1991.0929220701601,2357.69292769399,2713.3092935906998,3056.6857030699798,3388.8793808979999,3996.2026825626099,4490.1528449861698,4820.5042022591497,4943.9968503156497,4858.0430661751298,4597.8245316074799,4218.3910306810803,3786.5337403660601,3349.49726039398,2936.5437650101298,2565.3160256769902,2240.0012569588198,1959.35464485901,1339.5937682799799,1063.47746983415,860.11670788958304,707.67678735430104,591.12746671430602]
["X",{"$f":"IMAGINARY(B25)","v":713.87399751648502},882.41578251913995,1420.2055576736,1581.3289574211699,1898.2345680101701,2095.11180208821,2199.1814984197899,2240.0789516126301,2233.2385052019299,2186.3592422515098,2096.3534693771498,1967.41075434507,1585.0923879698801,1045.97687481507,380.21412444161899,-346.86827779843202,-1053.5662958426601,-1671.59807301302,-2154.98997883934,-2493.5256176804801,-2707.9757621488102,-2818.8699242768598,-2855.5630733876101,-2840.24820506888,-2790.7332546900002,-2548.6705908352001,-2369.32780415041,-2198.2733368725599,-2042.2749488684401,-1902.7518618865899]
["|Z|",{"$f":"IMABS(B25)","v":715.03851530535042},885.07304890186549,1449.4983197394808,1635.1026191208771,2057.578639742926,2416.9677203998858,2723.5215092954295,2997.0660209237681,3247.4713489752003,3484.5679874073712,3706.4842311713714,3918.5722571605402,4299.0875495296277,4610.3731078932533,4835.4755241261455,4956.1499632349614,4970.9741874755173,4892.2623131995279,4736.9615468809288,4533.818233339246,4307.2339878130842,4070.5425846946373,3838.6308467590475,3617.2663017220734,3409.8772299253269,2879.2765140921783,2597.0557507233166,2360.552141935364,2161.4100495129783,1992.4598690605937]
[]
[]
[]
["Module","Version","Date"]
["CubicSpline",{"$f":"CubicSpline_version(\"v\")","v":"1.04"},{"$f":"CubicSpline_version(\"d\")","v":"2014-03-07"}]
[]
["Copyright: Owen Duffy 2010. All rights reserved."]

{"sheet":"FB2401-43 x 25","index":8,"n_rows":35,"n_cols":31,"rows_kept":35,"cut":false,"hidden":false,"merged":[]}
["Calculate impedance of ferrite cored inductor"]
[]
["Reference:"]
["A method for estimating the impedance of a ferrite cored toroidal inductor at RF"]
[]
["Inputs:"]
["Al (nH for 1t)",{"$f":"25*579","v":14475}]
["N",1]
["Cs (pF)",0.2]
[]
["Constants:"]
["Mix",{"$f":"Mix!B1","v":"#43"}]
["µi",{"$f":"Mix!B2","v":800}]
[]
["Calculated values:"]
["2*pi*N^2*Al",{"$f":"2*PI()*$B$8^2*$B$7*0.000000001","v":9.094910732142452E-5}]
[]
["f (MHz)",1,1.2,1.8,2,2.5,3,3.5,4,4.5,5,5.5,6,{"$f":"M18+1","v":7},8,9,10,11,12,13,14,15,16,17,18,19,22,24,26,28,30]
["µ''",{"$f":"csinterpolate(CSTableU2,'FB2401-43 x 25'!B18*1000000)","v":48},{"$f":"csinterpolate(CSTableU2,'FB2401-43 x 25'!C18*1000000)","v":66.347280523402432},{"$f":"csinterpolate(CSTableU2,'FB2401-43 x 25'!D18*1000000)","v":177.16847791255344},{"$f":"csinterpolate(CSTableU2,'FB2401-43 x 25'!E18*1000000)","v":223.78271015153356},{"$f":"csinterpolate(CSTableU2,'FB2401-43 x 25'!F18*1000000)","v":322.99305056103822},{"$f":"csinterpolate(CSTableU2,'FB2401-43 x 25'!G18*1000000)","v":386.64382608764055},{"$f":"csinterpolate(CSTableU2,'FB2401-43 x 25'!H18*1000000)","v":419.50126365521584},{"$f":"csinterpolate(CSTableU2,'FB2401-43 x 25'!I18*1000000)","v":433.16031558972583},{"$f":"csinterpolate(CSTableU2,'FB2401-43 x 25'!J18*1000000)","v":435.27669864112431},{"$f":"csinterpolate(CSTableU2,'FB2401-43 x 25'!K18*1000000)","v":431.488003256664},{"$f":"csinterpolate(CSTableU2,'FB2401-43 x 25'!L18*1000000)","v":424.49052648831525},{"$f":"csinterpolate(CSTableU2,'FB2401-43 x 25'!M18*1000000)","v":415.87136912183911},{"$f":"csinterpolate(CSTableU2,'FB2401-43 x 25'!N18*1000000)","v":396.51381905459618},{"$f":"csinterpolate(CSTableU2,'FB2401-43 x 25'!O18*1000000)","v":377.10613203745709},{"$f":"csinterpolate(CSTableU2,'FB2401-43 x 25'!P18*1000000)","v":359.24301627958164},{"$f":"csinterpolate(CSTableU2,'FB2401-43 x 25'!Q18*1000000)","v":343.01177808708195},{"$f":"csinterpolate(CSTableU2,'FB2401-43 x 25'!R18*1000000)","v":328.3746681677697},{"$f":"csinterpolate(CSTableU2,'FB2401-43 x 25'!S18*1000000)","v":315.3658178118219},{"$f":"csinterpolate(CSTableU2,'FB2401-43 x 25'!T18*1000000)","v":303.71912185523638},{"$f":"csinterpolate(CSTableU2,'FB2401-43 x 25'!U18*1000000)","v":293.05299615112307},{"$f":"csinterpolate(CSTableU2,'FB2401-43 x 25'!V18*1000000)","v":283.53831282652527},{"$f":"csinterpolate(CSTableU2,'FB2401-43 x 25'!W18*1000000)","v":274.9277292838795},{"$f":"csinterpolate(CSTableU2,'FB2401-43 x 25'!X18*1000000)","v":267.03710576431388},{"$f":"csinterpolate(CSTableU2,'FB2401-43 x 25'!Y18*1000000)","v":259.78646115941109},{"$f":"csinterpolate(CSTableU2,'FB2401-43 x 25'!Z18*1000000)","v":253.10413373398319},{"$f":"csinterpolate(CSTableU2,'FB2401-43 x 25'!AA18*1000000)","v":235.99249104234499},{"$f":"csinterpolate(CSTableU2,'FB2401-43 x 25'!AB18*1000000)","v":226.32326658075181},{"$f":"csinterpolate(CSTableU2,'FB2401-43 x 25'!AC18*1000000)","v":217.67779772639955},{"$f":"csinterpolate(CSTableU2,'FB2401-43 x 25'!AD18*1000000)","v":209.8349532419403},{"$f":"csinterpolate(CSTableU2,'FB2401-43 x 25'!AE18*1000000)","v":202.6519482236636}]
["µ'",{"$f":"csinterpolate(CSTableU1,'FB2401-43 x 25'!B18*1000000)","v":851.35508159999995},{"$f":"csinterpolate(CSTableU1,'FB2401-43 x 25'!C18*1000000)","v":871.43462511973303},{"$f":"csinterpolate(CSTableU1,'FB2401-43 x 25'!D18*1000000)","v":911.39948614140371},{"$f":"csinterpolate(CSTableU1,'FB2401-43 x 25'!E18*1000000)","v":905.13111057437402},{"$f":"csinterpolate(CSTableU1,'FB2401-43 x 25'!F18*1000000)","v":853.41235727690139},{"$f":"csinterpolate(CSTableU1,'FB2401-43 x 25'!G18*1000000)","v":778.18884880591781},{"$f":"csinterpolate(CSTableU1,'FB2401-43 x 25'!H18*1000000)","v":702.00809951230747},{"$f":"csinterpolate(CSTableU1,'FB2401-43 x 25'!I18*1000000)","v":634.66365833561963},{"$f":"csinterpolate(CSTableU1,'FB2401-43 x 25'!J18*1000000)","v":577.45143379453214},{"$f":"csinterpolate(CSTableU1,'FB2401-43 x 25'!K18*1000000)","v":529.67518696767149},{"$f":"csinterpolate(CSTableU1,'FB2401-43 x 25'!L18*1000000)","v":488.91695376155724},{"$f":"csinterpolate(CSTableU1,'FB2401-43 x 25'!M18*1000000)","v":454.54725462303065},{"$f":"csinterpolate(CSTableU1,'FB2401-43 x 25'!N18*1000000)","v":399.24764527317183},{"$f":"csinterpolate(CSTableU1,'FB2401-43 x 25'!O18*1000000)","v":357.04073559650715},{"$f":"csinterpolate(CSTableU1,'FB2401-43 x 25'!P18*1000000)","v":323.944213278745},{"$f":"csinterpolate(CSTableU1,'FB2401-43 x 25'!Q18*1000000)","v":297.16798360241029},{"$f":"csinterpolate(CSTableU1,'FB2401-43 x 25'!R18*1000000)","v":275.11122800113469},{"$f":"csinterpolate(CSTableU1,'FB2401-43 x 25'!S18*1000000)","v":256.6781558712193},{"$f":"csinterpolate(CSTableU1,'FB2401-43 x 25'!T18*1000000)","v":240.72870055395072},{"$f":"csinterpolate(CSTableU1,'FB2401-43 x 25'!U18*1000000)","v":226.83601903048785},{"$f":"csinterpolate(CSTableU1,'FB2401-43 x 25'!V18*1000000)","v":214.80645504057313},{"$f":"csinterpolate(CSTableU1,'FB2401-43 x 25'!W18*1000000)","v":203.94046916188543},{"$f":"csinterpolate(CSTableU1,'FB2401-43 x 25'!X18*1000000)","v":194.26083744402825},{"$f":"csinterpolate(CSTableU1,'FB2401-43 x 25'!Y18*1000000)","v":185.47551177934841},{"$f":"csinterpolate(CSTableU1,'FB2401-43 x 25'!Z18*1000000)","v":177.42149961879051},{"$f":"csinterpolate(CSTableU1,'FB2401-43 x 25'!AA18*1000000)","v":156.64931380497691},{"$f":"csinterpolate(CSTableU1,'FB2401-43 x 25'!AB18*1000000)","v":145.11851941771693},{"$f":"csinterpolate(CSTableU1,'FB2401-43 x 25'!AC18*1000000)","v":134.79024907345377},{"$f":"csinterpolate(CSTableU1,'FB2401-43 x 25'!AD18*1000000)","v":125.53942475369485},{"$f":"csinterpolate(CSTableU1,'FB2401-43 x 25'!AE18*1000000)","v":117.30421979684496}]
["Rl",{"$f":"B19/$B$13*$B$16*B18*1000000","v":5.4569464392854714},9.0513389052113791,36.254958551195067,50.882094305627653,91.799780061094239,131.86841562754131,166.92053634222501,196.97772014976044,222.68265288315175,245.27155447560938,265.42336184728225,283.67347336627427,315.54755648171323,342.9746607424197,367.56935597344415,389.95768772193333,410.64901538138014,430.233594145143,448.87347389918648,466.42589696173627,483.51668330616167,500.0886311255021,516.09421080792492,531.61530157440814,546.71538178362016,590.24092585866515,617.51697184764487,643.4220450745637,667.95055887655633,691.16301704586544]
["Xl",{"$f":"B20/$B$13*$B$16*B18*1000000","v":96.787480856348139},118.8843018654299,186.50468177497279,205.80216628897227,242.55341272314621,265.40842922394461,279.33066867586177,288.6104658748709,295.41764489112768,301.08428390636476,305.70760343010124,310.05500282526668,317.72314820553771,324.72536179887084,331.45241647098385,337.83953541433669,344.04040826105626,350.16973718095284,355.7784818579604,361.03433518544938,366.30853749037198,370.96407233971973,375.441807252243,379.54872509211219,383.23776648648959,391.79566945959971,395.95199390544491,398.4192169380504,399.61945152477915,400.07677783347089]
["Yl",{"$f":"IMDIV(1,COMPLEX(B21,B22))","v":"0.000580674800818879-0.0102991758840463i"},"0.000636727519446878-0.00836306179899705i","0.00100433648383629-0.00516656103877155i","0.0011321341818602-0.00457912887305921i","0.00136486257493675-0.00360624039870999i","0.0015013895519019-0.00302181110410112i","0.00157638634928554-0.00263798009931293i","0.00161329904324568-0.002363795195277i","0.00162709365667174-0.00215855240562219i","0.00162636262370152-0.0019964493109532i","0.00161935639089867-0.00186513183284028i","0.0016062619072947-0.00175564367825584i","0.00157365996279798-0.00158450980625534i","0.00153746396459834-0.00145565722282869i","0.00150047945956789-0.00135304408448779i","0.00146489088051519-0.00126910705978657i","0.00143085067264532-0.00119876203555564i","0.00139813430143714-0.00113795000562591i","0.0013682425241033-0.00108447318976194i","0.00134069376336939-0.00103775644684037i","0.00131400998108437-0.000995483901667125i","0.00128987563782208-0.000956825429807039i","0.00126708031511937-0.000921759852135226i","0.00124595760290711-0.000889556072411183i","0.00122645475878849-0.000859722989540567i","0.00117604065844109-0.000780643321903378i","0.00114757668394773-0.000735826377061279i","0.00112343035843032-0.000695649530687699i","0.001102494889994-0.000659597327067584i","0.0010837221280475-0.000627307952484536i"]
["Yc",{"$f":"COMPLEX(0,2*PI()*B18*1000000*$B$9*0.000000000001)","v":"1.25663706143592E-06i"},"0.0000015079644737231i","2.26194671058465E-06i","2.51327412287183E-06i","3.14159265358979E-06i","3.76991118430775E-06i","4.39822971502571E-06i","5.02654824574367E-06i","5.65486677646163E-06i","6.28318530717959E-06i","6.91150383789754E-06i","0.0000075398223686155i","8.79645943005142E-06i","0.0000100530964914873i","0.0000113097335529233i","0.0000125663706143592i","0.0000138230076757951i","0.000015079644737231i","0.0000163362817986669i","0.0000175929188601028i","0.0000188495559215388i","0.0000201061929829747i","0.0000213628300444106i","0.0000226194671058465i","0.0000238761041672824i","0.0000276460153515902i","0.000030159289474462i","0.0000326725635973338i","0.0000351858377202057i","0.0000376991118430775i"]
["Z",{"$f":"IMDIV(1,IMSUM(B23,B24))","v":"5.4582741024055+96.7992167995132i"},"9.0545851032901+118.905494859406i","36.285566973023+186.580417608573i","50.934770568095+205.90215298258i","91.9398360785839+242.711844904325i","132.132665649727+265.608500708973i","167.331346938923+279.551267183627i","197.550288835382+288.833883257878i","223.428169776058+295.630159239644i","246.201601450526+301.274808056929i","266.54765155415+305.864890242532i","285.003149719407+310.170528667771i","317.316329081441+317.730378048272i","345.220821183887+324.594693008834i","370.334250439258+331.154273371503i","393.280434116016+337.344490497673i","414.569394346699+343.319861755888i","434.794983233042+349.192777284439i","454.112406537777+354.508950892978i","472.375761158583+359.441161137953i","490.222318983499+364.356405706475i","507.580837998655+368.609749075827i","524.408772126984+372.6489087923i","540.782691501215+376.276295183776i","556.76290949727+379.442079261333i","603.074091619065+386.137301785362i","632.309090838327+388.819083576705i","660.206723157688+389.611912912269i","686.748102510055+388.948202287925i","711.995043776345+387.367353160694i"]
["R",{"$f":"IMREAL(B25)","v":5.4582741024055004},9.0545851032900995,36.285566973023002,50.934770568094997,91.939836078583895,132.13266564972699,167.33134693892299,197.55028883538199,223.42816977605801,246.201601450526,266.54765155414998,285.00314971940702,317.31632908144098,345.22082118388698,370.33425043925803,393.28043411601601,414.56939434669903,434.79498323304199,454.11240653777702,472.37576115858297,490.22231898349901,507.580837998655,524.40877212698399,540.78269150121503,556.76290949727002,603.07409161906503,632.30909083832705,660.20672315768797,686.74810251005499,711.99504377634503]
["X",{"$f":"IMAGINARY(B25)","v":96.799216799513204},118.90549485940601,186.58041760857299,205.90215298257999,242.71184490432501,265.608500708973,279.55126718362698,288.83388325787803,295.630159239644,301.27480805692898,305.864890242532,310.17052866777101,317.73037804827197,324.59469300883399,331.154273371503,337.34449049767301,343.31986175588798,349.19277728443899,354.50895089297802,359.44116113795297,364.35640570647502,368.60974907582698,372.64890879230001,376.27629518377603,379.44207926133299,386.13730178536201,388.819083576705,389.61191291226902,388.94820228792503,387.36735316069399]
["|Z|",{"$f":"IMABS(B25)","v":96.952984116922096},119.24974724984935,190.07602322634813,212.10857468684819,259.54185233795721,296.65959782311279,325.80468175329497,349.93017694501333,370.56354124702591,389.07806225299191,405.71046527309193,421.22743524612366,449.04592842650197,473.85560048223175,496.80037220257316,518.14168441423101,538.27159520549742,557.65784595237346,576.10300644482936,593.57965602802676,610.79743975306644,627.30491327356992,643.32866367652468,658.80935766314553,673.76644982221319,716.10081400054298,742.29041898048263,766.59660838394632,789.24245980824526,810.54944861914578]
[]
[]
[]
["Module","Version","Date"]
["CubicSpline",{"$f":"CubicSpline_version(\"v\")","v":"1.04"},{"$f":"CubicSpline_version(\"d\")","v":"2014-03-07"}]
[]
["Copyright: Owen Duffy 2010. All rights reserved."]

{"sheet":"2643167851x2","index":9,"n_rows":35,"n_cols":31,"rows_kept":35,"cut":false,"hidden":false,"merged":[]}
["Calculate impedance of ferrite cored inductor"]
[]
["Reference:"]
["A method for estimating the impedance of a ferrite cored toroidal inductor at RF"]
[]
["Inputs:"]
["Al (nH for 1t)",{"$f":"2*2300","v":4600}]
["N",3]
["Cs (pF)",3]
[]
["Constants:"]
["Mix",{"$f":"Mix!B1","v":"#43"}]
["µi",{"$f":"Mix!B2","v":800}]
[]
["Calculated values:"]
["2*pi*N^2*Al",{"$f":"2*PI()*$B$8^2*$B$7*0.000000001","v":2.6012387171723487E-4}]
[]
["f (MHz)",1,1.2,1.8,2,2.5,3,3.5,4,4.5,5,5.5,6,{"$f":"M18+1","v":7},8,9,10,11,12,13,14,15,16,17,18,19,22,24,26,28,30]
["µ''",{"$f":"csinterpolate(CSTableU2,'2643167851x2'!B18*1000000)","v":48},{"$f":"csinterpolate(CSTableU2,'2643167851x2'!C18*1000000)","v":66.347280523402432},{"$f":"csinterpolate(CSTableU2,'2643167851x2'!D18*1000000)","v":177.16847791255344},{"$f":"csinterpolate(CSTableU2,'2643167851x2'!E18*1000000)","v":223.78271015153356},{"$f":"csinterpolate(CSTableU2,'2643167851x2'!F18*1000000)","v":322.99305056103822},{"$f":"csinterpolate(CSTableU2,'2643167851x2'!G18*1000000)","v":386.64382608764055},{"$f":"csinterpolate(CSTableU2,'2643167851x2'!H18*1000000)","v":419.50126365521584},{"$f":"csinterpolate(CSTableU2,'2643167851x2'!I18*1000000)","v":433.16031558972583},{"$f":"csinterpolate(CSTableU2,'2643167851x2'!J18*1000000)","v":435.27669864112431},{"$f":"csinterpolate(CSTableU2,'2643167851x2'!K18*1000000)","v":431.488003256664},{"$f":"csinterpolate(CSTableU2,'2643167851x2'!L18*1000000)","v":424.49052648831525},{"$f":"csinterpolate(CSTableU2,'2643167851x2'!M18*1000000)","v":415.87136912183911},{"$f":"csinterpolate(CSTableU2,'2643167851x2'!N18*1000000)","v":396.51381905459618},{"$f":"csinterpolate(CSTableU2,'2643167851x2'!O18*1000000)","v":377.10613203745709},{"$f":"csinterpolate(CSTableU2,'2643167851x2'!P18*1000000)","v":359.24301627958164},{"$f":"csinterpolate(CSTableU2,'2643167851x2'!Q18*1000000)","v":343.01177808708195},{"$f":"csinterpolate(CSTableU2,'2643167851x2'!R18*1000000)","v":328.3746681677697},{"$f":"csinterpolate(CSTableU2,'2643167851x2'!S18*1000000)","v":315.3658178118219},{"$f":"csinterpolate(CSTableU2,'2643167851x2'!T18*1000000)","v":303.71912185523638},{"$f":"csinterpolate(CSTableU2,'2643167851x2'!U18*1000000)","v":293.05299615112307},{"$f":"csinterpolate(CSTableU2,'2643167851x2'!V18*1000000)","v":283.53831282652527},{"$f":"csinterpolate(CSTableU2,'2643167851x2'!W18*1000000)","v":274.9277292838795},{"$f":"csinterpolate(CSTableU2,'2643167851x2'!X18*1000000)","v":267.03710576431388},{"$f":"csinterpolate(CSTableU2,'2643167851x2'!Y18*1000000)","v":259.78646115941109},{"$f":"csinterpolate(CSTableU2,'2643167851x2'!Z18*1000000)","v":253.10413373398319},{"$f":"csinterpolate(CSTableU2,'2643167851x2'!AA18*1000000)","v":235.99249104234499},{"$f":"csinterpolate(CSTableU2,'2643167851x2'!AB18*1000000)","v":226.32326658075181},{"$f":"csinterpolate(CSTableU2,'2643167851x2'!AC18*1000000)","v":217.67779772639955},{"$f":"csinterpolate(CSTableU2,'2643167851x2'!AD18*1000000)","v":209.8349532419403},{"$f":"csinterpolate(CSTableU2,'2643167851x2'!AE18*1000000)","v":202.6519482236636}]
["µ'",{"$f":"csinterpolate(CSTableU1,'2643167851x2'!B18*1000000)","v":851.35508159999995},{"$f":"csinterpolate(CSTableU1,'2643167851x2'!C18*1000000)","v":871.43462511973303},{"$f":"csinterpolate(CSTableU1,'2643167851x2'!D18*1000000)","v":911.39948614140371},{"$f":"csinterpolate(CSTableU1,'2643167851x2'!E18*1000000)","v":905.13111057437402},{"$f":"csinterpolate(CSTableU1,'2643167851x2'!F18*1000000)","v":853.41235727690139},{"$f":"csinterpolate(CSTableU1,'2643167851x2'!G18*1000000)","v":778.18884880591781},{"$f":"csinterpolate(CSTableU1,'2643167851x2'!H18*1000000)","v":702.00809951230747},{"$f":"csinterpolate(CSTableU1,'2643167851x2'!I18*1000000)","v":634.66365833561963},{"$f":"csinterpolate(CSTableU1,'2643167851x2'!J18*1000000)","v":577.45143379453214},{"$f":"csinterpolate(CSTableU1,'2643167851x2'!K18*1000000)","v":529.67518696767149},{"$f":"csinterpolate(CSTableU1,'2643167851x2'!L18*1000000)","v":488.91695376155724},{"$f":"csinterpolate(CSTableU1,'2643167851x2'!M18*1000000)","v":454.54725462303065},{"$f":"csinterpolate(CSTableU1,'2643167851x2'!N18*1000000)","v":399.24764527317183},{"$f":"csinterpolate(CSTableU1,'2643167851x2'!O18*1000000)","v":357.04073559650715},{"$f":"csinterpolate(CSTableU1,'2643167851x2'!P18*1000000)","v":323.944213278745},{"$f":"csinterpolate(CSTableU1,'2643167851x2'!Q18*1000000)","v":297.16798360241029},{"$f":"csinterpolate(CSTableU1,'2643167851x2'!R18*1000000)","v":275.11122800113469},{"$f":"csinterpolate(CSTableU1,'2643167851x2'!S18*1000000)","v":256.6781558712193},{"$f":"csinterpolate(CSTableU1,'2643167851x2'!T18*1000000)","v":240.72870055395072},{"$f":"csinterpolate(CSTableU1,'2643167851x2'!U18*1000000)","v":226.83601903048785},{"$f":"csinterpolate(CSTableU1,'2643167851x2'!V18*1000000)","v":214.80645504057313},{"$f":"csinterpolate(CSTableU1,'2643167851x2'!W18*1000000)","v":203.94046916188543},{"$f":"csinterpolate(CSTableU1,'2643167851x2'!X18*1000000)","v":194.26083744402825},{"$f":"csinterpolate(CSTableU1,'2643167851x2'!Y18*1000000)","v":185.47551177934841},{"$f":"csinterpolate(CSTableU1,'2643167851x2'!Z18*1000000)","v":177.42149961879051},{"$f":"csinterpolate(CSTableU1,'2643167851x2'!AA18*1000000)","v":156.64931380497691},{"$f":"csinterpolate(CSTableU1,'2643167851x2'!AB18*1000000)","v":145.11851941771693},{"$f":"csinterpolate(CSTableU1,'2643167851x2'!AC18*1000000)","v":134.79024907345377},{"$f":"csinterpolate(CSTableU1,'2643167851x2'!AD18*1000000)","v":125.53942475369485},{"$f":"csinterpolate(CSTableU1,'2643167851x2'!AE18*1000000)","v":117.30421979684496}]
["Rl",{"$f":"B19/$B$13*$B$16*B18*1000000","v":15.60743230303409},25.887767231485398,103.69293844694133,145.52806246998165,262.55688390530577,377.1573338155585,477.41003140366945,563.37669182729405,636.89546316839233,701.50206254163925,759.13831989481764,811.33553004240082,902.49871076635077,980.94307113894126,1051.286448172752,1115.3193970078094,1174.4987382928591,1230.5126630472482,1283.8246507375695,1334.026399600406,1382.9078196114053,1430.3053076750111,1476.0829241760339,1520.4748521713641,1563.6626463448617,1688.1502128185653,1766.1625308803109,1840.2537247728451,1910.4078160614461,1976.7978518617492]
["Xl",{"$f":"B20/$B$13*$B$16*B18*1000000","v":276.82222503991801},340.02142295190311,533.42271678645056,588.61552223581702,693.72789545687397,759.09561104464979,798.91465859624691,825.45584022242849,844.9250776160751,861.13225241613111,874.35542535448644,886.7894381323689,908.72112854640829,928.74818504132998,947.98825850768446,966.25608056328406,983.99121948239906,1001.521735356922,1017.5633263502285,1032.5956115148601,1047.6803766564005,1060.9956887643796,1073.8024746281767,1085.5486852375436,1096.0997259095452,1120.5762152419636,1132.4637338642776,1139.5202474083098,1142.9530427029952,1144.2610433371808]
["Yl",{"$f":"IMDIV(1,COMPLEX(B21,B22))","v":"0.000203025790866021-0.00360097997395095i"},"0.000222623933429797-0.00292404153479426i","0.000351153879312324-0.00180642442116469i","0.000395836770106916-0.00160103600090657i","0.000477207385802162-0.00126087753070838i","0.000524942361443962-0.0010565390273397i","0.000551164067775559-0.000922337244868469i","0.000564070136497133-0.000826471870812428i","0.000568893253147911-0.000754711257762834i","0.000568637656475351-0.000698033907633997i","0.000566188013484498-0.000652120369090894i","0.000561609688601226-0.000613839184607568i","0.000550210820326107-0.000554004334433478i","0.000537555335448334-0.000508952615952786i","0.000524624158870659-0.000473075196206782i","0.000512181050614913-0.000443727649526825i","0.000500279311269105-0.000419132378373619i","0.00048884043510393-0.000397870201242391i","0.000478389143391188-0.000379172691347925i","0.000468757058569369-0.000362838757681506i","0.000459427402806672-0.000348058683010425i","0.00045098912699214-0.000334542224552099i","0.000443019023221085-0.000322281977286412i","0.000435633727103392-0.000311022322419128i","0.000428814797909742-0.000300591552502409i","0.000411188128766539-0.000272942320882882i","0.000401236050728103-0.000257272628211643i","0.000392793585465672-0.000243225288809285i","0.000385473756827612-0.000230620079934861i","0.00037891009187168-0.000219330497879557i"]
["Yc",{"$f":"COMPLEX(0,2*PI()*B18*1000000*$B$9*0.000000000001)","v":"0.0000188495559215388i"},"0.0000226194671058465i","0.0000339292006587698i","0.0000376991118430775i","0.0000471238898038469i","0.0000565486677646163i","0.0000659734457253857i","0.000075398223686155i","0.0000848230016469244i","0.0000942477796076938i","0.000103672557568463i","0.000113097335529233i","0.000131946891450771i","0.00015079644737231i","0.000169646003293849i","0.000188495559215388i","0.000207345115136926i","0.000226194671058465i","0.000245044226980004i","0.000263893782901543i","0.000282743338823081i","0.00030159289474462i","0.000320442450666159i","0.000339292006587698i","0.000358141562509236i","0.000414690230273853i","0.00045238934211693i","0.000490088453960008i","0.000527787565803085i","0.000565486677646163i"]
["Z",{"$f":"IMDIV(1,IMSUM(B23,B24))","v":"15.7715931095356+278.269589186i"},"26.2906106559213+342.641317826453i","107.549365667849+542.869516315822i","152.203408211253+601.119503459902i","280.557605276454+713.584544202603i","411.543519263251+783.970930973887i","531.426470897561+825.696771960753i","639.327453827069+851.280667747762i","736.536456594592+867.292975868112i","826.620593050813+877.7154336183i","911.202022063008+882.651597973035i","991.984155350819+884.471885525971i","1144.21193112452+877.705679423922i","1288.3551436939+858.390404871549i","1428.32689506362+826.10773761915i","1564.04127214883+779.39924318684i","1695.0964966875+717.598829031814i","1821.05894442029+639.536415830797i","1938.00161532583+543.3676415889i","2042.30717792804+431.089043927694i","2133.50137725588+303.313158789267i","2205.57547119293+161.13965784565i","2257.20049633544+9.37246525006493i","2285.88023532407-148.338175580356i","2290.74911413164-307.43489983094i","2173.66472721472-749.32229129241i","2015.64470884494-980.186030833291i","1825.00965637397-1146.98324227722i","1627.16819644691-1254.40830525619i","1438.55150800173-1314.19960853407i"]
["R",{"$f":"IMREAL(B25)","v":15.771593109535599},26.290610655921299,107.549365667849,152.20340821125299,280.55760527645401,411.54351926325103,531.42647089756099,639.32745382706901,736.53645659459198,826.620593050813,911.20202206300803,991.98415535081904,1144.2119311245201,1288.3551436938999,1428.32689506362,1564.0412721488301,1695.0964966874999,1821.0589444202899,1938.00161532583,2042.3071779280399,2133.50137725588,2205.5754711929299,2257.2004963354402,2285.8802353240699,2290.74911413164,2173.6647272147202,2015.6447088449399,1825.0096563739701,1627.1681964469101,1438.5515080017301]
["X",{"$f":"IMAGINARY(B25)","v":278.26958918600002},342.64131782645302,542.86951631582201,601.11950345990203,713.58454420260296,783.97093097388699,825.69677196075304,851.28066774776198,867.29297586811197,877.71543361830004,882.651597973035,884.47188552597095,877.70567942392199,858.39040487154898,826.10773761915004,779.39924318683995,717.59882903181403,639.53641583079695,543.36764158890003,431.08904392769398,303.31315878926699,161.13965784564999,9.3724652500649306,-148.33817558035599,-307.43489983094003,-749.32229129241,-980.18603083329106,-1146.9832422772199,-1254.40830525619,-1314.19960853407]
["|Z|",{"$f":"IMABS(B25)","v":278.71617716766633},343.64846702773116,553.42043493218728,620.08913465001183,766.75646172907807,885.42559758550294,981.93138925132848,1064.6212324099488,1137.8414027811971,1205.6890093500224,1268.6067035988997,1329.0308802856855,1442.0777382030112,1548.1256613912424,1650.0217311648694,1747.4805524712285,1840.7336071550565,1930.0939112454716,2012.7341242527316,2087.3084038567195,2154.9540596141396,2211.4540801152816,2257.2199546703068,2290.6882512860043,2311.2870270758135,2299.1959991625663,2241.3362637800078,2155.5117266957745,2054.559937267345,1948.4740317092128]
[]
[]
[]
["Module","Version","Date"]
["CubicSpline",{"$f":"CubicSpline_version(\"v\")","v":"1.04"},{"$f":"CubicSpline_version(\"d\")","v":"2014-03-07"}]
[]
["Copyright: Owen Duffy 2010. All rights reserved."]

{"sheet":"2643625002","index":10,"n_rows":61,"n_cols":31,"rows_kept":61,"cut":false,"hidden":false,"merged":[]}
["Calculate impedance of ferrite cored inductor"]
[]
["Reference:"]
["A method for estimating the impedance of a ferrite cored toroidal inductor at RF"]
[]
["Inputs:"]
["Al (nH for 1t)",1660]
["N",4]
["Cs (pF)",0]
[]
["Constants:"]
["Mix",{"$f":"Mix!B1","v":"#43"}]
["µi",{"$f":"Mix!B2","v":800}]
[]
["Calculated values:"]
["2*pi*N^2*Al",{"$f":"2*PI()*$B$8^2*$B$7*0.000000001","v":1.6688140175868981E-4}]
[]
["f (MHz)",1,1.2,1.8,2,2.5,3,3.5,4,4.5,5,5.5,6,{"$f":"M18+1","v":7},8,9,10,11,12,13,14,15,16,17,18,19,22,24,26,28,30]
["µ''",{"$f":"csinterpolate(CSTableU2,'2643625002'!B18*1000000)","v":48},{"$f":"csinterpolate(CSTableU2,'2643625002'!C18*1000000)","v":66.347280523402432},{"$f":"csinterpolate(CSTableU2,'2643625002'!D18*1000000)","v":177.16847791255344},{"$f":"csinterpolate(CSTableU2,'2643625002'!E18*1000000)","v":223.78271015153356},{"$f":"csinterpolate(CSTableU2,'2643625002'!F18*1000000)","v":322.99305056103822},{"$f":"csinterpolate(CSTableU2,'2643625002'!G18*1000000)","v":386.64382608764055},{"$f":"csinterpolate(CSTableU2,'2643625002'!H18*1000000)","v":419.50126365521584},{"$f":"csinterpolate(CSTableU2,'2643625002'!I18*1000000)","v":433.16031558972583},{"$f":"csinterpolate(CSTableU2,'2643625002'!J18*1000000)","v":435.27669864112431},{"$f":"csinterpolate(CSTableU2,'2643625002'!K18*1000000)","v":431.488003256664},{"$f":"csinterpolate(CSTableU2,'2643625002'!L18*1000000)","v":424.49052648831525},{"$f":"csinterpolate(CSTableU2,'2643625002'!M18*1000000)","v":415.87136912183911},{"$f":"csinterpolate(CSTableU2,'2643625002'!N18*1000000)","v":396.51381905459618},{"$f":"csinterpolate(CSTableU2,'2643625002'!O18*1000000)","v":377.10613203745709},{"$f":"csinterpolate(CSTableU2,'2643625002'!P18*1000000)","v":359.24301627958164},{"$f":"csinterpolate(CSTableU2,'2643625002'!Q18*1000000)","v":343.01177808708195},{"$f":"csinterpolate(CSTableU2,'2643625002'!R18*1000000)","v":328.3746681677697},{"$f":"csinterpolate(CSTableU2,'2643625002'!S18*1000000)","v":315.3658178118219},{"$f":"csinterpolate(CSTableU2,'2643625002'!T18*1000000)","v":303.71912185523638},{"$f":"csinterpolate(CSTableU2,'2643625002'!U18*1000000)","v":293.05299615112307},{"$f":"csinterpolate(CSTableU2,'2643625002'!V18*1000000)","v":283.53831282652527},{"$f":"csinterpolate(CSTableU2,'2643625002'!W18*1000000)","v":274.9277292838795},{"$f":"csinterpolate(CSTableU2,'2643625002'!X18*1000000)","v":267.03710576431388},{"$f":"csinterpolate(CSTableU2,'2643625002'!Y18*1000000)","v":259.78646115941109},{"$f":"csinterpolate(CSTableU2,'2643625002'!Z18*1000000)","v":253.10413373398319},{"$f":"csinterpolate(CSTableU2,'2643625002'!AA18*1000000)","v":235.99249104234499},{"$f":"csinterpolate(CSTableU2,'2643625002'!AB18*1000000)","v":226.32326658075181},{"$f":"csinterpolate(CSTableU2,'2643625002'!AC18*1000000)","v":217.67779772639955},{"$f":"csinterpolate(CSTableU2,'2643625002'!AD18*1000000)","v":209.8349532419403},{"$f":"csinterpolate(CSTableU2,'2643625002'!AE18*1000000)","v":202.6519482236636}]
["µ'",{"$f":"csinterpolate(CSTableU1,'2643625002'!B18*1000000)","v":851.35508159999995},{"$f":"csinterpolate(CSTableU1,'2643625002'!C18*1000000)","v":871.43462511973303},{"$f":"csinterpolate(CSTableU1,'2643625002'!D18*1000000)","v":911.39948614140371},{"$f":"csinterpolate(CSTableU1,'2643625002'!E18*1000000)","v":905.13111057437402},{"$f":"csinterpolate(CSTableU1,'2643625002'!F18*1000000)","v":853.41235727690139},{"$f":"csinterpolate(CSTableU1,'2643625002'!G18*1000000)","v":778.18884880591781},{"$f":"csinterpolate(CSTableU1,'2643625002'!H18*1000000)","v":702.00809951230747},{"$f":"csinterpolate(CSTableU1,'2643625002'!I18*1000000)","v":634.66365833561963},{"$f":"csinterpolate(CSTableU1,'2643625002'!J18*1000000)","v":577.45143379453214},{"$f":"csinterpolate(CSTableU1,'2643625002'!K18*1000000)","v":529.67518696767149},{"$f":"csinterpolate(CSTableU1,'2643625002'!L18*1000000)","v":488.91695376155724},{"$f":"csinterpolate(CSTableU1,'2643625002'!M18*1000000)","v":454.54725462303065},{"$f":"csinterpolate(CSTableU1,'2643625002'!N18*1000000)","v":399.24764527317183},{"$f":"csinterpolate(CSTableU1,'2643625002'!O18*1000000)","v":357.04073559650715},{"$f":"csinterpolate(CSTableU1,'2643625002'!P18*1000000)","v":323.944213278745},{"$f":"csinterpolate(CSTableU1,'2643625002'!Q18*1000000)","v":297.16798360241029},{"$f":"csinterpolate(CSTableU1,'2643625002'!R18*1000000)","v":275.11122800113469},{"$f":"csinterpolate(CSTableU1,'2643625002'!S18*1000000)","v":256.6781558712193},{"$f":"csinterpolate(CSTableU1,'2643625002'!T18*1000000)","v":240.72870055395072},{"$f":"csinterpolate(CSTableU1,'2643625002'!U18*1000000)","v":226.83601903048785},{"$f":"csinterpolate(CSTableU1,'2643625002'!V18*1000000)","v":214.80645504057313},{"$f":"csinterpolate(CSTableU1,'2643625002'!W18*1000000)","v":203.94046916188543},{"$f":"csinterpolate(CSTableU1,'2643625002'!X18*1000000)","v":194.26083744402825},{"$f":"csinterpolate(CSTableU1,'2643625002'!Y18*1000000)","v":185.47551177934841},{"$f":"csinterpolate(CSTableU1,'2643625002'!Z18*1000000)","v":177.42149961879051},{"$f":"csinterpolate(CSTableU1,'2643625002'!AA18*1000000)","v":156.64931380497691},{"$f":"csinterpolate(CSTableU1,'2643625002'!AB18*1000000)","v":145.11851941771693},{"$f":"csinterpolate(CSTableU1,'2643625002'!AC18*1000000)","v":134.79024907345377},{"$f":"csinterpolate(CSTableU1,'2643625002'!AD18*1000000)","v":125.53942475369485},{"$f":"csinterpolate(CSTableU1,'2643625002'!AE18*1000000)","v":117.30421979684496}]
["Rl",{"$f":"B19/$B$13*$B$16*B18*1000000","v":10.012884105521387},16.608190764933621,66.523778868375885,93.362930898616256,168.44229073731697,241.96373879568202,306.28044526766809,361.43200325924948,408.59766912445667,450.04576765956369,487.02207189387332,520.50897772768519,578.9943419795718,629.31999926208402,674.4485039485096,715.5285793364111,753.49484273087774,789.43034614818635,823.6324329369528,855.83915877745858,887.1988330647082,917.60649690454818,946.97493879505953,975.45439791476883,1003.1613499255924,1083.0258370159686,1133.0743193280448,1180.6072205305982,1225.6142897244447,1268.2065445760404]
["Xl",{"$f":"B20/$B$13*$B$16*B18*1000000","v":177.59416176473965},218.13934767155911,342.21515357121086,377.62387127012806,445.05828268924097,486.99467220642259,512.54041865498368,529.56780474173195,542.05821404548192,552.45586048725704,560.93913278780576,568.91612262791591,582.9863085553767,595.83458441298853,608.17797454019558,619.89762076716966,631.27552631527828,642.5221567893683,652.8135736198567,662.45747444045128,672.13504357473425,680.67742738120592,688.89356826387382,696.429301447081,703.19827826467451,718.90106948856419,726.52745824722729,731.05453553537939,733.25683126066554,734.09597369651021]
["Yl",{"$f":"IMDIV(1,COMPLEX(B21,B22))","v":"0.000316463393895077-0.00561297330276992i"},"0.000347011703463613-0.00455780570559046i","0.00054735582091605-0.0028157368613034i","0.000617004604007014-0.00249559075442515i","0.000743839825760899-0.00196537386187226i","0.00081824600014232-0.00164686429713342i","0.00085911868998148-0.00143767928981757i","0.000879235830232729-0.00128825058176335i","0.000886753790674831-0.00117639480690442i","0.000886355383210825-0.00108804984096564i","0.000882537039091047-0.00101648280423054i","0.000875400644129923-0.000956812584441013i","0.000857632829875783-0.000863545912859413i","0.000837906283417207-0.00079332222516737i","0.000817750006673391-0.000737398837460871i","0.000798354499075956-0.000691653791054614i","0.00077980284211374-0.000653316282555265i","0.000761972666163505-0.000620174184165476i","0.00074568187260524-0.000591029722206479i","0.000730668005450749-0.000565569449096927i","0.000716125545037509-0.000542531230294867i","0.000702972509694074-0.00052146265423407i","0.000690549230472626-0.000502352178450956i","0.000679037511373509-0.000484801360999694i","0.000668408608187627-0.000468542555481918i","0.000640933303122542-0.000425444732099073i","0.000625420651360824-0.000401019834637126i","0.00061226108577857-0.000379123755900016i","0.00060085141312738-0.000359475576404493i","0.000590620399227694-0.00034187811039961i"]
["Yc",{"$f":"COMPLEX(0,2*PI()*B18*1000000*$B$9*0.000000000001)","v":"0"},"0","0","0","0","0","0","0","0","0","0","0","0","0","0","0","0","0","0","0","0","0","0","0","0","0","0","0","0","0"]
["Z",{"$f":"IMDIV(1,IMSUM(B23,B24))","v":"10.0128841055214+177.59416176474i"},"16.6081907649336+218.139347671559i","66.5237788683759+342.215153571211i","93.3629308986163+377.623871270128i","168.442290737316+445.05828268924i","241.963738795683+486.994672206423i","306.280445267667+512.540418654984i","361.432003259249+529.567804741732i","408.597669124455+542.058214045481i","450.045767659565+552.455860487257i","487.022071893871+560.939132787806i","520.508977727685+568.916122627916i","578.994341979572+582.986308555377i","629.319999262084+595.834584412989i","674.44850394851+608.177974540196i","715.528579336411+619.89762076717i","753.494842730878+631.275526315278i","789.430346148186+642.522156789368i","823.632432936953+652.813573619857i","855.839158777459+662.457474440451i","887.198833064708+672.135043574734i","917.606496904548+680.677427381206i","946.97493879506+688.893568263873i","975.454397914769+696.429301447081i","1003.16134992559+703.198278264674i","1083.02583701597+718.901069488564i","1133.07431932804+726.527458247227i","1180.6072205306+731.05453553538i","1225.61428972444+733.256831260667i","1268.20654457604+734.09597369651i"]
["R",{"$f":"IMREAL(B25)","v":10.012884105521399},16.6081907649336,66.523778868375899,93.362930898616298,168.442290737316,241.96373879568301,306.28044526766701,361.43200325924897,408.59766912445502,450.045767659565,487.02207189387099,520.50897772768496,578.99434197957203,629.31999926208402,674.44850394851005,715.52857933641098,753.49484273087796,789.430346148186,823.63243293695302,855.83915877745903,887.19883306470797,917.60649690454795,946.97493879505998,975.45439791476895,1003.16134992559,1083.02583701597,1133.07431932804,1180.6072205306,1225.6142897244399,1268.20654457604]
["X",{"$f":"IMAGINARY(B25)","v":177.59416176473999},218.13934767155899,342.21515357121098,377.62387127012801,445.05828268924,486.99467220642299,512.54041865498402,529.56780474173195,542.05821404548101,552.45586048725704,560.93913278780599,568.91612262791602,582.98630855537704,595.83458441298899,608.17797454019603,619.89762076717,631.27552631527794,642.52215678936795,652.81357361985704,662.45747444045105,672.13504357473403,680.67742738120603,688.89356826387302,696.429301447081,703.19827826467395,718.90106948856396,726.52745824722695,731.05453553537996,733.25683126066701,734.09597369650999]
["|Z|",{"$f":"IMABS(B25)","v":177.87620453852514},218.77067217307194,348.62103276867288,388.9941195172724,475.86729273940438,543.79248031710301,597.08072478383247,641.15142735470135,678.80716159165127,712.56485373262888,742.86150068807217,771.0999614064973,821.64924633774422,866.63862910317391,908.16365991719726,946.70703392336793,982.98691148288526,1017.8580418628651,1050.9690511561093,1082.2710248079866,1113.0531371828522,1142.5075243987383,1171.0405130059503,1198.5512314145496,1225.0797984372014,1299.909116575441,1345.9938932654477,1388.6231105292172,1428.2142583545292,1465.3479922199117]
[]
[]
[]
["Module","Version","Date"]
["CubicSpline",{"$f":"CubicSpline_version(\"v\")","v":"1.04"},{"$f":"CubicSpline_version(\"d\")","v":"2014-03-07"}]
[]
["Copyright: Owen Duffy 2010. All rights reserved."]
[]
[]
[]
[]
[]
[]
[]
[]
[]
[]
[]
[]
[]
[]
[]
[]
[]
[]
[]
[]
[]
[]
[]
[]
[null,{"$f":"1/IMREAL(IMDIV(1,B25))","v":3159.9231357910185},{"$f":"1/IMREAL(IMDIV(1,C25))","v":2881.7471860999012},1826.9651327109459,1620.7334491601819,1344.3754493476683,1222.1263529868334,1163.9835236520789,1137.351283483642,1127.7087400314197,1128.2156333021817,1133.0969191162014,1142.3340920589778,1166.0001403454169,1193.4508903808803,1222.8676146002156,1252.5763945182694,1282.3754236255306,1312.3830347287271,1341.0544586610793,1368.6106310116866,1396.4031962407125,1422.5307337198565,1448.122676663588,1472.6726922306116,1496.0908458547156,1560.2247458949826,1598.9238568060489,1633.2901489703029,1664.3049814846668,1693.1348820792816]
[null,{"$f":"-1/IMAGINARY(IMDIV(1,B25))","v":178.15869523315115},{"$f":"-1/IMAGINARY(IMDIV(1,C25))","v":219.40382381228574},355.14682275285543,400.7067257429178,508.80904615642805,607.21457240929271,695.5654206626931,776.24649595050494,850.05475553858707,919.07554447368318,983.78447312444484,1045.1367553701416,1158.0160187299757,1260.5218513688135,1356.1182215086737,1445.8100467796589,1530.6521920573875,1612.4502204902781,1691.9622862057101,1768.1294518237326,1843.2118635023051,1917.6828712092736,1990.6353408948712,2062.7004799201281,2134.277854380704,2350.4815656458304,2493.6422431695378,2637.6611447786036,2781.8301593729675,2925.0190918369503]

{"sheet":"2843009902","index":11,"n_rows":66,"n_cols":31,"rows_kept":66,"cut":false,"hidden":false,"merged":[]}
["Calculate impedance of ferrite cored inductor"]
[]
["Reference:"]
["A method for estimating the impedance of a ferrite cored toroidal inductor at RF"]
[]
["Inputs:"]
["Al (nH for 1t)",9050,null,"2843009902"]
["N",4]
["Cs (pF)",2]
[]
["Constants:"]
["Mix",{"$f":"Mix!B1","v":"#43"}]
["µi",{"$f":"Mix!B2","v":800}]
[]
["Calculated values:"]
["2*pi*N^2*Al",{"$f":"2*PI()*$B$8^2*$B$7*0.000000001","v":9.0980523247960411E-4}]
[]
["f (MHz)",1,{"$f":"B18*1.13","v":1.1299999999999999},{"$f":"C18*1.13","v":1.2768999999999997},1.4428969999999994,1.6304736099999992,1.8424351792999989,2.0819517526089983,2.352605480448168,2.6584441929064297,3.0040419379842653,3.3945673899222193,3.8358611506121076,4.3345231001916815,4.8980111032166,5.5347525466347571,6.2542703776972752,7.0673255267979203,7.986077845281649,9.0242679651682618,10.197422800640135,11.523087764723352,13.021089174137385,14.713830766775244,16.626628766456022,18.788090506095305,21.230542271887693,23.990512767233092,27.109279426973391,30.633485752479928,34.615838900302315]
["µ''",{"$f":"csinterpolate(CSTableU2,'2843009902'!B18*1000000)","v":48},{"$f":"csinterpolate(CSTableU2,'2843009902'!C18*1000000)","v":60.855602540872773},{"$f":"csinterpolate(CSTableU2,'2843009902'!D18*1000000)","v":75.275314370850609},{"$f":"csinterpolate(CSTableU2,'2843009902'!E18*1000000)","v":101.43978124535498},{"$f":"csinterpolate(CSTableU2,'2843009902'!F18*1000000)","v":137.99036857318981},{"$f":"csinterpolate(CSTableU2,'2843009902'!G18*1000000)","v":187.17393922111003},{"$f":"csinterpolate(CSTableU2,'2843009902'!H18*1000000)","v":242.04470426006421},{"$f":"csinterpolate(CSTableU2,'2843009902'!I18*1000000)","v":297.11280459175413},{"$f":"csinterpolate(CSTableU2,'2843009902'!J18*1000000)","v":347.22817215786711},{"$f":"csinterpolate(CSTableU2,'2843009902'!K18*1000000)","v":387.03339363492461},{"$f":"csinterpolate(CSTableU2,'2843009902'!L18*1000000)","v":414.47781075539126},{"$f":"csinterpolate(CSTableU2,'2843009902'!M18*1000000)","v":430.20392193885459},{"$f":"csinterpolate(CSTableU2,'2843009902'!N18*1000000)","v":435.17549228870786},{"$f":"csinterpolate(CSTableU2,'2843009902'!O18*1000000)","v":432.47885031825956},{"$f":"csinterpolate(CSTableU2,'2843009902'!P18*1000000)","v":423.98070925478675},{"$f":"csinterpolate(CSTableU2,'2843009902'!Q18*1000000)","v":410.97918614988021},{"$f":"csinterpolate(CSTableU2,'2843009902'!R18*1000000)","v":395.21210527525307},{"$f":"csinterpolate(CSTableU2,'2843009902'!S18*1000000)","v":377.36780802644915},{"$f":"csinterpolate(CSTableU2,'2843009902'!T18*1000000)","v":358.83597416797016},{"$f":"csinterpolate(CSTableU2,'2843009902'!U18*1000000)","v":339.98845967814179},{"$f":"csinterpolate(CSTableU2,'2843009902'!V18*1000000)","v":321.42433603169786},{"$f":"csinterpolate(CSTableU2,'2843009902'!W18*1000000)","v":303.48481601497332},{"$f":"csinterpolate(CSTableU2,'2843009902'!X18*1000000)","v":286.15218731452535},{"$f":"csinterpolate(CSTableU2,'2843009902'!Y18*1000000)","v":269.86440686719584},{"$f":"csinterpolate(CSTableU2,'2843009902'!Z18*1000000)","v":254.48430387465504},{"$f":"csinterpolate(CSTableU2,'2843009902'!AA18*1000000)","v":240.02393363747441},{"$f":"csinterpolate(CSTableU2,'2843009902'!AB18*1000000)","v":226.3662001314558},{"$f":"csinterpolate(CSTableU2,'2843009902'!AC18*1000000)","v":213.20814151659806},{"$f":"csinterpolate(CSTableU2,'2843009902'!AD18*1000000)","v":200.46390354189629},{"$f":"csinterpolate(CSTableU2,'2843009902'!AE18*1000000)","v":187.9217137112754}]
["µ'",{"$f":"csinterpolate(CSTableU1,'2843009902'!B18*1000000)","v":851.35508159999995},{"$f":"csinterpolate(CSTableU1,'2843009902'!C18*1000000)","v":863.58769639709783},{"$f":"csinterpolate(CSTableU1,'2843009902'!D18*1000000)","v":879.24005385927796},{"$f":"csinterpolate(CSTableU1,'2843009902'!E18*1000000)","v":896.17915795806061},{"$f":"csinterpolate(CSTableU1,'2843009902'!F18*1000000)","v":908.15149054789458},{"$f":"csinterpolate(CSTableU1,'2843009902'!G18*1000000)","v":911.30792780446325},{"$f":"csinterpolate(CSTableU1,'2843009902'!H18*1000000)","v":899.76001180828632},{"$f":"csinterpolate(CSTableU1,'2843009902'!I18*1000000)","v":872.31141011745683},{"$f":"csinterpolate(CSTableU1,'2843009902'!J18*1000000)","v":830.29986342837458},{"$f":"csinterpolate(CSTableU1,'2843009902'!K18*1000000)","v":777.55369108604111},{"$f":"csinterpolate(CSTableU1,'2843009902'!L18*1000000)","v":717.54660747182982},{"$f":"csinterpolate(CSTableU1,'2843009902'!M18*1000000)","v":655.62904464782775},{"$f":"csinterpolate(CSTableU1,'2843009902'!N18*1000000)","v":595.32068828107026},{"$f":"csinterpolate(CSTableU1,'2843009902'!O18*1000000)","v":538.74416602979227},{"$f":"csinterpolate(CSTableU1,'2843009902'!P18*1000000)","v":486.35182359043364},{"$f":"csinterpolate(CSTableU1,'2843009902'!Q18*1000000)","v":438.88986177126662},{"$f":"csinterpolate(CSTableU1,'2843009902'!R18*1000000)","v":396.02835566945254},{"$f":"csinterpolate(CSTableU1,'2843009902'!S18*1000000)","v":357.5575879347179},{"$f":"csinterpolate(CSTableU1,'2843009902'!T18*1000000)","v":323.228473209279},{"$f":"csinterpolate(CSTableU1,'2843009902'!U18*1000000)","v":292.53094064458895},{"$f":"csinterpolate(CSTableU1,'2843009902'!V18*1000000)","v":265.1103226189839},{"$f":"csinterpolate(CSTableU1,'2843009902'!W18*1000000)","v":240.42073793550509},{"$f":"csinterpolate(CSTableU1,'2843009902'!X18*1000000)","v":218.13738362985305},{"$f":"csinterpolate(CSTableU1,'2843009902'!Y18*1000000)","v":197.73826386906552},{"$f":"csinterpolate(CSTableU1,'2843009902'!Z18*1000000)","v":179.07216186952877},{"$f":"csinterpolate(CSTableU1,'2843009902'!AA18*1000000)","v":161.57658933040415},{"$f":"csinterpolate(CSTableU1,'2843009902'!AB18*1000000)","v":145.17075176901949},{"$f":"csinterpolate(CSTableU1,'2843009902'!AC18*1000000)","v":129.52241001780538},{"$f":"csinterpolate(CSTableU1,'2843009902'!AD18*1000000)","v":114.82909581928271},{"$f":"csinterpolate(CSTableU1,'2843009902'!AE18*1000000)","v":101.03617576133438}]
["Rl",{"$f":"B19/$B$13*$B$16*B18*1000000","v":54.588313948776246},78.205528184556499,109.31201706063203,166.45700553495945,255.87095602538761,392.18957128257506,573.0924528526491,794.93005360344398,1049.7864074570614,1322.2478593248263,1600.0890877500715,1876.7035989555463,2145.1822475919889,2409.0348480544485,2668.7183942127303,2923.175723438766,3176.462827976703,3427.3371754008326,3682.7005065505477,3942.8753301749284,4212.1717233296704,4494.0999153153352,4788.2990904127655,5102.7965288408641,5437.5352808104481,5795.2754016614263,6176.0322406389023,6573.2507829598089,6983.7879395172413,7397.9308658578466]
["Xl",{"$f":"B20/$B$13*$B$16*B18*1000000","v":968.20913492222519},1109.7964544030108,1276.7997659146854,1470.5798575780257,1683.9551376306542,1909.4830562380716,2130.3736998596155,2333.8831086609134,2510.2730153596881,2656.4082594858064,2770.0843489673457,2860.0887275157061,2934.6123454892318,3000.9640221636641,3061.3092278561994,3121.696262071242,3183.0233280243679,3247.416412873828,3317.2640083799697,3392.5064111656088,3474.1930815977971,3560.2269404565372,3650.1801556098935,3738.9818768750729,3826.213181525563,3901.1977657408329,3960.7469790215505,3993.2024968854257,4000.4312014246152,3977.5001433917109]
["Yl",{"$f":"IMDIV(1,COMPLEX(B21,B22))","v":"0.0000580474291564452-0.00102956195387824i"},"0.0000631828933618282-0.000896613738947003i","0.0000665657226592006-0.000777509201591875i","0.0000759969016151909-0.000671401677535088i","0.0000881956342191291-0.000580439037188573i","0.000103209460377072-0.000502503713163496i","0.000117752422775266-0.000437724599803231i","0.000130768213804359-0.000383930289167306i","0.000141795538859053-0.00033906470151246i","0.000150172771135967-0.000301698495317779i","0.000156355622304461-0.000270683842252595i","0.000160372904146916-0.000244407660114695i","0.000162344617794171-0.000222087666508193i","0.000162671131695506-0.00020264140805481i","0.000161802561923432-0.000185605074323737i","0.000159824204239096-0.000170678285592346i","0.000157083025871302-0.000157407456930165i","0.000153744968185205-0.00014567400507451i","0.000149907271300169-0.00013503188619166i","0.000145733581489328-0.000125391260976729i","0.000141289214067264-0.000116535137278035i","0.000136714511425205-0.000108305265993005i","0.000132085094355433-0.000100690115877139i","0.000127510882407548-0.0000934312931608252i","0.000123002522699754-0.0000865527944941531i","0.000118744545269534-0.0000799351062016155i","0.000114730262511187-0.0000735775855659271i","0.000111122315540257-0.000067506006164463i","0.000107813198562076-0.0000617572135907282i","0.000104860985956813-0.0000563785461424495i"]
["Yc",{"$f":"COMPLEX(0,2*PI()*B18*1000000*$B$9*0.000000000001)","v":"0.0000125663706143592i"},"0.0000141999987942259i","0.0000160459986374752i","0.000018131978460347i","0.0000204891356601921i","0.0000231527232960171i","0.0000261625773244993i","0.0000295637123766842i","0.0000334069949856532i","0.0000377499043337881i","0.0000426573918971805i","0.0000482028528438139i","0.0000544692237135098i","0.000061550222796266i","0.0000695517517597806i","0.0000785934794885521i","0.0000888106318220638i","0.000100356013958932i","0.000113402295773593i","0.00012814459422416i","0.000144803391473301i","0.00016362783236483i","0.000184899450572258i","0.000208936379146652i","0.000236098108435717i","0.00026679086253236i","0.000301473674661566i","0.00034066525236757i","0.000384951735175354i","0.00043499546074815i"]
["Z",{"$f":"IMDIV(1,IMSUM(B23,B24))","v":"55.9412672725124+980.095459266561i"},"80.7298399947637+1127.47479992349i","113.932223860393+1303.30134842247i","175.700417993973+1510.32156246861i","274.477112760135+1742.64217977012i","429.271087028072+1993.72731662985i","642.581770410462+2245.91772130946i","916.539691492266+2483.71544978632i","1248.94108272427+2692.24596206846i","1628.40597365352+2862.13978102997i","2045.38454080589+2982.95494321025i","2497.40589047521+3055.39794284055i","2981.44164902337+3078.29488456532i","3508.2159646281+3042.81616186727i","4080.93107346893+2927.05878448748i","4697.48060634389+2706.51490411548i","5346.48775777978+2334.76585791964i","5984.33531232988+1763.94751462769i","6534.74632430493+942.875453970891i","6859.38803280258-129.59388587543i","6805.26968740083-1361.55540718912i","6285.30738118024-2543.39741361618i","5382.94866276673-3431.8370880652i","4307.73458907967-3902.13952504429i","3280.64278313797-3988.57473949577i","2422.59960985908-3812.18927875187i","1762.37881307736-3500.72622701601i","1277.79464001955-3141.05604237218i","928.796510777682-2784.27825121454i","679.386457236137-2453.03057106084i"]
["R",{"$f":"IMREAL(B25)","v":55.941267272512398},80.729839994763694,113.93222386039299,175.70041799397299,274.47711276013501,429.27108702807197,642.58177041046201,916.539691492266,1248.94108272427,1628.40597365352,2045.3845408058901,2497.4058904752101,2981.4416490233698,3508.2159646281002,4080.9310734689302,4697.48060634389,5346.4877577797797,5984.3353123298803,6534.7463243049297,6859.3880328025798,6805.2696874008298,6285.3073811802396,5382.9486627667302,4307.7345890796696,3280.6427831379701,2422.5996098590799,1762.3788130773601,1277.7946400195499,928.79651077768199,679.38645723613695]
["X",{"$f":"IMAGINARY(B25)","v":980.09545926656097},1127.4747999234901,1303.30134842247,1510.32156246861,1742.64217977012,1993.7273166298501,2245.9177213094599,2483.7154497863198,2692.2459620684599,2862.13978102997,2982.9549432102499,3055.3979428405501,3078.29488456532,3042.8161618672698,2927.0587844874799,2706.51490411548,2334.76585791964,1763.94751462769,942.87545397089104,-129.59388587543,-1361.5554071891199,-2543.3974136161801,-3431.8370880652001,-3902.1395250442902,-3988.5747394957698,-3812.18927875187,-3500.7262270160099,-3141.0560423721799,-2784.27825121454,-2453.03057106084]
["|Z|",{"$f":"IMABS(B25)","v":981.69065120280425},1130.3613278629512,1308.2717441088466,1520.5071058501767,1764.1256905739726,2039.4171420369903,2336.0346192973511,2647.4303468812923,2967.8345891222443,3292.9546217925254,3616.8519617189459,3946.199788517371,4285.4280653013193,4643.9540748582058,5022.1182337983237,5421.3971421743481,5834.0434481923667,6238.8925271044354,6602.4180149940212,6860.6121271947404,6940.1389499852612,6780.4099639703418,6383.8579327082425,5812.3377536810667,5164.4308033992475,4516.8325147961896,3919.3192262562275,3391.0163968028041,2935.1095956742561,2545.3732419499779]
[]
["Y",{"$f":"IMDIV(1,B25)","v":"0.0000580474291564453-0.00101699558326388i"},{"$f":"IMDIV(1,C25)","v":"0.0000631828933618285-0.000882413740152779i"},"0.0000665657226592008-0.0007614632029544i","0.0000759969016151915-0.000653269699074743i","0.0000881956342191297-0.000559949901528382i","0.000103209460377072-0.00047935098986748i","0.000117752422775266-0.000411562022478733i","0.000130768213804359-0.000354366576790622i","0.000141795538859053-0.000305657706526807i","0.000150172771135967-0.000263948590983991i","0.000156355622304461-0.000228026450355415i","0.000160372904146916-0.000196204807270881i","0.000162344617794171-0.000167618442794683i","0.000162671131695506-0.000141091185258544i","0.000161802561923432-0.000116053322563956i","0.000159824204239096-0.0000920848061037939i","0.000157083025871302-0.0000685968251081012i","0.000153744968185205-0.0000453179911155781i","0.000149907271300169-0.000021629590418067i","0.000145733581489328+0.000002753333247431i","0.000141289214067264+0.0000282682541952659i","0.000136714511425205+0.0000553225663718251i","0.000132085094355433+0.0000842093346951189i","0.000127510882407548+0.000115505085985827i","0.000123002522699754+0.000149545313941564i","0.000118744545269534+0.000186855756330744i","0.000114730262511187+0.000227896089095639i","0.000111122315540256+0.000273159246203107i","0.000107813198562076+0.000323194521584626i","0.000104860985956813+0.0003786169146057i"]
["G",{"$f":"IMREAL(B30)","v":5.80474291564453E-5},6.3182893361828503E-5,6.6565722659200801E-5,7.5996901615191505E-5,8.8195634219129706E-5,1.03209460377072E-4,1.17752422775266E-4,1.30768213804359E-4,1.4179553885905301E-4,1.50172771135967E-4,1.56355622304461E-4,1.6037290414691599E-4,1.6234461779417099E-4,1.6267113169550601E-4,1.61802561923432E-4,1.5982420423909599E-4,1.5708302587130201E-4,1.5374496818520501E-4,1.49907271300169E-4,1.4573358148932801E-4,1.4128921406726401E-4,1.3671451142520499E-4,1.3208509435543299E-4,1.27510882407548E-4,1.2300252269975399E-4,1.1874454526953401E-4,1.14730262511187E-4,1.11122315540256E-4,1.0781319856207599E-4,1.04860985956813E-4]
["B",{"$f":"IMAGINARY(B30)","v":-1.01699558326388E-3},-8.8241374015277899E-4,-7.6146320295440001E-4,-6.5326969907474302E-4,-5.5994990152838202E-4,-4.7935098986748E-4,-4.1156202247873299E-4,-3.5436657679062199E-4,-3.0565770652680698E-4,-2.6394859098399098E-4,-2.28026450355415E-4,-1.9620480727088101E-4,-1.6761844279468299E-4,-1.41091185258544E-4,-1.16053322563956E-4,-9.2084806103793899E-5,-6.8596825108101206E-5,-4.5317991115578097E-5,-2.1629590418066999E-5,2.753333247431E-6,2.8268254195265901E-5,5.53225663718251E-5,8.4209334695118903E-5,1.1550508598582701E-4,1.4954531394156399E-4,1.86855756330744E-4,2.2789608909563899E-4,2.7315924620310698E-4,3.2319452158462598E-4,3.7861691460570001E-4]
[]
[]
[]
[]
["Module","Version","Date"]
["CubicSpline",{"$f":"CubicSpline_version(\"v\")","v":"1.04"},{"$f":"CubicSpline_version(\"d\")","v":"2014-03-07"}]
[]
["Copyright: Owen Duffy 2010. All rights reserved."]
[]
[]
[]
[]
[]
[]
[]
[]
[]
[]
[]
[]
[]
[]
[]
[]
[]
[]
[]
[]
[]
[]
[]
[]
[null,{"$f":"1/IMREAL(IMDIV(1,B25))","v":17227.291794523255},{"$f":"1/IMREAL(IMDIV(1,C25))","v":15827.068796506603},15022.746844043744,13158.431182674738,11338.429717682093,9689.0342837423668,8492.3942661335277,7647.1182935639836,7052.4080520898169,6658.9967837418153,6395.6766329308321,6235.4673024060858,6159.7360823372192,6147.3722447068103,6180.3718563691145,6256.8745751676406,6366.0602057621372,6504.2779077841114,6670.7904915274958,6861.8364400330711,7077.6810997329694,7314.5124798773759,7570.8769780567409,7842.4678828887554,8129.9145582645842,8421.4394667993856,8716.0961555587219,8999.0925327481364,9275.3022202956563,9536.4352230280383]
[null,{"$f":"-1/IMAGINARY(IMDIV(1,B25))","v":983.2884394548347},{"$f":"-1/IMAGINARY(IMDIV(1,C25))","v":1133.2552458066466},1313.2610953754579,1530.7613400963608,1785.8740527866908,2086.1540314675412,2429.7674357251317,2821.9365637037813,3271.6335254982273,3788.6165494274301,4385.4561540617024,5096.7150800713907,5965.9306179386658,7087.6149928681916,8616.7287407812782,10859.554820290814,14577.934159840601,22066.29145254078,46232.960526368042,-363196.13723948994,-35375.371718833296,-18075.806412865259,-11875.168039511465,-8657.6274236331428,-6686.936378299074,-5351.721668290219,-4387.9647253636704,-3660.8682074647845,-3094.1118528154188,-2641.1920900085038]

{"sheet":"2643167851x2 (2)","index":12,"n_rows":35,"n_cols":31,"rows_kept":35,"cut":false,"hidden":false,"merged":[]}
["Calculate impedance of ferrite cored inductor"]
[]
["Reference:"]
["A method for estimating the impedance of a ferrite cored toroidal inductor at RF"]
[]
["Inputs:"]
["Al (nH for 1t)",{"$f":"2*2300","v":4600}]
["N",5]
["Cs (pF)",6]
[]
["Constants:"]
["Mix",{"$f":"Mix!B1","v":"#43"}]
["µi",{"$f":"Mix!B2","v":800}]
[]
["Calculated values:"]
["2*pi*N^2*Al",{"$f":"2*PI()*$B$8^2*$B$7*0.000000001","v":7.2256631032565255E-4}]
[]
["f (MHz)",1,1.2,1.8,2,2.5,3,3.5,4,4.5,5,5.5,6,{"$f":"M18+1","v":7},8,9,10,11,12,13,14,15,16,17,18,19,22,24,26,28,30]
["µ''",{"$f":"csinterpolate(CSTableU2,'2643167851x2 (2)'!B18*1000000)","v":48},{"$f":"csinterpolate(CSTableU2,'2643167851x2 (2)'!C18*1000000)","v":66.347280523402432},{"$f":"csinterpolate(CSTableU2,'2643167851x2 (2)'!D18*1000000)","v":177.16847791255344},{"$f":"csinterpolate(CSTableU2,'2643167851x2 (2)'!E18*1000000)","v":223.78271015153356},{"$f":"csinterpolate(CSTableU2,'2643167851x2 (2)'!F18*1000000)","v":322.99305056103822},{"$f":"csinterpolate(CSTableU2,'2643167851x2 (2)'!G18*1000000)","v":386.64382608764055},{"$f":"csinterpolate(CSTableU2,'2643167851x2 (2)'!H18*1000000)","v":419.50126365521584},{"$f":"csinterpolate(CSTableU2,'2643167851x2 (2)'!I18*1000000)","v":433.16031558972583},{"$f":"csinterpolate(CSTableU2,'2643167851x2 (2)'!J18*1000000)","v":435.27669864112431},{"$f":"csinterpolate(CSTableU2,'2643167851x2 (2)'!K18*1000000)","v":431.488003256664},{"$f":"csinterpolate(CSTableU2,'2643167851x2 (2)'!L18*1000000)","v":424.49052648831525},{"$f":"csinterpolate(CSTableU2,'2643167851x2 (2)'!M18*1000000)","v":415.87136912183911},{"$f":"csinterpolate(CSTableU2,'2643167851x2 (2)'!N18*1000000)","v":396.51381905459618},{"$f":"csinterpolate(CSTableU2,'2643167851x2 (2)'!O18*1000000)","v":377.10613203745709},{"$f":"csinterpolate(CSTableU2,'2643167851x2 (2)'!P18*1000000)","v":359.24301627958164},{"$f":"csinterpolate(CSTableU2,'2643167851x2 (2)'!Q18*1000000)","v":343.01177808708195},{"$f":"csinterpolate(CSTableU2,'2643167851x2 (2)'!R18*1000000)","v":328.3746681677697},{"$f":"csinterpolate(CSTableU2,'2643167851x2 (2)'!S18*1000000)","v":315.3658178118219},{"$f":"csinterpolate(CSTableU2,'2643167851x2 (2)'!T18*1000000)","v":303.71912185523638},{"$f":"csinterpolate(CSTableU2,'2643167851x2 (2)'!U18*1000000)","v":293.05299615112307},{"$f":"csinterpolate(CSTableU2,'2643167851x2 (2)'!V18*1000000)","v":283.53831282652527},{"$f":"csinterpolate(CSTableU2,'2643167851x2 (2)'!W18*1000000)","v":274.9277292838795},{"$f":"csinterpolate(CSTableU2,'2643167851x2 (2)'!X18*1000000)","v":267.03710576431388},{"$f":"csinterpolate(CSTableU2,'2643167851x2 (2)'!Y18*1000000)","v":259.78646115941109},{"$f":"csinterpolate(CSTableU2,'2643167851x2 (2)'!Z18*1000000)","v":253.10413373398319},{"$f":"csinterpolate(CSTableU2,'2643167851x2 (2)'!AA18*1000000)","v":235.99249104234499},{"$f":"csinterpolate(CSTableU2,'2643167851x2 (2)'!AB18*1000000)","v":226.32326658075181},{"$f":"csinterpolate(CSTableU2,'2643167851x2 (2)'!AC18*1000000)","v":217.67779772639955},{"$f":"csinterpolate(CSTableU2,'2643167851x2 (2)'!AD18*1000000)","v":209.8349532419403},{"$f":"csinterpolate(CSTableU2,'2643167851x2 (2)'!AE18*1000000)","v":202.6519482236636}]
["µ'",{"$f":"csinterpolate(CSTableU1,'2643167851x2 (2)'!B18*1000000)","v":851.35508159999995},{"$f":"csinterpolate(CSTableU1,'2643167851x2 (2)'!C18*1000000)","v":871.43462511973303},{"$f":"csinterpolate(CSTableU1,'2643167851x2 (2)'!D18*1000000)","v":911.39948614140371},{"$f":"csinterpolate(CSTableU1,'2643167851x2 (2)'!E18*1000000)","v":905.13111057437402},{"$f":"csinterpolate(CSTableU1,'2643167851x2 (2)'!F18*1000000)","v":853.41235727690139},{"$f":"csinterpolate(CSTableU1,'2643167851x2 (2)'!G18*1000000)","v":778.18884880591781},{"$f":"csinterpolate(CSTableU1,'2643167851x2 (2)'!H18*1000000)","v":702.00809951230747},{"$f":"csinterpolate(CSTableU1,'2643167851x2 (2)'!I18*1000000)","v":634.66365833561963},{"$f":"csinterpolate(CSTableU1,'2643167851x2 (2)'!J18*1000000)","v":577.45143379453214},{"$f":"csinterpolate(CSTableU1,'2643167851x2 (2)'!K18*1000000)","v":529.67518696767149},{"$f":"csinterpolate(CSTableU1,'2643167851x2 (2)'!L18*1000000)","v":488.91695376155724},{"$f":"csinterpolate(CSTableU1,'2643167851x2 (2)'!M18*1000000)","v":454.54725462303065},{"$f":"csinterpolate(CSTableU1,'2643167851x2 (2)'!N18*1000000)","v":399.24764527317183},{"$f":"csinterpolate(CSTableU1,'2643167851x2 (2)'!O18*1000000)","v":357.04073559650715},{"$f":"csinterpolate(CSTableU1,'2643167851x2 (2)'!P18*1000000)","v":323.944213278745},{"$f":"csinterpolate(CSTableU1,'2643167851x2 (2)'!Q18*1000000)","v":297.16798360241029},{"$f":"csinterpolate(CSTableU1,'2643167851x2 (2)'!R18*1000000)","v":275.11122800113469},{"$f":"csinterpolate(CSTableU1,'2643167851x2 (2)'!S18*1000000)","v":256.6781558712193},{"$f":"csinterpolate(CSTableU1,'2643167851x2 (2)'!T18*1000000)","v":240.72870055395072},{"$f":"csinterpolate(CSTableU1,'2643167851x2 (2)'!U18*1000000)","v":226.83601903048785},{"$f":"csinterpolate(CSTableU1,'2643167851x2 (2)'!V18*1000000)","v":214.80645504057313},{"$f":"csinterpolate(CSTableU1,'2643167851x2 (2)'!W18*1000000)","v":203.94046916188543},{"$f":"csinterpolate(CSTableU1,'2643167851x2 (2)'!X18*1000000)","v":194.26083744402825},{"$f":"csinterpolate(CSTableU1,'2643167851x2 (2)'!Y18*1000000)","v":185.47551177934841},{"$f":"csinterpolate(CSTableU1,'2643167851x2 (2)'!Z18*1000000)","v":177.42149961879051},{"$f":"csinterpolate(CSTableU1,'2643167851x2 (2)'!AA18*1000000)","v":156.64931380497691},{"$f":"csinterpolate(CSTableU1,'2643167851x2 (2)'!AB18*1000000)","v":145.11851941771693},{"$f":"csinterpolate(CSTableU1,'2643167851x2 (2)'!AC18*1000000)","v":134.79024907345377},{"$f":"csinterpolate(CSTableU1,'2643167851x2 (2)'!AD18*1000000)","v":125.53942475369485},{"$f":"csinterpolate(CSTableU1,'2643167851x2 (2)'!AE18*1000000)","v":117.30421979684496}]
["Rl",{"$f":"B19/$B$13*$B$16*B18*1000000","v":43.353978619539156},71.910464531903884,288.03594013039259,404.2446179721714,729.32467751473848,1047.6592605987739,1326.1389761213043,1564.9352550758169,1769.1540643566461,1948.6168403934425,2108.7175552633826,2253.7098056733362,2506.9408632398636,2724.8418642748375,2920.2401338132008,3098.1094361328041,3262.496495257943,3418.0907306868012,3566.1795853821382,3705.6288877789066,3841.4106100316817,3973.0702990972536,4100.2303449334277,4223.5412560315672,4343.5073509579497,4689.3061467182379,4906.007030223087,5111.8159021467927,5306.6883779484624,5491.1051440604169]
["Xl",{"$f":"B20/$B$13*$B$16*B18*1000000","v":768.95062511088338},944.50395264417557,1481.7297688512519,1635.0431173217144,1927.0219318246504,2108.598919568472,2219.207384989576,2292.9328895067461,2347.0141044890975,2392.0340344892534,2428.7650704291295,2463.3039948121364,2524.2253570733565,2579.8560695592505,2633.3007180769014,2684.0446682313454,2733.3089430066643,2782.004820435895,2826.5647954173019,2868.3211430968345,2910.2232684900018,2947.2102465677222,2982.7846517449357,3015.413014548732,3044.7214608598488,3112.7117090054558,3145.7325940674386,3165.334020578639,3174.8695630638763,3178.5028981588362]
["Yl",{"$f":"IMDIV(1,COMPLEX(B21,B22))","v":"0.0000730892847117677-0.00129635279062234i"},"0.0000801446160347266-0.00105265495252593i","0.000126415396552438-0.00065031279161929i","0.00014250123723849-0.000576372960326367i","0.000171794658888778-0.000453915911055018i","0.000188979250119826-0.000380354049842294i","0.0001984190643992-0.000332041408152649i","0.000203065249138967-0.000297529873492474i","0.000204801571133248-0.00027169605279462i","0.000204709556331127-0.000251292206748239i","0.000203827684854419-0.000234763332872722i","0.000202179487896441-0.000220982106458724i","0.000198075895317398-0.000199441560396053i","0.0001935199207614-0.000183222941743003i","0.000188864697193437-0.000170307070634441i","0.000184385178221368-0.000159741953829657i","0.000180100552056878-0.000150887656214503i","0.000175982556637415-0.000143233272447261i","0.000172220091620828-0.000136502168885253i","0.000168752541084973-0.000130621952765342i","0.000165393865010402-0.000125301125883754i","0.000162356085717171-0.000120435200838756i","0.000159486848359591-0.000116021511823108i","0.000156828141757221-0.000111968036070886i","0.000154373327247507-0.000108212958900867i","0.000148027726355954-0.0000982592355178382i","0.000144444978262117-0.0000926181461561913i","0.000141405690767642-0.0000875611039713431i","0.000138770552457941-0.0000830232287765503i","0.000136407633073805-0.0000789589792366404i"]
["Yc",{"$f":"COMPLEX(0,2*PI()*B18*1000000*$B$9*0.000000000001)","v":"0.0000376991118430775i"},"0.000045238934211693i","0.0000678584013175395i","0.000075398223686155i","0.0000942477796076938i","0.000113097335529233i","0.000131946891450771i","0.00015079644737231i","0.000169646003293849i","0.000188495559215388i","0.000207345115136926i","0.000226194671058465i","0.000263893782901543i","0.00030159289474462i","0.000339292006587698i","0.000376991118430775i","0.000414690230273853i","0.00045238934211693i","0.000490088453960008i","0.000527787565803085i","0.000565486677646163i","0.00060318578948924i","0.000640884901332318i","0.000678584013175395i","0.000716283125018473i","0.000829380460547705i","0.000904778684233861i","0.000980176907920015i","0.00105557513160617i","0.00113097335529233i"]
["Z",{"$f":"IMDIV(1,IMSUM(B23,B24))","v":"45.9810845254591+791.829628932067i"},"78.4723549709585+986.395734410039i","355.865169125528+1639.63596021834i","525.287653578129+1846.69164290301i","1081.32257616598+2263.84960380645i","1763.86475777087+2494.4786232115i","2498.7307638518+2519.83006811848i","3235.26467052568+2337.77798773872i","3911.56991065411+1949.08613639622i","4464.82311235895+1369.62791727129i","4818.90804496602+648.223376132769i","4942.81466081177-127.434988544561i","4565.20728703571-1485.47987313762i","3760.48650171842-2300.16945397805i","2940.63676707567-2631.10747074728i","2270.89064556498-2675.64399920032i","1765.20700024788-2585.589800224i","1390.64608296651-2443.00733849006i","1113.37424471137-2285.87651638314i","906.209880671018-2132.79990027726i","747.987626491341-1990.72284850371i","625.872439007732-1860.97297810834i","530.001672094778-1744.20948763131i","453.721155147084-1639.28267450006i","392.228137400771-1544.97044870255i","266.021395859613-1313.90175079327i","212.272651465076-1193.53038719148i","173.130348016785-1092.87599349063i","143.786625091672-1007.70627022428i","121.214456726657-934.840288543289i"]
["R",{"$f":"IMREAL(B25)","v":45.981084525459103},78.472354970958506,355.86516912552798,525.28765357812904,1081.3225761659801,1763.86475777087,2498.7307638518,3235.2646705256798,3911.5699106541101,4464.8231123589503,4818.9080449660196,4942.8146608117704,4565.2072870357097,3760.4865017184202,2940.6367670756699,2270.8906455649799,1765.2070002478799,1390.64608296651,1113.37424471137,906.20988067101803,747.98762649134096,625.87243900773205,530.00167209477797,453.721155147084,392.228137400771,266.02139585961299,212.272651465076,173.13034801678501,143.78662509167199,121.214456726657]
["X",{"$f":"IMAGINARY(B25)","v":791.82962893206695},986.39573441003904,1639.63596021834,1846.69164290301,2263.84960380645,2494.4786232114998,2519.8300681184801,2337.7779877387202,1949.0861363962199,1369.62791727129,648.22337613276898,-127.43498854456099,-1485.47987313762,-2300.1694539780501,-2631.1074707472799,-2675.6439992003202,-2585.5898002240001,-2443.0073384900602,-2285.8765163831399,-2132.7999002772599,-1990.7228485037101,-1860.9729781083399,-1744.2094876313099,-1639.28267450006,-1544.9704487025499,-1313.9017507932699,-1193.53038719148,-1092.87599349063,-1007.70627022428,-934.84028854328903]
["|Z|",{"$f":"IMABS(B25)","v":793.16355273602437},989.51223102951508,1677.8099119500573,1919.9471719215182,2508.8390825999286,3055.101059763037,3548.6897585465799,3991.5089137201408,4370.2764138011389,4670.1740927318288,4862.3110031345377,4944.4571438572639,4800.8091012974992,4408.1785633774098,3945.8929431117867,3509.4180620967936,3130.6916757717463,2811.0818885237732,2542.6037160632272,2317.3372137970059,2126.6083205279892,1963.3992806250367,1822.9559811378708,1700.9146285290376,1593.9813672477596,1340.5615218231192,1212.2600643877774,1106.5044304260805,1017.9128256410678,942.66606473514184]
[]
[]
[]
["Module","Version","Date"]
["CubicSpline",{"$f":"CubicSpline_version(\"v\")","v":"1.04"},{"$f":"CubicSpline_version(\"d\")","v":"2014-03-07"}]
[]
["Copyright: Owen Duffy 2010. All rights reserved."]

{"sheet":"2643167851x3 4t","index":13,"n_rows":35,"n_cols":31,"rows_kept":35,"cut":false,"hidden":false,"merged":[]}
["Calculate impedance of ferrite cored inductor"]
[]
["Reference:"]
["A method for estimating the impedance of a ferrite cored toroidal inductor at RF"]
[]
["Inputs:"]
["Al (nH for 1t)",{"$f":"3*2300","v":6900}]
["N",4]
["Cs (pF)",6]
[]
["Constants:"]
["Mix",{"$f":"Mix!B1","v":"#43"}]
["µi",{"$f":"Mix!B2","v":800}]
[]
["Calculated values:"]
["2*pi*N^2*Al",{"$f":"2*PI()*$B$8^2*$B$7*0.000000001","v":6.9366365791262636E-4}]
[]
["f (MHz)",1,{"$f":"B18*1.12","v":1.1200000000000001},{"$f":"C18*1.12","v":1.2544000000000002},1.4049280000000004,1.5735193600000006,1.7623416832000007,1.9738226851840011,2.2106814074060814,2.4759631762948113,2.7730787574501892,3.105848208344212,3.478549993345518,3.8959759925469806,4.3634931116526188,4.8871122850509332,5.4735657592570455,6.1303936503678917,6.866040888412039,7.6899657950214841,8.6127616904240636,9.6462930932749522,10.803848264467948,12.100310056204103,13.552347262948597,15.178628934502431,17.000064406642725,19.040072135439853,21.324880791692639,23.883866486695759,26.749930465099251]
["µ''",{"$f":"csinterpolate(CSTableU2,'2643167851x3 4t'!B18*1000000)","v":48},{"$f":"csinterpolate(CSTableU2,'2643167851x3 4t'!C18*1000000)","v":59.973765869649426},{"$f":"csinterpolate(CSTableU2,'2643167851x3 4t'!D18*1000000)","v":72.451448380846756},{"$f":"csinterpolate(CSTableU2,'2643167851x3 4t'!E18*1000000)","v":94.666482072869073},{"$f":"csinterpolate(CSTableU2,'2643167851x3 4t'!F18*1000000)","v":126.11889878815771},{"$f":"csinterpolate(CSTableU2,'2643167851x3 4t'!G18*1000000)","v":168.09950666991952},{"$f":"csinterpolate(CSTableU2,'2643167851x3 4t'!H18*1000000)","v":217.71336194090253},{"$f":"csinterpolate(CSTableU2,'2643167851x3 4t'!I18*1000000)","v":269.62329374728978},{"$f":"csinterpolate(CSTableU2,'2643167851x3 4t'!J18*1000000)","v":318.97515076729678},{"$f":"csinterpolate(CSTableU2,'2643167851x3 4t'!K18*1000000)","v":362.01654127334126},{"$f":"csinterpolate(CSTableU2,'2643167851x3 4t'!L18*1000000)","v":396.13264548476411},{"$f":"csinterpolate(CSTableU2,'2643167851x3 4t'!M18*1000000)","v":418.57186496752115},{"$f":"csinterpolate(CSTableU2,'2643167851x3 4t'!N18*1000000)","v":431.4651760840942},{"$f":"csinterpolate(CSTableU2,'2643167851x3 4t'!O18*1000000)","v":435.24650675731294},{"$f":"csinterpolate(CSTableU2,'2643167851x3 4t'!P18*1000000)","v":432.56568622360533},{"$f":"csinterpolate(CSTableU2,'2643167851x3 4t'!Q18*1000000)","v":424.87024303540909},{"$f":"csinterpolate(CSTableU2,'2643167851x3 4t'!R18*1000000)","v":413.39327884650834},{"$f":"csinterpolate(CSTableU2,'2643167851x3 4t'!S18*1000000)","v":399.0847877300742},{"$f":"csinterpolate(CSTableU2,'2643167851x3 4t'!T18*1000000)","v":382.98621743393716},{"$f":"csinterpolate(CSTableU2,'2643167851x3 4t'!U18*1000000)","v":365.83743032525189},{"$f":"csinterpolate(CSTableU2,'2643167851x3 4t'!V18*1000000)","v":348.4821151269195},{"$f":"csinterpolate(CSTableU2,'2643167851x3 4t'!W18*1000000)","v":331.02945419541538},{"$f":"csinterpolate(CSTableU2,'2643167851x3 4t'!X18*1000000)","v":314.1246304938806},{"$f":"csinterpolate(CSTableU2,'2643167851x3 4t'!Y18*1000000)","v":297.67328956021225},{"$f":"csinterpolate(CSTableU2,'2643167851x3 4t'!Z18*1000000)","v":281.94761128031843},{"$f":"csinterpolate(CSTableU2,'2643167851x3 4t'!AA18*1000000)","v":267.03662917424384},{"$f":"csinterpolate(CSTableU2,'2643167851x3 4t'!AB18*1000000)","v":252.84606009339507},{"$f":"csinterpolate(CSTableU2,'2643167851x3 4t'!AC18*1000000)","v":239.51515419594642},{"$f":"csinterpolate(CSTableU2,'2643167851x3 4t'!AD18*1000000)","v":226.85102084773106},{"$f":"csinterpolate(CSTableU2,'2643167851x3 4t'!AE18*1000000)","v":214.61507765926018}]
["µ'",{"$f":"csinterpolate(CSTableU1,'2643167851x3 4t'!B18*1000000)","v":851.35508159999995},{"$f":"csinterpolate(CSTableU1,'2643167851x3 4t'!C18*1000000)","v":862.56527234012481},{"$f":"csinterpolate(CSTableU1,'2643167851x3 4t'!D18*1000000)","v":876.77102490505138},{"$f":"csinterpolate(CSTableU1,'2643167851x3 4t'!E18*1000000)","v":892.22770887805609},{"$f":"csinterpolate(CSTableU1,'2643167851x3 4t'!F18*1000000)","v":905.30704822655821},{"$f":"csinterpolate(CSTableU1,'2643167851x3 4t'!G18*1000000)","v":911.0602698110041},{"$f":"csinterpolate(CSTableU1,'2643167851x3 4t'!H18*1000000)","v":906.50178990554173},{"$f":"csinterpolate(CSTableU1,'2643167851x3 4t'!I18*1000000)","v":888.1476375013176},{"$f":"csinterpolate(CSTableU1,'2643167851x3 4t'!J18*1000000)","v":856.64493054138279},{"$f":"csinterpolate(CSTableU1,'2643167851x3 4t'!K18*1000000)","v":812.89315669046505},{"$f":"csinterpolate(CSTableU1,'2643167851x3 4t'!L18*1000000)","v":761.55573597953162},{"$f":"csinterpolate(CSTableU1,'2643167851x3 4t'!M18*1000000)","v":705.15370118417536},{"$f":"csinterpolate(CSTableU1,'2643167851x3 4t'!N18*1000000)","v":647.86696148489659},{"$f":"csinterpolate(CSTableU1,'2643167851x3 4t'!O18*1000000)","v":592.09771779161906},{"$f":"csinterpolate(CSTableU1,'2643167851x3 4t'!P18*1000000)","v":539.73264444696622},{"$f":"csinterpolate(CSTableU1,'2643167851x3 4t'!Q18*1000000)","v":490.89198846891532},{"$f":"csinterpolate(CSTableU1,'2643167851x3 4t'!R18*1000000)","v":446.36169750809825},{"$f":"csinterpolate(CSTableU1,'2643167851x3 4t'!S18*1000000)","v":405.79720843649812},{"$f":"csinterpolate(CSTableU1,'2643167851x3 4t'!T18*1000000)","v":368.98129634970383},{"$f":"csinterpolate(CSTableU1,'2643167851x3 4t'!U18*1000000)","v":335.9305144012381},{"$f":"csinterpolate(CSTableU1,'2643167851x3 4t'!V18*1000000)","v":306.03522973166378},{"$f":"csinterpolate(CSTableU1,'2643167851x3 4t'!W18*1000000)","v":279.15991189331908},{"$f":"csinterpolate(CSTableU1,'2643167851x3 4t'!X18*1000000)","v":254.97575565999867},{"$f":"csinterpolate(CSTableU1,'2643167851x3 4t'!Y18*1000000)","v":232.93089865183032},{"$f":"csinterpolate(CSTableU1,'2643167851x3 4t'!Z18*1000000)","v":212.76892625166406},{"$f":"csinterpolate(CSTableU1,'2643167851x3 4t'!AA18*1000000)","v":194.26025111789878},{"$f":"csinterpolate(CSTableU1,'2643167851x3 4t'!AB18*1000000)","v":177.11260645412236},{"$f":"csinterpolate(CSTableU1,'2643167851x3 4t'!AC18*1000000)","v":160.95095758142699},{"$f":"csinterpolate(CSTableU1,'2643167851x3 4t'!AD18*1000000)","v":145.76001989820901},{"$f":"csinterpolate(CSTableU1,'2643167851x3 4t'!AE18*1000000)","v":131.20204703430656}]
["Rl",{"$f":"B19/$B$13*$B$16*B18*1000000","v":41.619819474757577},58.242270536711032,78.802876753323957,115.32122877481243,172.07239974371268,256.87125467099708,372.6079999523094,516.82382177866714,684.79406464662895,870.46151260413046,1066.7921610316987,1262.4879373141641,1457.5416573828152,1646.7533047676332,1833.0036834983343,2016.4414208781664,2197.4081394313548,2375.9128908134435,2553.6801934307168,2732.0555366933941,2914.7405451969075,3101.0164410300767,3295.7741587951241,3497.9479515122634,3710.7348101709554,3936.2290188736215,4174.3007406142679,4428.7234667634384,4697.9060510950439,4977.8504165896784]
["Xl",{"$f":"B20/$B$13*$B$16*B18*1000000","v":738.19260010644803},837.66225479979255,953.63281977870679,1086.8978489720555,1235.1706032170662,1392.1825186957983,1551.4427588582221,1702.4339771894768,1839.0942445931337,1954.5852912396617,2050.8829519402416,2126.8702371253171,2188.5731158572535,2240.1991937465209,2287.1253011598624,2329.7817509038227,2372.653058055339,2415.874641737767,2460.2980090195088,2508.712192183832,2559.7103944133642,2615.1131432149141,2675.1882057203206,2737.1624810101407,2800.2686654428849,2863.4754716178172,2923.9976451303187,2976.0425190289529,3018.5752611056819,3043.1420364791948]
["Yl",{"$f":"IMDIV(1,COMPLEX(B21,B22))","v":"0.0000761346715747579-0.00135036749023161i"},"0.0000826049225760065-0.00118805508550641i","0.0000860645331514909-0.00104150973687306i","0.0000965317227918582-0.000909807526113996i","0.000110639324904463-0.000794191525691022i","0.000128169355062118-0.000694648125492038i","0.000146361198022992-0.000609409945249828i","0.000163273434806152-0.000537827846305165i","0.000177812678765407-0.000477536665423488i","0.000190135689389171-0.000426941819297643i","0.000199618066075028-0.000383761058214592i","0.000206374773801911-0.00034767252115418i","0.000210801654612373-0.000316529432778807i","0.000213026101807868-0.000289795016737063i","0.000213367108687577-0.000266228222620551i","0.000212392945274793-0.000245397264110169i","0.000210115726325109-0.000226872610356217i","0.0002069355945528-0.000210416155106544i","0.000203086476228258-0.000195660073022658i","0.00019858281283117-0.000182348827473205i","0.00019369839995529-0.000170104954474875i","0.000188452985691907-0.000158923981582404i","0.000182907941360819-0.000148466837800541i","0.00017731150866973-0.000138747178548574i","0.000171705379164223-0.000129575735685464i","0.000166131942634616-0.000120855453406156i","0.000160707343037696-0.00011257164296414i","0.000155555252444434-0.000104531034463355i","0.000150660262089908-0.0000968046902236987i","0.000146236577112056-0.0000893997685421429i"]
["Yc",{"$f":"COMPLEX(0,2*PI()*B18*1000000*$B$9*0.000000000001)","v":"0.0000376991118430775i"},"0.0000422230052642468i","0.0000472897658959564i","0.0000529645378034712i","0.0000593202823398878i","0.0000664387162206743i","0.0000744113621671552i","0.0000833407256272139i","0.0000933416127024796i","0.000104542606226777i","0.00011708771897399i","0.000131138245250869i","0.000146874834680974i","0.00016449981484269i","0.000184239792623813i","0.000206348567738671i","0.000231110395867311i","0.000258843643371389i","0.000289904880575955i","0.00032469346624507i","0.000363656682194479i","0.000407295484057816i","0.000456170942144754i","0.000510911455202125i","0.00057222082982638i","0.000640887329405545i","0.000717793808934211i","0.000803929066006316i","0.000900400553927074i","0.00100844862039832i"]
["Z",{"$f":"IMDIV(1,IMSUM(B23,B24))","v":"44.0366142251118+759.252910519731i"},"62.5911169243922+868.215930402531i","86.4205465201503+998.332647687183i","129.834493734146+1152.44784180246i","200.333101080846+1330.62123438292i","311.791103711867+1528.2132377429i","475.746909493718+1739.0122923503i","700.093066396785+1948.77557595967i","992.129877159616+2143.66823056704i","1357.21210971812+2301.32552993648i","1798.97613796361+2403.28434874529i","2306.43962029158+2419.98197693443i","2879.01661202256+2317.05205126508i","3487.71386335509+2051.36276235769i","4083.76659675739+1569.22786178597i","4554.31279381669+837.315840394267i","4757.34682848635-95.9500548274727i","4581.50906957067-1072.17406063655i","4051.5034829737-1880.15062915961i","3326.50520551458-2384.44694735122i","2583.2880049015-2581.33188844835i","1938.75826212781-2555.1853197409i","1427.43902690271-2401.36564881355i","1043.34262188832-2189.90213940453i","761.721883576495-1963.66856126525i","557.428059624893-1744.88033417501i","409.841497077146-1543.45877342558i","303.016897444599-1362.40607929785i","225.382482465036-1202.15130484785i","168.857402199496-1061.21330711911i"]
["R",{"$f":"IMREAL(B25)","v":44.036614225111798},62.591116924392203,86.420546520150296,129.83449373414601,200.33310108084601,311.79110371186698,475.74690949371802,700.09306639678505,992.12987715961594,1357.21210971812,1798.97613796361,2306.43962029158,2879.0166120225599,3487.7138633550899,4083.7665967573898,4554.3127938166899,4757.3468284863502,4581.5090695706704,4051.5034829737001,3326.5052055145802,2583.2880049014998,1938.75826212781,1427.4390269027101,1043.3426218883201,761.72188357649497,557.42805962489297,409.84149707714602,303.01689744459901,225.38248246503599,168.85740219949599]
["X",{"$f":"IMAGINARY(B25)","v":759.25291051973102},868.21593040253094,998.332647687183,1152.4478418024601,1330.62123438292,1528.2132377429,1739.0122923503,1948.77557595967,2143.6682305670402,2301.3255299364801,2403.2843487452901,2419.9819769344299,2317.0520512650801,2051.3627623576899,1569.2278617859699,837.31584039426696,-95.950054827472698,-1072.1740606365499,-1880.1506291596099,-2384.4469473512199,-2581.3318884483501,-2555.1853197409,-2401.3656488135498,-2189.9021394045299,-1963.66856126525,-1744.8803341750099,-1543.4587734255799,-1362.4060792978501,-1202.15130484785,-1061.2133071191099]
["|Z|",{"$f":"IMABS(B25)","v":760.52889854698765},870.46915495184294,1002.0661586437009,1159.7383428335677,1345.6174124837246,1559.6952883068222,1802.9139954080642,2070.714018659698,2362.1251397619008,2671.7267647540102,3002.0144579742682,3343.0489812053661,3695.6010147976713,4046.2621239147447,4374.8857926803994,4630.6438904862398,4758.3143296266726,4705.2930377246621,4466.502755050903,4092.825934125241,3651.9380107811658,3207.4531356183916,2793.5889380556109,2425.7442583292518,2106.2322869096988,1831.7569222601198,1596.945533820998,1395.6968026920067,1223.096489713502,1074.5634022635616]
[]
[]
[]
["Module","Version","Date"]
["CubicSpline",{"$f":"CubicSpline_version(\"v\")","v":"1.04"},{"$f":"CubicSpline_version(\"d\")","v":"2014-03-07"}]
[]
["Copyright: Owen Duffy 2010. All rights reserved."]

{"sheet":"Mix","index":14,"n_rows":212,"n_cols":17,"rows_kept":212,"cut":false,"hidden":false,"merged":[[4,4,4,6],[4,13,4,15]]}
["Mix","#43"]
["µi",800]
["Fetched","2020-11-03"]
[]
["# #43 mix u'",null,null,null,"CSTable",null,null,null,null,"# #43 mix u''",null,null,null,"CSTable"]
[10000,816.04341060000002,null,null,{"$f":"cstable(A6:A212,B6:B212)","v":10000},816.04341060000002,0,null,null,10000,10.11279513,null,null,{"$f":"cstable(Mix!J6:J212,Mix!K6:K212)","v":10000},10.11279513,0]
[100000,809.4449846,null,null,100000,809.4449846,7.8037299535952751E-10,null,null,100000,7.7703527250000004,null,null,100000,7.7703527250000004,5.9455874334170714E-10]
[300000,808.54778309999995,null,null,300000,808.54778309999995,-1.9818657820929804E-10,null,null,300000,13.125146190000001,null,null,300000,13.125146190000001,-1.4018720094095041E-10]
[500000,812.48323010000001,null,null,500000,812.48323010000001,7.3727059247768234E-10,null,null,500000,18.863463190000001,null,null,500000,18.863463190000001,2.3718590672094481E-11]
[700000,830,null,null,700000,830,-7.1369735670144376E-10,null,null,700000,26,null,null,700000,26,2.5504580975257235E-10]
[900000,840,null,null,900000,840,9.9000334932809476E-10,null,null,900000,39.758474100000001,null,null,900000,39.758474100000001,-5.0611236182383757E-11]
[1000000,851.35508159999995,null,null,1000000,851.35508159999995,-6.9957642256571238E-10,null,null,1000000,48,null,null,1000000,48,6.1094910758915792E-10]
[1040843.912,855.38570719999996,null,null,1040843.912,855.38570719999996,2.1689215313314008E-10,null,null,1040843.912,52.243237579999999,null,null,1040843.912,52.243237579999999,-9.350893664311367E-10]
[1083356.0490000001,859.42801669999994,null,null,1083356.0490000001,859.42801669999994,-6.8617676243439941E-10,null,null,1083356.0490000001,56.084747040000003,null,null,1083356.0490000001,56.084747040000003,1.1709226906122358E-9]
[1127604.548,863.32969200000002,null,null,1127604.548,863.32969200000002,1.5455511434785579E-9,null,null,1127604.548,60.66052028,null,null,1127604.548,60.66052028,-1.9240965928293377E-9]
[1173660.3289999999,868.83623139999997,null,null,1173660.3289999999,868.83623139999997,-1.3127945838591033E-9,null,null,1173660.3289999999,63.77378899,null,null,1173660.3289999999,63.77378899,1.7547974739451315E-9]
[1221597.2080000001,873.40292169999998,null,null,1221597.2080000001,873.40292169999998,6.2202887499159111E-10,null,null,1221597.2080000001,68.792259810000004,null,null,1221597.2080000001,68.792259810000004,-3.903514673092347E-10]
[1271492.0160000001,878.64440969999998,null,null,1271492.0160000001,878.64440969999998,-1.2087582746072213E-12,null,null,1271492.0160000001,74.550924949999995,null,null,1271492.0160000001,74.550924949999995,1.1347839464212855E-9]
[1323424.7239999999,884.07838489999995,null,null,1323424.7239999999,884.07838489999995,-6.4092342948435802E-10,null,null,1323424.7239999999,82.102405619999999,null,null,1323424.7239999999,82.102405619999999,-6.0984598750129193E-10]
[1377478.567,889.05290290000005,null,null,1377478.567,889.05290290000005,1.1152839438936465E-9,null,null,1377478.567,89.915803620000005,null,null,1377478.567,89.915803620000005,1.2057494562430209E-9]
[1433740.18,895.3839031,null,null,1433740.18,895.3839031,-1.5717305465274876E-9,null,null,1433740.18,99.863442230000004,null,null,1433740.18,99.863442230000004,-7.0188556627465879E-10]
[1492299.7379999999,899.44935740000005,null,null,1492299.7379999999,899.44935740000005,6.7566263699288342E-10,null,null,1492299.7379999999,109.8854973,null,null,1492299.7379999999,109.8854973,1.0133351428184285E-9]
[1553251.0970000001,904.01263940000001,null,null,1553251.0970000001,904.01263940000001,-6.0373167233525933E-10,null,null,1553251.0970000001,122.0905173,null,null,1553251.0970000001,122.0905173,-4.349857191934479E-10]
[1616691.9480000001,907.52663570000004,null,null,1616691.9480000001,907.52663570000004,-1.2371224592281813E-10,null,null,1616691.9480000001,134.9205245,null,null,1616691.9480000001,134.9205245,9.20796791114662E-10]
[1682723.9709999999,910.0203411,null,null,1682723.9709999999,910.0203411,-5.3631787570812741E-10,null,null,1682723.9709999999,150.1954341,null,null,1682723.9709999999,150.1954341,-5.4973708929459358E-10]
[1751453.0009999999,910.94923140000003,null,null,1751453.0009999999,910.94923140000003,1.0504247711606468E-10,null,null,1751453.0009999999,165.5561763,null,null,1751453.0009999999,165.5561763,5.8770505011414204E-10]
[1822989.193,911.44325990000004,null,null,1822989.193,911.44325990000004,-4.5099642221276684E-10,null,null,1822989.193,182.6703335,null,null,1822989.193,182.6703335,-4.5631008241069547E-10]
[1897447.203,910.0241714,null,null,1897447.203,910.0241714,-4.24642497096719E-10,null,null,1897447.203,199.6600693,null,null,1897447.203,199.6600693,3.3362587265348438E-10]
[1974946.3689999999,906.44363299999998,null,null,1974946.3689999999,906.44363299999998,-2.8032748281548462E-12,null,null,1974946.3689999999,217.9770489,null,null,1974946.3689999999,217.9770489,-2.3724459833215234E-10]
[2055610.905,901.76125320000006,null,null,2055610.905,901.76125320000006,-4.6220106926989159E-10,null,null,2055610.905,236.26560430000001,null,null,2055610.905,236.26560430000001,-1.062555950886071E-10]
[2139570.0959999999,894.74549620000005,null,null,2139570.0959999999,894.74549620000005,-8.0877729465473514E-12,null,null,2139570.0959999999,254.52067310000001,null,null,2139570.0959999999,254.52067310000001,-1.9686022383215164E-11]
[2226958.5079999999,886.5318274,null,null,2226958.5079999999,886.5318274,-2.402543870803742E-10,null,null,2226958.5079999999,272.96322559999999,null,null,2226958.5079999999,272.96322559999999,-2.5922004133078196E-10]
[2317916.2050000001,876.48611489999996,null,null,2317916.2050000001,876.48611489999996,-1.3541327007938792E-10,null,null,2317916.2050000001,290.63342210000002,null,null,2317916.2050000001,290.63342210000002,-7.0968680367593522E-11]
[2412588.9700000002,864.8268961,null,null,2412588.9700000002,864.8268961,-4.3598693909284885E-11,null,null,2412588.9700000002,308.00987650000002,null,null,2412588.9700000002,308.00987650000002,-1.5242152407831338E-10]
[2511128.5419999999,851.8814883,null,null,2511128.5419999999,851.8814883,-1.9942807584121702E-10,null,null,2511128.5419999999,324.82929760000002,null,null,2511128.5419999999,324.82929760000002,-1.1684205502793576E-10]
[2613692.855,836.96568839999998,null,null,2613692.855,836.96568839999998,1.6702007343679993E-12,null,null,2613692.855,340.87668359999998,null,null,2613692.855,340.87668359999998,-2.2753858751623671E-10]
[2720446.2949999999,820.96495909999999,null,null,2720446.2949999999,820.96495909999999,-6.5402415025973878E-11,null,null,2720446.2949999999,355.44238200000001,null,null,2720446.2949999999,355.44238200000001,-1.2061474121735181E-10]
[2831559.9640000002,803.92016569999998,null,null,2831559.9640000002,803.92016569999998,6.5082454138916458E-11,null,null,2831559.9640000002,368.92137159999999,null,null,2831559.9640000002,368.92137159999999,-1.2563152807640834E-10]
[2947211.95,786.40463569999997,null,null,2947211.95,786.40463569999997,-9.1257216320327113E-11,null,null,2947211.95,381.3955747,null,null,2947211.95,381.3955747,-8.9146311399320749E-11]
[3067587.6150000002,767.54376930000001,null,null,3067587.6150000002,767.54376930000001,3.4501540873764388E-11,null,null,3067587.6150000002,392.88581099999999,null,null,3067587.6150000002,392.88581099999999,-1.4810748822474938E-10]
[3192879.8930000002,748.07880299999999,null,null,3192879.8930000002,748.07880299999999,1.5920907652177534E-11,null,null,3192879.8930000002,402.67772289999999,null,null,3192879.8930000002,402.67772289999999,-1.6203697786362215E-10]
[3323289.5980000002,728.19392219999997,null,null,3323289.5980000002,728.19392219999997,3.6758213739155231E-11,null,null,3323289.5980000002,410.59070430000003,null,null,3323289.5980000002,410.59070430000003,-2.6264332330781883E-11]
[3459025.7459999998,708.024764,null,null,3459025.7459999998,708.024764,1.2469782362087117E-11,null,null,3459025.7459999998,417.68433549999997,null,null,3459025.7459999998,417.68433549999997,-1.1340385864609817E-10]
[3600305.8879999998,687.51995269999998,null,null,3600305.8879999998,687.51995269999998,6.2516847695051942E-11,null,null,3600305.8879999998,423.34703940000003,null,null,3600305.8879999998,423.34703940000003,-4.7281162982107214E-11]
[3747356.4649999999,667.28392469999994,null,null,3747356.4649999999,667.28392469999994,4.9819426539878136E-11,null,null,3747356.4649999999,427.97915610000001,null,null,3747356.4649999999,427.97915610000001,-5.5765977842754138E-11]
[3900413.162,647.29756090000001,null,null,3900413.162,647.29756090000001,2.0202474399417806E-11,null,null,3900413.162,431.55024470000001,null,null,3900413.162,431.55024470000001,-5.6096025505675611E-11]
[4059721.2940000002,627.28536469999995,null,null,4059721.2940000002,627.28536469999995,5.9794779594397338E-11,null,null,4059721.2940000002,433.83752440000001,null,null,4059721.2940000002,433.83752440000001,-6.4435567137789891E-11]
[4225536.1919999998,607.71493569999996,null,null,4225536.1919999998,607.71493569999996,2.0880357689099413E-11,null,null,4225536.1919999998,434.80047960000002,null,null,4225536.1919999998,434.80047960000002,-2.8073866357277109E-12]
[4398123.62,588.29591630000004,null,null,4398123.62,588.29591630000004,5.2180897218962019E-11,null,null,4398123.62,435.3066996,null,null,4398123.62,435.3066996,-2.7008350694224696E-11]
[4577760.1940000001,569.46613630000002,null,null,4577760.1940000001,569.46613630000002,3.2345380776851886E-11,null,null,4577760.1940000001,434.98282339999997,null,null,4577760.1940000001,434.98282339999997,-4.9577592752308448E-11]
[4764733.8279999997,551.10333730000002,null,null,4764733.8279999997,551.10333730000002,3.5167907687929338E-11,null,null,4764733.8279999997,433.49253420000002,null,null,4764733.8279999997,433.49253420000002,2.2448067708166137E-11]
[4959344.1960000005,533.25204880000001,null,null,4959344.1960000005,533.25204880000001,3.086643024470411E-11,null,null,4959344.1960000005,431.92925659999997,null,null,4959344.1960000005,431.92925659999997,-4.2318342923548157E-11]
[5161903.2139999997,515.83404800000005,null,null,5161903.2139999997,515.83404800000005,1.5151788114631018E-11,null,null,5161903.2139999997,429.31029059999997,null,null,5161903.2139999997,429.31029059999997,-6.5539803565589139E-13]
[5372735.534,498.63281910000001,null,null,5372735.534,498.63281910000001,3.6216186913649893E-11,null,null,5372735.534,426.29074689999999,null,null,5372735.534,426.29074689999999,3.5958693924871371E-12]
[5592179.0710000005,482.18588310000001,null,null,5592179.0710000005,482.18588310000001,2.4939749480405808E-11,null,null,5592179.0710000005,423.10089959999999,null,null,5592179.0710000005,423.10089959999999,-1.9324332056645403E-11]
[5820585.54,466.34872940000002,null,null,5820585.54,466.34872940000002,1.4792771617773441E-11,null,null,5820585.54,419.14814209999997,null,null,5820585.54,419.14814209999997,-4.3198812266331028E-13]
[6058321.023,450.84182770000001,null,null,6058321.023,450.84182770000001,2.1758644739212123E-11,null,null,6058321.023,414.77615429999997,null,null,6058321.023,414.77615429999997,-7.1064468709126632E-12]
[6305766.5530000003,435.85660100000001,null,null,6305766.5530000003,435.85660100000001,1.3645605436666486E-11,null,null,6305766.5530000003,409.97863539999997,null,null,6305766.5530000003,409.97863539999997,4.0827133876420085E-12]
[6563318.7259999998,421.33039780000001,null,null,6563318.7259999998,421.33039780000001,2.2465510364471081E-11,null,null,6563318.7259999998,405.03149569999999,null,null,6563318.7259999998,405.03149569999999,-4.9923082923380982E-12]
[6831390.3380000005,407.51825079999998,null,null,6831390.3380000005,407.51825079999998,7.9465260312707151E-12,null,null,6831390.3380000005,399.75587960000001,null,null,6831390.3380000005,399.75587960000001,5.1000952795355409E-12]
[7110411.0429999996,393.9971741,null,null,7110411.0429999996,393.9971741,1.3163781093305826E-11,null,null,7110411.0429999996,394.36705979999999,null,null,7110411.0429999996,394.36705979999999,-7.3216487842933319E-12]
[7400828.0449999999,380.94133579999999,null,null,7400828.0449999999,380.94133579999999,1.3126575053388458E-11,null,null,7400828.0449999999,388.52387950000002,null,null,7400828.0449999999,388.52387950000002,7.1470123283690541E-12]
[7703106.8130000001,368.45776480000001,null,null,7703106.8130000001,368.45776480000001,8.4709124252046772E-12,null,null,7703106.8130000001,382.73740370000002,null,null,7703106.8130000001,382.73740370000002,-1.5977061209893737E-12]
[8017731.8289999999,356.38522979999999,null,null,8017731.8289999999,356.38522979999999,9.9889156638566341E-12,null,null,8017731.8289999999,376.7736165,null,null,8017731.8289999999,376.7736165,2.9769101490975865E-12]
[8345207.3619999997,344.79427809999999,null,null,8345207.3619999997,344.79427809999999,7.2219106987712505E-12,null,null,8345207.3619999997,370.72881469999999,null,null,8345207.3619999997,370.72881469999999,-1.0433519894404194E-12]
[8686058.2760000005,333.58535929999999,null,null,8686058.2760000005,333.58535929999999,6.2614578863661259E-12,null,null,8686058.2760000005,364.5412953,null,null,8686058.2760000005,364.5412953,6.6115126614807704E-12]
[9040830.875,322.74258479999997,null,null,9040830.875,322.74258479999997,7.785798792814973E-12,null,null,9040830.875,358.55727189999999,null,null,9040830.875,358.55727189999999,-3.176519813449257E-12,"x"]
[9410093.7740000002,312.35968000000003,null,null,9410093.7740000002,312.35968000000003,3.1747551812370728E-12,null,null,9410093.7740000002,352.29369500000001,null,null,9410093.7740000002,352.29369500000001,4.5583385415808197E-12]
[9794438.8149999995,302.22041089999999,null,null,9794438.8149999995,302.22041089999999,7.1904653335635774E-12,null,null,9794438.8149999995,346.17143069999997,null,null,9794438.8149999995,346.17143069999997,1.306995739919771E-12]
[10194482.01,292.5988049,null,null,10194482.01,292.5988049,3.6868866205117882E-12,null,null,10194482.01,340.03361280000001,null,null,10194482.01,340.03361280000001,-7.128846981028054E-13]
[10610864.539999999,283.28691989999999,null,null,10610864.539999999,283.28691989999999,2.9521524143997082E-12,null,null,10610864.539999999,333.74350229999999,null,null,10610864.539999999,333.74350229999999,4.9452285507978503E-12]
[11044253.75,274.2216373,null,null,11044253.75,274.2216373,4.907980848768912E-12,null,null,11044253.75,327.78138749999999,null,null,11044253.75,327.78138749999999,-2.3334207278960142E-14]
[11495344.279999999,265.61806610000002,null,null,11495344.279999999,265.61806610000002,2.4489718165003335E-12,null,null,11495344.279999999,321.78608350000002,null,null,11495344.279999999,321.78608350000002,1.5421498079793115E-12]
[11964859.109999999,257.28030260000003,null,null,11964859.109999999,257.28030260000003,2.4800423924366217E-12,null,null,11964859.109999999,315.80333689999998,null,null,11964859.109999999,315.80333689999998,9.8149658625110597E-13]
[12453550.76,249.160291,null,null,12453550.76,249.160291,1.9480578463507631E-12,null,null,12453550.76,309.87983589999999,null,null,12453550.76,309.87983589999999,2.297035769815522E-12]
[12962202.49,241.2841181,null,null,12962202.49,241.2841181,3.3238783209366267E-12,null,null,12962202.49,304.13906179999998,null,null,12962202.49,304.13906179999998,-1.026321648077115E-13]
[13491629.550000001,233.77577199999999,null,null,13491629.550000001,233.77577199999999,-1.4626661364860663E-13,null,null,13491629.550000001,298.32138600000002,null,null,13491629.550000001,298.32138600000002,1.5686325785043071E-12]
[14042680.470000001,226.2806641,null,null,14042680.470000001,226.2806641,3.7012498457903665E-12,null,null,14042680.470000001,292.62516449999998,null,null,14042680.470000001,292.62516449999998,1.042110446931072E-12]
[14616238.48,219.28526070000001,null,null,14616238.48,219.28526070000001,3.2346949256562831E-13,null,null,14616238.48,287.06318399999998,null,null,14616238.48,287.06318399999998,1.0980356005689978E-12]
[15213222.83,212.37923219999999,null,null,15213222.83,212.37923219999999,1.4903919071114993E-12,null,null,15213222.83,281.64298409999998,null,null,15213222.83,281.64298409999998,9.0432453679583698E-13]
[15834590.369999999,205.65458000000001,null,null,15834590.369999999,205.65458000000001,1.0466231059709136E-12,null,null,15834590.369999999,276.31565790000002,null,null,15834590.369999999,276.31565790000002,2.8230107667047326E-13]
[16481336.98,199.13262950000001,null,null,16481336.98,199.13262950000001,1.3112314834550859E-12,null,null,16481336.98,271.00002610000001,null,null,16481336.98,271.00002610000001,1.3130467790252803E-12]
[17154499.260000002,192.85741580000001,null,null,17154499.260000002,192.85741580000001,6.4649488523043238E-13,null,null,17154499.260000002,265.89006860000001,null,null,17154499.260000002,265.89006860000001,1.7762722646466069E-13]
[17855156.109999999,186.70178780000001,null,null,17855156.109999999,186.70178780000001,7.9908885591696895E-13,null,null,17855156.109999999,260.79944979999999,null,null,17855156.109999999,260.79944979999999,8.2911716322535801E-13]
[18584430.539999999,180.68606209999999,null,null,18584430.539999999,180.68606209999999,6.5996099736218607E-13,null,null,18584430.539999999,255.8300132,null,null,18584430.539999999,255.8300132,2.9074267052995566E-13]
[19343491.379999999,174.8067106,null,null,19343491.379999999,174.8067106,6.2302083258785113E-13,null,null,19343491.379999999,250.92969429999999,null,null,19343491.379999999,250.92969429999999,8.9667197360569962E-13]
[20133555.239999998,169.06411589999999,null,null,20133555.239999998,169.06411589999999,5.4554995483585912E-13,null,null,20133555.239999998,246.23153139999999,null,null,20133555.239999998,246.23153139999999,7.1416286082536345E-14]
[20955888.390000001,163.4172714,null,null,20955888.390000001,163.4172714,1.926967417844502E-13,null,null,20955888.390000001,241.53085949999999,null,null,20955888.390000001,241.53085949999999,5.3878600367427154E-13]
[21811808.850000001,157.81081219999999,null,null,21811808.850000001,157.81081219999999,9.3988832132587979E-13,null,null,21811808.850000001,236.9549992,null,null,21811808.850000001,236.9549992,4.1316731691850602E-13]
[22702688.449999999,152.49635699999999,null,null,22702688.449999999,152.49635699999999,6.771102898961033E-14,null,null,22702688.449999999,232.48960700000001,null,null,22702688.449999999,232.48960700000001,1.1014211823353101E-13]
[23629955.059999999,147.17811320000001,null,null,23629955.059999999,147.17811320000001,3.1973164805369772E-13,null,null,23629955.059999999,228.02266349999999,null,null,23629955.059999999,228.02266349999999,4.330049142512514E-13]
[24595094.859999999,141.90458939999999,null,null,24595094.859999999,141.90458939999999,3.6832237798529266E-13,null,null,24595094.859999999,223.6806842,null,null,24595094.859999999,223.6806842,1.7626157440950479E-13]
[25599654.75,136.75762940000001,null,null,25599654.75,136.75762940000001,2.8157915721346515E-13,null,null,25599654.75,219.36355230000001,null,null,25599654.75,219.36355230000001,9.4930472116101591E-14]
[26645244.789999999,131.69657179999999,null,null,26645244.789999999,131.69657179999999,1.6709721315238872E-13,null,null,26645244.789999999,215.03238579999999,null,null,26645244.789999999,215.03238579999999,3.4908196663127651E-13]
[27733540.82,126.6982028,null,null,27733540.82,126.6982028,4.3896098356765975E-13,null,null,27733540.82,210.83267799999999,null,null,27733540.82,210.83267799999999,1.019889938712286E-13]
[28866287.120000001,121.9103193,null,null,28866287.120000001,121.9103193,5.6967117871391196E-14,null,null,28866287.120000001,206.65472149999999,null,null,28866287.120000001,206.65472149999999,1.6848366070135117E-13]
[30045299.199999999,117.1243187,null,null,30045299.199999999,117.1243187,2.0707777719262678E-13,null,null,30045299.199999999,202.49452070000001,null,null,30045299.199999999,202.49452070000001,5.4497190398561896E-14]
[31272466.760000002,112.4318844,null,null,31272466.760000002,112.4318844,2.8482996905532546E-13,null,null,31272466.760000002,198.30259380000001,null,null,31272466.760000002,198.30259380000001,1.7500702163852404E-13]
[32549756.629999999,107.9118477,null,null,32549756.629999999,107.9118477,2.2954916010130707E-14,null,null,32549756.629999999,194.1682534,null,null,32549756.629999999,194.1682534,1.0280245882475024E-13]
[33879216.030000001,103.3905232,null,null,33879216.030000001,103.3905232,2.5867289540653242E-13,null,null,33879216.030000001,190.0809625,null,null,33879216.030000001,190.0809625,1.6167536788942967E-13]
[35262975.740000002,99.047783409999994,null,null,35262975.740000002,99.047783409999994,1.0181006128119457E-13,null,null,35262975.740000002,186.059191,null,null,35262975.740000002,186.059191,-4.3664930104720133E-15]
[36703253.609999999,94.801415860000006,null,null,36703253.609999999,94.801415860000006,1.4401337597829477E-13,null,null,36703253.609999999,181.9879784,null,null,36703253.609999999,181.9879784,1.9390879164756708E-13]
[38202358.07,90.663675690000005,null,null,38202358.07,90.663675690000005,9.0508128750494138E-14,null,null,38202358.07,178.03478240000001,null,null,38202358.07,178.03478240000001,2.8201094366271148E-15]
[39762691.82,86.618877170000005,null,null,39762691.82,86.618877170000005,1.5224882822107052E-13,null,null,39762691.82,174.0459223,null,null,39762691.82,174.0459223,1.1266614852996825E-13]
[41386755.700000003,82.7360264,null,null,41386755.700000003,82.7360264,6.0208098050856466E-14,null,null,41386755.700000003,170.1143112,null,null,41386755.700000003,170.1143112,5.6312249046268769E-14]
[43077152.700000003,78.929376869999999,null,null,43077152.700000003,78.929376869999999,1.1063015177506352E-13,null,null,43077152.700000003,166.2235604,null,null,43077152.700000003,166.2235604,9.3910842056656256E-14]
[44836592.130000003,75.244238620000004,null,null,44836592.130000003,75.244238620000004,4.518293581377669E-14,null,null,44836592.130000003,162.41133160000001,null,null,44836592.130000003,162.41133160000001,3.7826209552881725E-14]
[46667893.950000003,71.615574890000005,null,null,46667893.950000003,71.615574890000005,8.6848455282475689E-14,null,null,46667893.950000003,158.60547270000001,null,null,46667893.950000003,158.60547270000001,5.1406627304399809E-14]
[48573993.299999997,68.111149170000004,null,null,48573993.299999997,68.111149170000004,6.5939225135404492E-14,null,null,48573993.299999997,154.8116149,null,null,48573993.299999997,154.8116149,3.8593581663405549E-14]
[50557945.200000003,64.708454029999999,null,null,50557945.200000003,64.708454029999999,3.1241421441837097E-14,null,null,50557945.200000003,151.04414750000001,null,null,50557945.200000003,151.04414750000001,7.5703300387780956E-14]
[52622929.460000001,61.359700050000001,null,null,52622929.460000001,61.359700050000001,8.5588516780404941E-14,null,null,52622929.460000001,147.3701595,null,null,52622929.460000001,147.3701595,1.4100025799376405E-14]
[54772255.75,58.164171060000001,null,null,54772255.75,58.164171060000001,1.1004896912156699E-14,null,null,54772255.75,143.67611170000001,null,null,54772255.75,143.67611170000001,4.0819845304690039E-14]
[57009368.939999998,54.999500810000001,null,null,57009368.939999998,54.999500810000001,6.8085250209141137E-14,null,null,57009368.939999998,140.01121409999999,null,null,57009368.939999998,140.01121409999999,4.2211195590795107E-14]
[59337854.579999998,51.980869990000002,null,null,59337854.579999998,51.980869990000002,2.7082464025946312E-14,null,null,59337854.579999998,136.40670299999999,null,null,59337854.579999998,136.40670299999999,2.7726494187012281E-14]
[61761444.68,49.046069580000001,null,null,61761444.68,49.046069580000001,3.9955715949657607E-14,null,null,61761444.68,132.82704670000001,null,null,61761444.68,132.82704670000001,2.6489860986272472E-14]
[64284023.689999998,46.217427559999997,null,null,64284023.689999998,46.217427559999997,3.0412283907409741E-14,null,null,64284023.689999998,129.27373560000001,null,null,64284023.689999998,129.27373560000001,3.217923016780135E-14]
[66909634.689999998,43.489531749999998,null,null,66909634.689999998,43.489531749999998,3.0586823642006922E-14,null,null,66909634.689999998,125.7777699,null,null,66909634.689999998,125.7777699,2.4582249044755377E-14]
[69642485.909999996,40.864380259999997,null,null,69642485.909999996,40.864380259999997,2.2887337795464691E-14,null,null,69642485.909999996,122.3131771,null,null,69642485.909999996,122.3131771,1.2601347712627525E-14]
[72486957.469999999,38.328974150000001,null,null,72486957.469999999,38.328974150000001,2.6923662204866076E-14,null,null,72486957.469999999,118.8394449,null,null,72486957.469999999,118.8394449,2.5125287655925614E-14]
[75447608.370000005,35.9111902,null,null,75447608.370000005,35.9111902,2.3826734342790992E-14,null,null,75447608.370000005,115.4182493,null,null,75447608.370000005,115.4182493,2.2443637295365646E-14]
[78529183.840000004,33.603666789999998,null,null,78529183.840000004,33.603666789999998,1.2757773105441953E-14,null,null,78529183.840000004,112.0540883,null,null,78529183.840000004,112.0540883,1.2174027690159127E-14]
[81736622.909999996,31.366205480000001,null,null,81736622.909999996,31.366205480000001,2.2907967795703977E-14,null,null,81736622.909999996,108.7120941,null,null,81736622.909999996,108.7120941,2.3762598986391465E-14]
[85075066.329999998,29.258100429999999,null,null,85075066.329999998,29.258100429999999,1.6745397242333305E-14,null,null,85075066.329999998,105.44667250000001,null,null,85075066.329999998,105.44667250000001,9.8255364161474524E-15]
[88549864.840000004,27.260162770000001,null,null,88549864.840000004,27.260162770000001,9.8556455315652278E-15,null,null,88549864.840000004,102.20102009999999,null,null,88549864.840000004,102.20102009999999,1.4739044989972685E-14]
[92166587.719999999,25.334368609999999,null,null,92166587.719999999,25.334368609999999,1.5785122568055588E-14,null,null,92166587.719999999,98.998343849999998,null,null,92166587.719999999,98.998343849999998,1.3279920444572364E-14]
[95931031.709999993,23.528322030000002,null,null,95931031.709999993,23.528322030000002,1.2633700678127781E-14,null,null,95931031.709999993,95.861416449999993,null,null,95931031.709999993,95.861416449999993,1.6984586575776163E-14]
[99849230.310000002,21.832306339999999,null,null,99849230.310000002,21.832306339999999,7.1227859801415523E-15,null,null,99849230.310000002,92.81023381,null,null,99849230.310000002,92.81023381,4.2204829101851005E-15]
[103927463.5,20.20725259,null,null,103927463.5,20.20725259,1.0519390759842333E-14,null,null,103927463.5,89.771403250000006,null,null,103927463.5,89.771403250000006,1.6544794018168397E-14]
[108172267.59999999,18.683367879999999,null,null,108172267.59999999,18.683367879999999,7.6953497309417997E-15,null,null,108172267.59999999,86.831061410000004,null,null,108172267.59999999,86.831061410000004,5.1909413020243422E-15]
[112590446.2,17.24877159,null,null,112590446.2,17.24877159,6.2920350536715248E-15,null,null,112590446.2,83.926875159999994,null,null,112590446.2,83.926875159999994,1.1775216657935292E-14]
[117189080.5,15.89862405,null,null,117189080.5,15.89862405,8.5168676878424815E-15,null,null,117189080.5,81.104498550000002,null,null,117189080.5,81.104498550000002,5.7019249426013454E-15]
[121975540.90000001,14.65712437,null,null,121975540.90000001,14.65712437,3.4519427460696908E-15,null,null,121975540.90000001,78.330595540000004,null,null,121975540.90000001,78.330595540000004,9.2115919482262698E-15]
[126957499.2,13.47214896,null,null,126957499.2,13.47214896,4.2029080330752629E-15,null,null,126957499.2,75.648258060000003,null,null,126957499.2,75.648258060000003,7.9221951880171304E-15]
[132142940.09999999,12.35542792,null,null,132142940.09999999,12.35542792,6.2319200067246405E-15,null,null,132142940.09999999,73.047421069999999,null,null,132142940.09999999,73.047421069999999,2.715687611311993E-15]
[137540174.69999999,11.339914159999999,null,null,137540174.69999999,11.339914159999999,1.7639750748238194E-15,null,null,137540174.69999999,70.474867990000007,null,null,137540174.69999999,70.474867990000007,9.4448555358463746E-15]
[143157853.5,10.364202089999999,null,null,143157853.5,10.364202089999999,2.5483220368304413E-15,null,null,143157853.5,68.019792370000005,null,null,143157853.5,68.019792370000005,2.6649706266274081E-15]
[149004980.19999999,9.4407883409999993,null,null,149004980.19999999,9.4407883409999993,4.4839111707366932E-15,null,null,149004980.19999999,65.611512189999999,null,null,149004980.19999999,65.611512189999999,6.2852325441224673E-15]
[155090926.5,8.6121947369999994,null,null,155090926.5,8.6121947369999994,1.4377813699521994E-15,null,null,155090926.5,63.292951520000003,null,null,155090926.5,63.292951520000003,3.2600184825370847E-15]
[161425446.69999999,7.8266065090000003,null,null,161425446.69999999,7.8266065090000003,1.5447768721242819E-15,null,null,161425446.69999999,61.032883820000002,null,null,161425446.69999999,61.032883820000002,4.0837589700373992E-15]
[168018693.40000001,7.0780087710000004,null,null,168018693.40000001,7.0780087710000004,2.0950052836649205E-15,null,null,168018693.40000001,58.845465449999999,null,null,168018693.40000001,58.845465449999999,3.6216129431763748E-15]
[174881234.09999999,6.3876978820000003,null,null,174881234.09999999,6.3876978820000003,1.6216371659518798E-15,null,null,174881234.09999999,56.731334029999999,null,null,174881234.09999999,56.731334029999999,2.5938644864607904E-15]
[182024067.80000001,5.752794218,null,null,182024067.80000001,5.752794218,1.4596120434228384E-15,null,null,182024067.80000001,54.675628619999998,null,null,182024067.80000001,54.675628619999998,3.374317200892584E-15]
[189458642.80000001,5.1623771810000001,null,null,189458642.80000001,5.1623771810000001,3.6220071299415279E-16,null,null,189458642.80000001,52.701520940000002,null,null,189458642.80000001,52.701520940000002,2.2474785689224876E-15]
[197196874.90000001,4.592156449,null,null,197196874.90000001,4.592156449,1.6172752400930546E-15,null,null,197196874.90000001,50.78913283,null,null,197196874.90000001,50.78913283,2.2080229880545027E-15]
[205251166.69999999,4.0763422279999997,null,null,205251166.69999999,4.0763422279999997,4.9602267467265993E-16,null,null,205251166.69999999,48.93524506,null,null,205251166.69999999,48.93524506,1.8170014244261276E-15]
[213634427.19999999,3.5866607450000001,null,null,213634427.19999999,3.5866607450000001,5.3072826482811802E-16,null,null,213634427.19999999,47.141999550000001,null,null,213634427.19999999,47.141999550000001,2.3950033354660281E-15]
[222360093,3.1202343510000001,null,null,222360093,3.1202343510000001,8.509420761752007E-16,null,null,222360093,45.427510769999998,null,null,222360093,45.427510769999998,8.4061487910695668E-16]
[231442149,2.6953524780000002,null,null,231442149,2.6953524780000002,5.6090546803072097E-16,null,null,231442149,43.748105789999997,null,null,231442149,43.748105789999997,2.0483784709126401E-15]
[240895151.69999999,2.302422231,null,null,240895151.69999999,2.302422231,2.9344934828707915E-16,null,null,240895151.69999999,42.14543587,null,null,240895151.69999999,42.14543587,9.1765878034770309E-16]
[250734252.09999999,1.9295607770000001,null,null,250734252.09999999,1.9295607770000001,5.4885022680536971E-16,null,null,250734252.09999999,40.587954089999997,null,null,250734252.09999999,40.587954089999997,1.291141609892854E-15]
[260975219.80000001,1.587058651,null,null,260975219.80000001,1.587058651,1.7383892397556403E-16,null,null,260975219.80000001,39.090089450000001,null,null,260975219.80000001,39.090089450000001,1.1051058067210017E-15]
[271634468.69999999,1.2616150370000001,null,null,271634468.69999999,1.2616150370000001,4.305322768014721E-16,null,null,271634468.69999999,37.64841345,null,null,271634468.69999999,37.64841345,6.2374043422184066E-16]
[282729083,0.96154757400000002,null,null,282729083,0.96154757400000002,2.9526710578275975E-17,null,null,282729083,36.243049640000002,null,null,282729083,36.243049640000002,1.1325389185502315E-15]
[294276844.69999999,0.67158184799999998,null,null,294276844.69999999,0.67158184799999998,4.7653591268511005E-16,null,null,294276844.69999999,34.903172339999998,null,null,294276844.69999999,34.903172339999998,4.8865776891774283E-16]
[306296262.30000001,0.41534464100000001,null,null,306296262.30000001,0.41534464100000001,-4.4149056749853932E-18,null,null,306296262.30000001,33.599383430000003,null,null,306296262.30000001,33.599383430000003,7.6733352713608865E-16]
[318806599.80000001,0.167703835,null,null,318806599.80000001,0.167703835,2.9025354381795942E-16,null,null,318806599.80000001,32.348596180000001,null,null,318806599.80000001,32.348596180000001,5.9479933512776711E-16]
[331827908.5,-5.5788883999999997E-2,null,null,331827908.5,-5.5788883999999997E-2,7.8456764796378669E-17,null,null,331827908.5,31.14511465,null,null,331827908.5,31.14511465,4.1207227964450821E-16]
[345381058.30000001,-0.26608110800000001,null,null,345381058.30000001,-0.26608110800000001,1.4281737123728149E-16,null,null,345381058.30000001,29.975293189999999,null,null,345381058.30000001,29.975293189999999,5.176690007027291E-16]
[359487771.80000001,-0.46016021899999998,null,null,359487771.80000001,-0.46016021899999998,1.1237066225036171E-16,null,null,359487771.80000001,28.852306460000001,null,null,359487771.80000001,28.852306460000001,4.2676695028480234E-16]
[374170658.69999999,-0.63849210000000001,null,null,374170658.69999999,-0.63849210000000001,8.0998817276128289E-17,null,null,374170658.69999999,27.7720412,null,null,374170658.69999999,27.7720412,2.9457867403964358E-16]
[389453252.10000002,-0.80366577100000003,null,null,389453252.10000002,-0.80366577100000003,9.9546661864705705E-17,null,null,389453252.10000002,26.725868670000001,null,null,389453252.10000002,26.725868670000001,4.4409513177970259E-16]
[405360046.39999998,-0.95280531999999996,null,null,405360046.39999998,-0.95280531999999996,7.1998019336252913E-17,null,null,405360046.39999998,25.729365569999999,null,null,405360046.39999998,25.729365569999999,1.6651351850985035E-16]
[421916536.5,-1.0896124119999999,null,null,421916536.5,-1.0896124119999999,2.528849843230058E-17,null,null,421916536.5,24.75833806,null,null,421916536.5,24.75833806,3.6884991415171236E-16]
[439149258.30000001,-1.2188945390000001,null,null,439149258.30000001,-1.2188945390000001,9.659072107680215E-17,null,null,439149258.30000001,23.837425339999999,null,null,439149258.30000001,23.837425339999999,2.0741588733472662E-16]
[457085831.89999998,-1.330816403,null,null,457085831.89999998,-1.330816403,1.9163399063223707E-17,null,null,457085831.89999998,22.950905760000001,null,null,457085831.89999998,22.950905760000001,1.7514602799168226E-16]
[475755005.39999998,-1.4331348340000001,null,null,475755005.39999998,-1.4331348340000001,7.6065149311316228E-17,null,null,475755005.39999998,22.093077359999999,null,null,475755005.39999998,22.093077359999999,2.3112518121944579E-16]
[495186700.89999998,-1.521798239,null,null,495186700.89999998,-1.521798239,-3.3314329229620124E-17,null,null,495186700.89999998,21.276755869999999,null,null,495186700.89999998,21.276755869999999,1.4166585228956975E-16]
[515412062.80000001,-1.6128174900000001,null,null,515412062.80000001,-1.6128174900000001,7.6124502434397916E-17,null,null,515412062.80000001,20.491587849999998,null,null,515412062.80000001,20.491587849999998,1.6838863802261222E-16]
[536463507.69999999,-1.685171164,null,null,536463507.69999999,-1.685171164,3.6529640983745617E-17,null,null,536463507.69999999,19.742296060000001,null,null,536463507.69999999,19.742296060000001,1.2347107751718528E-16]
[558374776,-1.748774697,null,null,558374776,-1.748774697,-7.0103667276840729E-17,null,null,558374776,19.02552627,null,null,558374776,19.02552627,1.4292982516459166E-16]
[581180986.10000002,-1.824947393,null,null,581180986.10000002,-1.824947393,1.2478985849877921E-16,null,null,581180986.10000002,18.34444448,null,null,581180986.10000002,18.34444448,7.027555545827774E-17]
[604918691.10000002,-1.869291211,null,null,604918691.10000002,-1.869291211,-4.9966137080634998E-17,null,null,604918691.10000002,17.686437389999998,null,null,604918691.10000002,17.686437389999998,1.290052130642617E-16]
[629625936.79999995,-1.9194265960000001,null,null,629625936.79999995,-1.9194265960000001,3.6927464713321806E-17,null,null,629625936.79999995,17.065911209999999,null,null,629625936.79999995,17.065911209999999,5.9136042779607923E-17]
[655342323.10000002,-1.9627790730000001,null,null,655342323.10000002,-1.9627790730000001,-1.6689567152928911E-17,null,null,655342323.10000002,16.467856789999999,null,null,655342323.10000002,16.467856789999999,7.7973440305223261E-17]
[682109067.20000005,-2.0100044709999998,null,null,682109067.20000005,-2.0100044709999998,1.236481529711181E-17,null,null,682109067.20000005,15.897438279999999,null,null,682109067.20000005,15.897438279999999,7.3411420460298659E-17]
[709969069.79999995,-2.0569582780000002,null,null,709969069.79999995,-2.0569582780000002,-1.54442595636908E-17,null,null,709969069.79999995,15.35949916,null,null,709969069.79999995,15.35949916,6.8371697336038939E-17]
[738966984,-2.106915463,null,null,738966984,-2.106915463,4.0939147104061663E-17,null,null,738966984,14.85061966,null,null,738966984,14.85061966,2.5475748811956687E-17]
[769149286.29999995,-2.1377810959999999,null,null,769149286.29999995,-2.1377810959999999,-6.5220924443754284E-18,null,null,769149286.29999995,14.35392972,null,null,769149286.29999995,14.35392972,5.1588079303753884E-17]
[800564352,-2.1690129489999999,null,null,800564352,-2.1690129489999999,-8.3182248064953315E-18,null,null,800564352,13.883347199999999,null,null,800564352,13.883347199999999,5.5278645664923843E-17]
[833262531.89999998,-2.2084001039999999,null,null,833262531.89999998,-2.2084001039999999,2.7871694729802417E-19,null,null,833262531.89999998,13.442609770000001,null,null,833262531.89999998,13.442609770000001,9.0072112292032973E-18]
[867296233.29999995,-2.2466514360000001,null,null,867296233.29999995,-2.2466514360000001,2.1115677562547734E-17,null,null,867296233.29999995,13.0110046,null,null,867296233.29999995,13.0110046,5.2122188419581848E-17]
[902720004.20000005,-2.271554896,null,null,902720004.20000005,-2.271554896,-1.1780541803639632E-17,null,null,902720004.20000005,12.60952872,null,null,902720004.20000005,12.60952872,1.5300450867572999E-17]
[939590620.5,-2.300684784,null,null,939590620.5,-2.300684784,1.1746162664656629E-17,null,null,939590620.5,12.22325904,null,null,939590620.5,12.22325904,2.940896591759182E-17]
[977967177.10000002,-2.3219228890000001,null,null,977967177.10000002,-2.3219228890000001,2.2536053121633589E-18,null,null,977967177.10000002,11.858053870000001,null,null,977967177.10000002,11.858053870000001,2.0062917558622181E-17]
[1017911182,-2.341299582,null,null,1017911182,-2.341299582,-9.8608507131899585E-18,null,null,1017911182,11.51208879,null,null,1017911182,11.51208879,2.151420751124036E-17]
[1059486657,-2.367853582,null,null,1059486657,-2.367853582,1.4337783332815888E-17,null,null,1059486657,11.18573273,null,null,1059486657,11.18573273,1.3472143468526589E-17]
[1102760237,-2.3825877879999999,null,null,1102760237,-2.3825877879999999,-5.4051454427234127E-18,null,null,1102760237,10.87660458,null,null,1102760237,10.87660458,2.4408184460956274E-17]
[1147801278,-2.397842195,null,null,1147801278,-2.397842195,7.6625620364748864E-18,null,null,1147801278,10.59413026,null,null,1147801278,10.59413026,7.5120519536138069E-18]
[1194681973,-2.4057457100000001,null,null,1194681973,-2.4057457100000001,-3.0869426195108407E-18,null,null,1194681973,10.326749879999999,null,null,1194681973,10.326749879999999,1.9794532224858188E-17]
[1243477458,-2.4165817500000002,null,null,1243477458,-2.4165817500000002,-1.832725477973144E-18,null,null,1243477458,10.084274600000001,null,null,1243477458,10.084274600000001,5.4377459109335977E-18]
[1294265942,-2.4285238329999999,null,null,1294265942,-2.4285238329999999,8.6096334394763194E-18,null,null,1294265942,9.8570295530000003,null,null,1294265942,9.8570295530000003,1.8120889771917071E-17]
[1347128826,-2.429057786,null,null,1347128826,-2.429057786,-6.4605149975038746E-18,null,null,1347128826,9.6581495410000002,null,null,1347128826,9.6581495410000002,4.5447760287757384E-18]
[1402150837,-2.4376914909999998,null,null,1402150837,-2.4376914909999998,1.0536921811777219E-18,null,null,1402150837,9.4763433359999993,null,null,1402150837,9.4763433359999993,1.4705010166407969E-17]
[1459420162,-2.447634592,null,null,1459420162,-2.447634592,3.246307653920066E-19,null,null,1459420162,9.3228145490000003,null,null,1459420162,9.3228145490000003,3.2826151546151314E-18]
[1519028591,-2.4565830530000001,null,null,1519028591,-2.4565830530000001,7.997562164693157E-20,null,null,1519028591,9.1851139310000001,null,null,1519028591,9.1851139310000001,1.0316162190478905E-17]
[1581071660,-2.4661973019999999,null,null,1581071660,-2.4661973019999999,-1.0935946340071512E-18,null,null,1581071660,9.07482699,null,null,1581071660,9.07482699,7.8876261236692857E-18]
[1645648812,-2.4804278910000002,null,null,1645648812,-2.4804278910000002,-1.8651859200375875E-18,null,null,1645648812,8.9935697520000009,null,null,1645648812,8.9935697520000009,7.4055051847772151E-18]
[1712863547,-2.5032639310000002,null,null,1712863547,-2.5032639310000002,-2.291715051549945E-18,null,null,1712863547,8.9409851969999998,null,null,1712863547,8.9409851969999998,5.8682132624370364E-18]
[1782823595,-2.5343279989999998,null,null,1782823595,-2.5343279989999998,1.8357509165768056E-18,null,null,1782823595,8.916090809,null,null,1782823595,8.916090809,6.450770682347226E-18]
[1855641085,-2.5673563100000001,null,null,1855641085,-2.5673563100000001,-5.7841086093406709E-18,null,null,1855641085,8.9228778309999992,null,null,1855641085,8.9228778309999992,6.0654113626492175E-18]
[1931432726,-2.623242801,null,null,1931432726,-2.623242801,-1.547572139321353E-18,null,null,1931432726,8.9644920930000005,null,null,1931432726,8.9644920930000005,6.1042702245385546E-18]
[2010319994,-2.6975275590000001,null,null,2010319994,-2.6975275590000001,-3.9116761016368305E-18,null,null,2010319994,9.0455108660000008,null,null,2010319994,9.0455108660000008,6.5871009404977685E-18]
[2092429326,-2.799488116,null,null,2092429326,-2.799488116,-5.103378034997214E-18,null,null,2092429326,9.1716838040000006,null,null,2092429326,9.1716838040000006,5.5438823123955989E-18]
[2177892326,-2.941510933,null,null,2177892326,-2.941510933,-5.7180154044479603E-18,null,null,2177892326,9.343332921,null,null,2177892326,9.343332921,5.0551561296041311E-18]
[2266845968,-3.1364452890000001,null,null,2266845968,-3.1364452890000001,-8.3962643432487053E-18,null,null,2266845968,9.5628633379999997,null,null,2266845968,9.5628633379999997,5.8406347120050036E-18]
[2359432825,-3.4070158840000002,null,null,2359432825,-3.4070158840000002,-8.9473567972619046E-18,null,null,2359432825,9.8337034330000002,null,null,2359432825,9.8337034330000002,1.8761957414319878E-18]
[2455801291,-3.7737349120000001,null,null,2455801291,-3.7737349120000001,-1.1825017301325407E-17,null,null,2455801291,10.140606229999999,null,null,2455801291,10.140606229999999,3.1831851671781815E-18]
[2556105823,-4.2746791560000004,null,null,2556105823,-4.2746791560000004,-1.6146125535678847E-17,null,null,2556105823,10.479066449999999,null,null,2556105823,10.479066449999999,-2.9413014708032433E-18]
[2660507184,-4.9572408540000001,null,null,2660507184,-4.9572408540000001,-1.4034827442299444E-17,null,null,2660507184,10.802377480000001,null,null,2660507184,10.802377480000001,-7.4729939508491416E-18]
[2769172705,-5.8405452100000002,null,null,2769172705,-5.8405452100000002,-1.7285672621403252E-17,null,null,2769172705,11.052493159999999,null,null,2769172705,11.052493159999999,-1.1770676664857283E-17]
[2882276551,-6.9524591200000003,null,null,2882276551,-6.9524591200000003,-9.0322478203832051E-18,null,null,2882276551,11.13324746,null,null,2882276551,11.13324746,-3.0887578693531999E-17]
[3000000000,-8.2299611089999996,null,null,3000000000,-8.2299611089999996,0,null,null,3000000000,10.91140156,null,null,3000000000,10.91140156,0]

{"sheet":"2643167851x3 5t (2)","index":15,"n_rows":41,"n_cols":82,"rows_kept":41,"cut":false,"hidden":false,"merged":[]}
["Calculate impedance of ferrite cored inductor"]
[]
["Reference:"]
["A method for estimating the impedance of a ferrite cored toroidal inductor at RF"]
[]
["Inputs:"]
["Al (nH for 1t)",{"$f":"3*2300","v":6900}]
["N",5]
["Cs (pF)",29]
[]
["Constants:"]
["Mix",{"$f":"Mix!B1","v":"#43"}]
["µi",{"$f":"Mix!B2","v":800}]
[]
["Calculated values:"]
["2*pi*N^2*Al",{"$f":"2*PI()*$B$8^2*$B$7*0.000000001","v":1.0838494654884789E-3}]
[]
["f (MHz)",1,{"$f":"B18*1.06","v":1.06},1.1236000000000002,1.1910160000000003,1.2624769600000003,1.3382255776000005,1.4185191122560006,1.5036302589913606,1.5938480745308423,1.6894789590026928,1.7908476965428546,1.8982985583354259,2.0121964718355514,2.1329282601456847,2.2609039557544257,2.3965581930996915,2.5403516846856733,2.692772785766814,2.8543391529128228,3.0255995020875925,3.2071354722128484,3.3995636005456196,3.6035374165783569,3.8197496615730584,4.0489346412674418,4.2918707197434882,4.5493829629280977,4.8223459407037836,5.1116866971460109,5.418387898974772]
["µ''",{"$f":"csinterpolate(CSTableU2,'2643167851x3 5t (2)'!B18*1000000)","v":48},{"$f":"csinterpolate(CSTableU2,'2643167851x3 5t (2)'!C18*1000000)","v":53.955609860434173},{"$f":"csinterpolate(CSTableU2,'2643167851x3 5t (2)'!D18*1000000)","v":60.310794216977619},{"$f":"csinterpolate(CSTableU2,'2643167851x3 5t (2)'!E18*1000000)","v":65.383516786196822},{"$f":"csinterpolate(CSTableU2,'2643167851x3 5t (2)'!F18*1000000)","v":73.411942191511045},{"$f":"csinterpolate(CSTableU2,'2643167851x3 5t (2)'!G18*1000000)","v":84.195055966835895},{"$f":"csinterpolate(CSTableU2,'2643167851x3 5t (2)'!H18*1000000)","v":97.139082383678769},{"$f":"csinterpolate(CSTableU2,'2643167851x3 5t (2)'!I18*1000000)","v":112.03042158778499},{"$f":"csinterpolate(CSTableU2,'2643167851x3 5t (2)'!J18*1000000)","v":130.15872002624113},{"$f":"csinterpolate(CSTableU2,'2643167851x3 5t (2)'!K18*1000000)","v":151.73305979623143},{"$f":"csinterpolate(CSTableU2,'2643167851x3 5t (2)'!L18*1000000)","v":174.95044985687895},{"$f":"csinterpolate(CSTableU2,'2643167851x3 5t (2)'!M18*1000000)","v":199.85667402603062},{"$f":"csinterpolate(CSTableU2,'2643167851x3 5t (2)'!N18*1000000)","v":226.5627542741446},{"$f":"csinterpolate(CSTableU2,'2643167851x3 5t (2)'!O18*1000000)","v":253.13526951667455},{"$f":"csinterpolate(CSTableU2,'2643167851x3 5t (2)'!P18*1000000)","v":281.67162753279325},{"$f":"csinterpolate(CSTableU2,'2643167851x3 5t (2)'!Q18*1000000)","v":316.05563914334874},{"$f":"csinterpolate(CSTableU2,'2643167851x3 5t (2)'!R18*1000000)","v":361.58007033495443},{"$f":"csinterpolate(CSTableU2,'2643167851x3 5t (2)'!S18*1000000)","v":425.3124796159579},{"$f":"csinterpolate(CSTableU2,'2643167851x3 5t (2)'!T18*1000000)","v":516.54353365311795},{"$f":"csinterpolate(CSTableU2,'2643167851x3 5t (2)'!U18*1000000)","v":647.33523067963574},{"$f":"csinterpolate(CSTableU2,'2643167851x3 5t (2)'!V18*1000000)","v":833.19009474830716},{"$f":"csinterpolate(CSTableU2,'2643167851x3 5t (2)'!W18*1000000)","v":1093.866365167336},{"$f":"csinterpolate(CSTableU2,'2643167851x3 5t (2)'!X18*1000000)","v":1454.3702185071011},{"$f":"csinterpolate(CSTableU2,'2643167851x3 5t (2)'!Y18*1000000)","v":1946.1596954973779},{"$f":"csinterpolate(CSTableU2,'2643167851x3 5t (2)'!Z18*1000000)","v":2608.6056807801078},{"$f":"csinterpolate(CSTableU2,'2643167851x3 5t (2)'!AA18*1000000)","v":3490.7607971708871},{"$f":"csinterpolate(CSTableU2,'2643167851x3 5t (2)'!AB18*1000000)","v":4653.4990320970519},{"$f":"csinterpolate(CSTableU2,'2643167851x3 5t (2)'!AC18*1000000)","v":6172.1035430581587},{"$f":"csinterpolate(CSTableU2,'2643167851x3 5t (2)'!AD18*1000000)","v":8139.3872447918911},{"$f":"csinterpolate(CSTableU2,'2643167851x3 5t (2)'!AE18*1000000)","v":10669.460368085427}]
["µ'",{"$f":"csinterpolate(CSTableU1,'2643167851x3 5t (2)'!B18*1000000)","v":851.35508159999995},{"$f":"csinterpolate(CSTableU1,'2643167851x3 5t (2)'!C18*1000000)","v":857.25632295706953},{"$f":"csinterpolate(CSTableU1,'2643167851x3 5t (2)'!D18*1000000)","v":862.91741523253791},{"$f":"csinterpolate(CSTableU1,'2643167851x3 5t (2)'!E18*1000000)","v":870.60490347741018},{"$f":"csinterpolate(CSTableU1,'2643167851x3 5t (2)'!F18*1000000)","v":877.65239585745474},{"$f":"csinterpolate(CSTableU1,'2643167851x3 5t (2)'!G18*1000000)","v":885.41003648181197},{"$f":"csinterpolate(CSTableU1,'2643167851x3 5t (2)'!H18*1000000)","v":893.80657282009918},{"$f":"csinterpolate(CSTableU1,'2643167851x3 5t (2)'!I18*1000000)","v":900.24986790433968},{"$f":"csinterpolate(CSTableU1,'2643167851x3 5t (2)'!J18*1000000)","v":906.10114465530171},{"$f":"csinterpolate(CSTableU1,'2643167851x3 5t (2)'!K18*1000000)","v":899.0292815617297},{"$f":"csinterpolate(CSTableU1,'2643167851x3 5t (2)'!L18*1000000)","v":856.55296505137983},{"$f":"csinterpolate(CSTableU1,'2643167851x3 5t (2)'!M18*1000000)","v":748.32561511414167},{"$f":"csinterpolate(CSTableU1,'2643167851x3 5t (2)'!N18*1000000)","v":534.12732742607363},{"$f":"csinterpolate(CSTableU1,'2643167851x3 5t (2)'!O18*1000000)","v":161.40464736828528},{"$f":"csinterpolate(CSTableU1,'2643167851x3 5t (2)'!P18*1000000)","v":-437.73628879096032},{"$f":"csinterpolate(CSTableU1,'2643167851x3 5t (2)'!Q18*1000000)","v":-1350.1880271386462},{"$f":"csinterpolate(CSTableU1,'2643167851x3 5t (2)'!R18*1000000)","v":-2686.3062607470888},{"$f":"csinterpolate(CSTableU1,'2643167851x3 5t (2)'!S18*1000000)","v":-4585.3215974535951},{"$f":"csinterpolate(CSTableU1,'2643167851x3 5t (2)'!T18*1000000)","v":-7221.9205713244919},{"$f":"csinterpolate(CSTableU1,'2643167851x3 5t (2)'!U18*1000000)","v":-10814.19755027387},{"$f":"csinterpolate(CSTableU1,'2643167851x3 5t (2)'!V18*1000000)","v":-15633.314031248858},{"$f":"csinterpolate(CSTableU1,'2643167851x3 5t (2)'!W18*1000000)","v":-22015.13654766557},{"$f":"csinterpolate(CSTableU1,'2643167851x3 5t (2)'!X18*1000000)","v":-30374.31180807907},{"$f":"csinterpolate(CSTableU1,'2643167851x3 5t (2)'!Y18*1000000)","v":-41221.265038777245},{"$f":"csinterpolate(CSTableU1,'2643167851x3 5t (2)'!Z18*1000000)","v":-55182.668085760895},{"$f":"csinterpolate(CSTableU1,'2643167851x3 5t (2)'!AA18*1000000)","v":-73026.067760885271},{"$f":"csinterpolate(CSTableU1,'2643167851x3 5t (2)'!AB18*1000000)","v":-95689.617407479745},{"$f":"csinterpolate(CSTableU1,'2643167851x3 5t (2)'!AC18*1000000)","v":-124317.76534992937},{"$f":"csinterpolate(CSTableU1,'2643167851x3 5t (2)'!AD18*1000000)","v":-160304.14246725501},{"$f":"csinterpolate(CSTableU1,'2643167851x3 5t (2)'!AE18*1000000)","v":-205343.20378351276}]
["Rl",{"$f":"B19/$B$13*$B$16*B18*1000000","v":65.03096792930873},77.485680552220842,91.80910610469823,105.5030106391537,125.56516040583244,152.64932810374344,186.68446047690657,228.22121226366289,281.06008419032077,347.30575827203211,424.47556684697349,513.99885835466682,617.6435061111722,731.48915071548856,862.78820173062627,1026.1964389802099,1244.449592752213,1551.6251713038823,1997.5216024486049,2653.503498637529,3620.2651891369978,5038.0957829967556,7100.4028462609749,10071.458233444109,14309.6226972652,20297.647329404317,28682.110562960679,40324.644382090846,56368.297692238259,78323.399313175672]
["Xl",{"$f":"B20/$B$13*$B$16*B18*1000000","v":1153.4259376663254},1231.1062698363212,1313.5903375713528,1404.8103086046822,1501.1530900370003,1605.2872180344827,1717.7411369666054,1833.931473982173,1956.6024001344022,2057.8115722498055,2078.2216088731275,1924.5717648444647,1456.109925385377,466.41366353408398,-1340.8297766668766,-4383.905786838267,-9245.4562805345649,-16728.172226586554,-27927.834562877924,-44328.671876056804,-67927.766946478368,-101396.63320384147,-148290.88719699325,-213321.77936285615,-302706.9846369084,-424623.01354619832,-589788.49405109335,-812214.12491538294,-1110166.0791081134,-1507403.1104976032]
["Yl",{"$f":"IMDIV(1,COMPLEX(B21,B22))","v":"0.0000487261898078446-0.000864235193748225i"},"0.000050922924562366-0.000809072479719403i","0.0000529480009337168-0.000757571719965694i","0.0000531602307193812-0.000707847479137954i","0.0000553338863093139-0.000661526128334597i","0.0000587056607847318-0.000617359067705501i","0.0000625306831610959-0.000575364047516567i","0.0000668214291185236-0.000536961138631374i","0.0000719322722322292-0.000500757184721386i","0.0000797448981061331-0.000472494251080482i","0.000094344999845267-0.000461910726273324i","0.000129530410590216-0.000485002187959385i","0.000246885608037504-0.000582038960567501i","0.000971926089867585-0.000619721574566203i","0.000339382703501979+0.000527423107581198i","0.000050622097770268+0.000216257335269559i","0.0000142995613439236+0.000106236500060788i","5.49755205721258E-06+0.0000592694674838236i","2.54800857054704E-06+0.0000356243265333417i","1.34554072451026E-06+0.0000224782191933468i","7.82373025508405E-07+0.0000146798230973281i","4.88819458661718E-07+9.83797241809092E-06i","3.22151025703627E-07+0.0000067280776101554i","2.20828430779318E-07+4.67732801902731E-06i","1.55816656526339E-07+3.29615890307905E-06i","1.12317497721809E-07+2.34966119878892E-06i","8.22607422194469E-08+1.69152263626602E-06i","6.09761912086836E-08+1.22817509099298E-06i","4.56184803389579E-08+8.98449865015966E-07i","3.43765117026379E-08+6.61606379741186E-07i"]
["Yc",{"$f":"COMPLEX(0,2*PI()*B18*1000000*$B$9*0.000000000001)","v":"0.000182212373908208i"},"0.0001931451163427i","0.000204733823323263i","0.000217017852722658i","0.000230038923886018i","0.000243841259319179i","0.00025847173487833i","0.000273980038971029i","0.000290418841309291i","0.000307843971787849i","0.00032631461009512i","0.000345893486700827i","0.000366647095902876i","0.000388645921657049i","0.000411964676956472i","0.00043668255757386i","0.000462883511028292i","0.00049065652168999i","0.000520095912991389i","0.000551301667770872i","0.000584379767837125i","0.000619442553907352i","0.000656609107141793i","0.000696005653570301i","0.000737765992784519i","0.00078203195235159i","0.000828953869492686i","0.000878691101662247i","0.000931412567761982i","0.000987297321827701i"]
["Z",{"$f":"IMDIV(1,IMSUM(B23,B24))","v":"104.220596834831+1458.78070128228i"},"133.320163710727+1612.54557991324i","171.667627389125+1792.40704793004i","218.102441560817+2013.74483261095i","292.395875622391+2280.06900255194i","410.638481902534+2612.70861700636i","599.350035553333+3037.37955903977i","907.601895231634+3571.94013373269i","1455.63354702516+4256.44205855022i","2382.65217605176+4919.49147294667i","3457.47102950561+4969.20498350223i","3585.18439408934+3850.29540601093i","2299.90165229905+2006.51674016855i","973.838434385369+231.530313261048i","340.188941368042-941.619395032241i","118.029638894326-1522.38376453203i","44.1205500094963-1755.99008296369i","18.1768013449408-1818.24480343361i","8.25048209329706-1799.42875313688i","4.08699227925036-1742.8190208553i","2.18008324199388-1669.28016760706i","1.234410590543-1589.11543383581i","0.732134259114055-1507.52857992748i","0.449792080488518-1427.1788054633i","0.283729567316038-1349.41442295081i","0.182554524277576-1274.88962288342i","0.119223344043347-1203.88314877615i","0.0787543637198504-1136.46788019885i","0.052483063772732-1072.60343243727i","0.0352195679596917-1012.18782505835i"]
["R",{"$f":"IMREAL(B25)","v":104.220596834831},133.320163710727,171.66762738912499,218.102441560817,292.39587562239097,410.63848190253401,599.35003555333299,907.60189523163399,1455.6335470251599,2382.6521760517599,3457.4710295056102,3585.18439408934,2299.9016522990501,973.83843438536906,340.18894136804198,118.029638894326,44.120550009496299,18.176801344940799,8.2504820932970606,4.0869922792503601,2.1800832419938798,1.2344105905430001,0.73213425911405505,0.44979208048851799,0.28372956731603799,0.18255452427757601,0.119223344043347,7.8754363719850395E-2,5.2483063772732E-2,3.5219567959691701E-2]
["X",{"$f":"IMAGINARY(B25)","v":1458.78070128228},1612.5455799132401,1792.4070479300401,2013.74483261095,2280.0690025519398,2612.7086170063599,3037.3795590397699,3571.9401337326899,4256.4420585502203,4919.49147294667,4969.2049835022299,3850.29540601093,2006.5167401685501,231.53031326104801,-941.61939503224096,-1522.38376453203,-1755.9900829636899,-1818.2448034336101,-1799.42875313688,-1742.8190208553001,-1669.2801676070601,-1589.1154338358101,-1507.52857992748,-1427.1788054633,-1349.4144229508099,-1274.8896228834201,-1203.8831487761499,-1136.46788019885,-1072.6034324372699,-1012.18782505835]
["|Z|",{"$f":"IMABS(B25)","v":1462.4989118759129},1618.0474385349717,1800.609008019979,2025.5213960563572,2298.7409607172317,2644.78170747578,3095.9481666834167,3685.4440057065531,4498.4628509103295,5466.1163310378952,6053.6851659079512,5261.0190888430188,3052.1561294967405,1000.9833076754605,1001.187095866698,1526.9522985896583,1756.5442762424088,1818.3356569457853,1799.4476674998132,1742.8238129429255,1669.2815912029932,1589.1159132752655,1507.5287577087006,1427.1788763419138,1349.4144527794767,1274.8896359536318,1203.8831546796321,1136.4678829275895,1072.6034337212823,1012.1878256710909]
[]
[]
[null,1.04,1.0894999999999999,1.139,1.1884999999999999,1.238,1.2875000000000001,1.337,1.3865000000000001,1.4359999999999999,1.4855,1.5349999999999999,1.5845,1.6339999999999999,1.6835,1.7330000000000001,1.7825,1.8320000000000001,1.8815,1.931,1.9804999999999999,2.0299999999999998,2.0794999999999999,2.129,2.1785000000000001,2.2280000000000002,2.2774999999999999,2.327,2.3765000000000001,2.4260000000000002,2.4754999999999998,2.5249999999999999,2.5745,2.6240000000000001,2.6735000000000002,2.7229999999999999,2.7725,2.8220000000000001,2.8715000000000002,2.9209999999999998,2.9704999999999999,3.02,3.0695000000000001,3.1190000000000002,3.1684999999999999,3.218,3.2675000000000001,3.3170000000000002,3.3664999999999998,3.4159999999999999,3.4655,3.5150000000000001,3.5644999999999998,3.6139999999999999,3.6635,3.7130000000000001,3.7625000000000002,3.8119999999999998,3.8614999999999999,3.911,3.9605000000000001,4.01,4.0594999999999999,4.109,4.1585000000000001,4.2080000000000002,4.2575000000000003,4.3070000000000004,4.3564999999999996,4.4059999999999997,4.4554999999999998,4.5049999999999999,4.5545,4.6040000000000001,4.6535000000000002,4.7030000000000003,4.7525000000000004,4.8019999999999996,4.8514999999999997,4.9009999999999998,4.9504999999999999,5]
[null,287.90093615404732,358.04420068925265,441.77513660139221,539.98056479059017,653.53780627537219,781.79520633785069,926.33269990709653,1087.1399039297282,1265.5318629335623,1461.2955333050918,1674.7160206128008,1905.1755604703378,2154.7167939636461,2418.7476719948445,2699.1858571271155,2992.4629166641885,3296.0206478544264,3606.8941402065111,3920.7676324072891,4233.1624604658646,4537.8273138357745,4833.336314438865,5108.2863327173318,5361.694676423198,5584.5735786866517,5775.7085402245866,5934.8800795726584,6053.1363315729996,6132.2865248052294,6174.3825448147436,6181.1759164167561,6153.3282301397885,6096.74106071609,6012.5694531409445,5906.8232882672401,5778.9956600422174,5640.1463118233087,5488.6502304731503,5327.8805062086813,5162.5206790327102,4994.4957594728421,4824.4865975408484,4655.7483626077246,4488.6606744207065,4324.5117037624714,4165.2481626639501,4009.3118466381716,3859.1440781872202,3713.2165082679435,3573.3346655234109,3438.1869467354559,3309.4401425072806,3185.6887740617221,3067.3661634448158,2954.1908837319488,2846.1617356282723,2743.1180874185393,2644.1451991355766,2551.2281860514008,2462.4180406877822,2377.3278329588516,2295.2750195578137,2217.9476780270788,2143.1289624218243,2072.110866751806,2004.9115290439149,1939.7018748203341,1877.8834817689119,1818.5593501994113,1762.4096248568667,1708.5080093459412,1656.9123501805134,1606.9599952428694,1560.0005543921861,1514.5928316844445,1471.1045689980679,1428.7429715982973,1389.1123514033516,1350.6410932957638,1313.8150513009887,1278.0427788912518]
[null,1916.7087967325392,2055.2869844644551,2197.0971674035995,2340.123265469671,2483.0612147237721,2623.2443280904854,2761.3223919595625,2893.3254866341867,3018.7750339648155,3135.0222892530692,3241.2992494272744,3333.6517996050779,3409.7364733111917,3467.5512772351885,3502.8805529918604,3512.7914740136557,3495.080702647585,3447.0618378098716,3365.6671472825847,3248.7629645259967,3096.8951616555414,2909.5024014193391,2686.6183307492238,2431.9438337935903,2150.1366397553847,1844.6102328260736,1522.9136963043593,1186.3042025455929,844.77143765325286,503.75171483246555,168.66431636187912,-158.01366278462336,-469.45888685454281,-760.97266239034082,-1035.8686035366989,-1288.3888590158281,-1521.0490275045352,-1728.6833436340646,-1916.4583258804337,-2082.6685953395199,-2231.481756754049,-2360.357465898885,-2472.0901164232318,-2569.2379529803939,-2650.0182684165457,-2719.6794252174441,-2777.2932765586811,-2825.0577800328142,-2863.0165375884603,-2892.1944669485724,-2915.0227842544655,-2931.2236407619957,-2941.012928989835,-2946.34633504565,-2947.1448377522142,-2943.9493028093193,-2937.1365362769343,-2926.3579774158047,-2914.6446110805832,-2900.858903370221,-2885.370351343985,-2867.0229234281237,-2849.4669767146975,-2828.8290276718562,-2807.5627935753337,-2785.9123877774496,-2762.4794511075397,-2739.6095011425218,-2715.737308164546,-2692.4153577638808,-2667.7609940638649,-2643.2644840699463,-2618.4168143267793,-2593.9712406463227,-2569.2771708089504,-2544.8228657281052,-2519.6459965113563,-2496.1202312136388,-2471.7275153440319,-2447.9055261753451,-2424.030835812142]
[null,{"$f":"(B33^2+B32^2)^0.5","v":1938.2104015070902},{"$f":"(C33^2+C32^2)^0.5","v":2086.2406951634798},2241.0714478418799,2401.6152705926902,2567.6262695915698,2737.2640628028098,2912.5579175794001,3090.8260291260799,3273.3123287870599,3458.8653327024699,3648.38245994509,3839.6520984620001,4033.4981442437302,4227.7951891069497,4422.1913640008388,4614.6005512409602,4804.0962968181902,4989.1803587704908,5167.2172562831101,5336.11518020115,5493.8726207002192,5641.4842153761601,5771.6988237558298,5887.4545105598509,5984.1916434371997,6063.1176842174091,6127.1582063220603,6168.2880209654904,6190.2000617251897,6194.8983526696902,6183.47664031363,6155.3567423392988,6114.7888931563502,6060.5338726674108,5996.9646591095807,5920.8729669553704,5841.6470761974797,5754.44414822412,5662.0776401666299,5566.7879642980697,5470.328940942979,5370.9364450415787,5271.3586825070006,5171.9491789001404,5071.8831117169902,4974.5299710150002,4877.2881222674596,4782.67126998411,4688.7994766015099,4597.1196924247297,4507.6032781761896,4420.9123593440099,4335.6856451625099,4253.1978447614101,4172.8774810931691,4094.8106333341002,4018.8888855323698,3943.99224721561,3873.4891849860905,3805.0604442461804,3738.5892646526095,3672.6159421954899,3610.92148264862,3548.9823072776994,3489.4200498047599,{"$f":"(BO33^2+BO32^2)^0.5","v":3432.3429420244506},3375.4608694181202,3321.4314067659002,3268.3921486190297,3217.94781569107,3167.9564926696598,3119.6483245594,3072.2023110238301,3026.9272417757502,2982.4782691966002,2939.4339711685302,2896.5362809098801,2856.6150131747504,2816.6768137306694,2778.1921197254901,2740.3136385538396]
[]
[]
[]
["Module","Version","Date"]
["CubicSpline",{"$f":"CubicSpline_version(\"v\")","v":"1.04"},{"$f":"CubicSpline_version(\"d\")","v":"2014-03-07"}]
[]
["Copyright: Owen Duffy 2010. All rights reserved."]

{"sheet":"2643167851x3 5t","index":16,"n_rows":35,"n_cols":31,"rows_kept":35,"cut":false,"hidden":false,"merged":[]}
["Calculate impedance of ferrite cored inductor"]
[]
["Reference:"]
["A method for estimating the impedance of a ferrite cored toroidal inductor at RF"]
[]
["Inputs:"]
["Al (nH for 1t)",{"$f":"3*2300","v":6900}]
["N",5]
["Cs (pF)",29]
[]
["Constants:"]
["Mix",{"$f":"Mix!B1","v":"#43"}]
["µi",{"$f":"Mix!B2","v":800}]
[]
["Calculated values:"]
["2*pi*N^2*Al",{"$f":"2*PI()*$B$8^2*$B$7*0.000000001","v":1.0838494654884789E-3}]
[]
["f (MHz)",1,{"$f":"B18*1.06","v":1.06},{"$f":"C18*1.06","v":1.1236000000000002},1.1910160000000003,1.2624769600000003,1.3382255776000005,1.4185191122560006,1.5036302589913606,1.5938480745308423,1.6894789590026928,1.7908476965428546,1.8982985583354259,2.0121964718355514,2.1329282601456847,2.2609039557544257,2.3965581930996915,2.5403516846856733,2.692772785766814,2.8543391529128228,3.0255995020875925,3.2071354722128484,3.3995636005456196,3.6035374165783569,3.8197496615730584,4.0489346412674418,4.2918707197434882,4.5493829629280977,4.8223459407037836,5.1116866971460109,5.418387898974772]
["µ''",{"$f":"csinterpolate(CSTableU2,'2643167851x3 5t'!B18*1000000)","v":48},{"$f":"csinterpolate(CSTableU2,'2643167851x3 5t'!C18*1000000)","v":53.955609860434173},{"$f":"csinterpolate(CSTableU2,'2643167851x3 5t'!D18*1000000)","v":60.310794216977619},{"$f":"csinterpolate(CSTableU2,'2643167851x3 5t'!E18*1000000)","v":65.383516786196822},{"$f":"csinterpolate(CSTableU2,'2643167851x3 5t'!F18*1000000)","v":73.411942191511045},{"$f":"csinterpolate(CSTableU2,'2643167851x3 5t'!G18*1000000)","v":84.195055966835895},{"$f":"csinterpolate(CSTableU2,'2643167851x3 5t'!H18*1000000)","v":97.139082383678769},{"$f":"csinterpolate(CSTableU2,'2643167851x3 5t'!I18*1000000)","v":112.03042158778499},{"$f":"csinterpolate(CSTableU2,'2643167851x3 5t'!J18*1000000)","v":130.15872002624113},{"$f":"csinterpolate(CSTableU2,'2643167851x3 5t'!K18*1000000)","v":151.73305979623143},{"$f":"csinterpolate(CSTableU2,'2643167851x3 5t'!L18*1000000)","v":174.95044985687895},{"$f":"csinterpolate(CSTableU2,'2643167851x3 5t'!M18*1000000)","v":199.85667402603062},{"$f":"csinterpolate(CSTableU2,'2643167851x3 5t'!N18*1000000)","v":226.5627542741446},{"$f":"csinterpolate(CSTableU2,'2643167851x3 5t'!O18*1000000)","v":253.13526951667455},{"$f":"csinterpolate(CSTableU2,'2643167851x3 5t'!P18*1000000)","v":281.67162753279325},{"$f":"csinterpolate(CSTableU2,'2643167851x3 5t'!Q18*1000000)","v":316.05563914334874},{"$f":"csinterpolate(CSTableU2,'2643167851x3 5t'!R18*1000000)","v":361.58007033495443},{"$f":"csinterpolate(CSTableU2,'2643167851x3 5t'!S18*1000000)","v":425.3124796159579},{"$f":"csinterpolate(CSTableU2,'2643167851x3 5t'!T18*1000000)","v":516.54353365311795},{"$f":"csinterpolate(CSTableU2,'2643167851x3 5t'!U18*1000000)","v":647.33523067963574},{"$f":"csinterpolate(CSTableU2,'2643167851x3 5t'!V18*1000000)","v":833.19009474830716},{"$f":"csinterpolate(CSTableU2,'2643167851x3 5t'!W18*1000000)","v":1093.866365167336},{"$f":"csinterpolate(CSTableU2,'2643167851x3 5t'!X18*1000000)","v":1454.3702185071011},{"$f":"csinterpolate(CSTableU2,'2643167851x3 5t'!Y18*1000000)","v":1946.1596954973779},{"$f":"csinterpolate(CSTableU2,'2643167851x3 5t'!Z18*1000000)","v":2608.6056807801078},{"$f":"csinterpolate(CSTableU2,'2643167851x3 5t'!AA18*1000000)","v":3490.7607971708871},{"$f":"csinterpolate(CSTableU2,'2643167851x3 5t'!AB18*1000000)","v":4653.4990320970519},{"$f":"csinterpolate(CSTableU2,'2643167851x3 5t'!AC18*1000000)","v":6172.1035430581587},{"$f":"csinterpolate(CSTableU2,'2643167851x3 5t'!AD18*1000000)","v":8139.3872447918911},{"$f":"csinterpolate(CSTableU2,'2643167851x3 5t'!AE18*1000000)","v":10669.460368085427}]
["µ'",{"$f":"csinterpolate(CSTableU1,'2643167851x3 5t'!B18*1000000)","v":851.35508159999995},{"$f":"csinterpolate(CSTableU1,'2643167851x3 5t'!C18*1000000)","v":857.25632295706953},{"$f":"csinterpolate(CSTableU1,'2643167851x3 5t'!D18*1000000)","v":862.91741523253791},{"$f":"csinterpolate(CSTableU1,'2643167851x3 5t'!E18*1000000)","v":870.60490347741018},{"$f":"csinterpolate(CSTableU1,'2643167851x3 5t'!F18*1000000)","v":877.65239585745474},{"$f":"csinterpolate(CSTableU1,'2643167851x3 5t'!G18*1000000)","v":885.41003648181197},{"$f":"csinterpolate(CSTableU1,'2643167851x3 5t'!H18*1000000)","v":893.80657282009918},{"$f":"csinterpolate(CSTableU1,'2643167851x3 5t'!I18*1000000)","v":900.24986790433968},{"$f":"csinterpolate(CSTableU1,'2643167851x3 5t'!J18*1000000)","v":906.10114465530171},{"$f":"csinterpolate(CSTableU1,'2643167851x3 5t'!K18*1000000)","v":899.0292815617297},{"$f":"csinterpolate(CSTableU1,'2643167851x3 5t'!L18*1000000)","v":856.55296505137983},{"$f":"csinterpolate(CSTableU1,'2643167851x3 5t'!M18*1000000)","v":748.32561511414167},{"$f":"csinterpolate(CSTableU1,'2643167851x3 5t'!N18*1000000)","v":534.12732742607363},{"$f":"csinterpolate(CSTableU1,'2643167851x3 5t'!O18*1000000)","v":161.40464736828528},{"$f":"csinterpolate(CSTableU1,'2643167851x3 5t'!P18*1000000)","v":-437.73628879096032},{"$f":"csinterpolate(CSTableU1,'2643167851x3 5t'!Q18*1000000)","v":-1350.1880271386462},{"$f":"csinterpolate(CSTableU1,'2643167851x3 5t'!R18*1000000)","v":-2686.3062607470888},{"$f":"csinterpolate(CSTableU1,'2643167851x3 5t'!S18*1000000)","v":-4585.3215974535951},{"$f":"csinterpolate(CSTableU1,'2643167851x3 5t'!T18*1000000)","v":-7221.9205713244919},{"$f":"csinterpolate(CSTableU1,'2643167851x3 5t'!U18*1000000)","v":-10814.19755027387},{"$f":"csinterpolate(CSTableU1,'2643167851x3 5t'!V18*1000000)","v":-15633.314031248858},{"$f":"csinterpolate(CSTableU1,'2643167851x3 5t'!W18*1000000)","v":-22015.13654766557},{"$f":"csinterpolate(CSTableU1,'2643167851x3 5t'!X18*1000000)","v":-30374.31180807907},{"$f":"csinterpolate(CSTableU1,'2643167851x3 5t'!Y18*1000000)","v":-41221.265038777245},{"$f":"csinterpolate(CSTableU1,'2643167851x3 5t'!Z18*1000000)","v":-55182.668085760895},{"$f":"csinterpolate(CSTableU1,'2643167851x3 5t'!AA18*1000000)","v":-73026.067760885271},{"$f":"csinterpolate(CSTableU1,'2643167851x3 5t'!AB18*1000000)","v":-95689.617407479745},{"$f":"csinterpolate(CSTableU1,'2643167851x3 5t'!AC18*1000000)","v":-124317.76534992937},{"$f":"csinterpolate(CSTableU1,'2643167851x3 5t'!AD18*1000000)","v":-160304.14246725501},{"$f":"csinterpolate(CSTableU1,'2643167851x3 5t'!AE18*1000000)","v":-205343.20378351276}]
["Rl",{"$f":"B19/$B$13*$B$16*B18*1000000","v":65.03096792930873},77.485680552220842,91.80910610469823,105.5030106391537,125.56516040583244,152.64932810374344,186.68446047690657,228.22121226366289,281.06008419032077,347.30575827203211,424.47556684697349,513.99885835466682,617.6435061111722,731.48915071548856,862.78820173062627,1026.1964389802099,1244.449592752213,1551.6251713038823,1997.5216024486049,2653.503498637529,3620.2651891369978,5038.0957829967556,7100.4028462609749,10071.458233444109,14309.6226972652,20297.647329404317,28682.110562960679,40324.644382090846,56368.297692238259,78323.399313175672]
["Xl",{"$f":"B20/$B$13*$B$16*B18*1000000","v":1153.4259376663254},1231.1062698363212,1313.5903375713528,1404.8103086046822,1501.1530900370003,1605.2872180344827,1717.7411369666054,1833.931473982173,1956.6024001344022,2057.8115722498055,2078.2216088731275,1924.5717648444647,1456.109925385377,466.41366353408398,-1340.8297766668766,-4383.905786838267,-9245.4562805345649,-16728.172226586554,-27927.834562877924,-44328.671876056804,-67927.766946478368,-101396.63320384147,-148290.88719699325,-213321.77936285615,-302706.9846369084,-424623.01354619832,-589788.49405109335,-812214.12491538294,-1110166.0791081134,-1507403.1104976032]
["Yl",{"$f":"IMDIV(1,COMPLEX(B21,B22))","v":"0.0000487261898078446-0.000864235193748225i"},"0.000050922924562366-0.000809072479719403i","0.0000529480009337168-0.000757571719965694i","0.0000531602307193812-0.000707847479137954i","0.0000553338863093139-0.000661526128334597i","0.0000587056607847318-0.000617359067705501i","0.0000625306831610959-0.000575364047516567i","0.0000668214291185236-0.000536961138631374i","0.0000719322722322292-0.000500757184721386i","0.0000797448981061331-0.000472494251080482i","0.000094344999845267-0.000461910726273324i","0.000129530410590216-0.000485002187959385i","0.000246885608037504-0.000582038960567501i","0.000971926089867585-0.000619721574566203i","0.000339382703501979+0.000527423107581198i","0.000050622097770268+0.000216257335269559i","0.0000142995613439236+0.000106236500060788i","5.49755205721258E-06+0.0000592694674838236i","2.54800857054704E-06+0.0000356243265333417i","1.34554072451026E-06+0.0000224782191933468i","7.82373025508405E-07+0.0000146798230973281i","4.88819458661718E-07+9.83797241809092E-06i","3.22151025703627E-07+0.0000067280776101554i","2.20828430779318E-07+4.67732801902731E-06i","1.55816656526339E-07+3.29615890307905E-06i","1.12317497721809E-07+2.34966119878892E-06i","8.22607422194469E-08+1.69152263626602E-06i","6.09761912086836E-08+1.22817509099298E-06i","4.56184803389579E-08+8.98449865015966E-07i","3.43765117026379E-08+6.61606379741186E-07i"]
["Yc",{"$f":"COMPLEX(0,2*PI()*B18*1000000*$B$9*0.000000000001)","v":"0.000182212373908208i"},"0.0001931451163427i","0.000204733823323263i","0.000217017852722658i","0.000230038923886018i","0.000243841259319179i","0.00025847173487833i","0.000273980038971029i","0.000290418841309291i","0.000307843971787849i","0.00032631461009512i","0.000345893486700827i","0.000366647095902876i","0.000388645921657049i","0.000411964676956472i","0.00043668255757386i","0.000462883511028292i","0.00049065652168999i","0.000520095912991389i","0.000551301667770872i","0.000584379767837125i","0.000619442553907352i","0.000656609107141793i","0.000696005653570301i","0.000737765992784519i","0.00078203195235159i","0.000828953869492686i","0.000878691101662247i","0.000931412567761982i","0.000987297321827701i"]
["Z",{"$f":"IMDIV(1,IMSUM(B23,B24))","v":"104.220596834831+1458.78070128228i"},"133.320163710727+1612.54557991324i","171.667627389125+1792.40704793004i","218.102441560817+2013.74483261095i","292.395875622391+2280.06900255194i","410.638481902534+2612.70861700636i","599.350035553333+3037.37955903977i","907.601895231634+3571.94013373269i","1455.63354702516+4256.44205855022i","2382.65217605176+4919.49147294667i","3457.47102950561+4969.20498350223i","3585.18439408934+3850.29540601093i","2299.90165229905+2006.51674016855i","973.838434385369+231.530313261048i","340.188941368042-941.619395032241i","118.029638894326-1522.38376453203i","44.1205500094963-1755.99008296369i","18.1768013449408-1818.24480343361i","8.25048209329706-1799.42875313688i","4.08699227925036-1742.8190208553i","2.18008324199388-1669.28016760706i","1.234410590543-1589.11543383581i","0.732134259114055-1507.52857992748i","0.449792080488518-1427.1788054633i","0.283729567316038-1349.41442295081i","0.182554524277576-1274.88962288342i","0.119223344043347-1203.88314877615i","0.0787543637198504-1136.46788019885i","0.052483063772732-1072.60343243727i","0.0352195679596917-1012.18782505835i"]
["R",{"$f":"IMREAL(B25)","v":104.220596834831},133.320163710727,171.66762738912499,218.102441560817,292.39587562239097,410.63848190253401,599.35003555333299,907.60189523163399,1455.6335470251599,2382.6521760517599,3457.4710295056102,3585.18439408934,2299.9016522990501,973.83843438536906,340.18894136804198,118.029638894326,44.120550009496299,18.176801344940799,8.2504820932970606,4.0869922792503601,2.1800832419938798,1.2344105905430001,0.73213425911405505,0.44979208048851799,0.28372956731603799,0.18255452427757601,0.119223344043347,7.8754363719850395E-2,5.2483063772732E-2,3.5219567959691701E-2]
["X",{"$f":"IMAGINARY(B25)","v":1458.78070128228},1612.5455799132401,1792.4070479300401,2013.74483261095,2280.0690025519398,2612.7086170063599,3037.3795590397699,3571.9401337326899,4256.4420585502203,4919.49147294667,4969.2049835022299,3850.29540601093,2006.5167401685501,231.53031326104801,-941.61939503224096,-1522.38376453203,-1755.9900829636899,-1818.2448034336101,-1799.42875313688,-1742.8190208553001,-1669.2801676070601,-1589.1154338358101,-1507.52857992748,-1427.1788054633,-1349.4144229508099,-1274.8896228834201,-1203.8831487761499,-1136.46788019885,-1072.6034324372699,-1012.18782505835]
["|Z|",{"$f":"IMABS(B25)","v":1462.4989118759129},1618.0474385349717,1800.609008019979,2025.5213960563572,2298.7409607172317,2644.78170747578,3095.9481666834167,3685.4440057065531,4498.4628509103295,5466.1163310378952,6053.6851659079512,5261.0190888430188,3052.1561294967405,1000.9833076754605,1001.187095866698,1526.9522985896583,1756.5442762424088,1818.3356569457853,1799.4476674998132,1742.8238129429255,1669.2815912029932,1589.1159132752655,1507.5287577087006,1427.1788763419138,1349.4144527794767,1274.8896359536318,1203.8831546796321,1136.4678829275895,1072.6034337212823,1012.1878256710909]
[]
[]
[]
["Module","Version","Date"]
["CubicSpline",{"$f":"CubicSpline_version(\"v\")","v":"1.04"},{"$f":"CubicSpline_version(\"d\")","v":"2014-03-07"}]
[]
["Copyright: Owen Duffy 2010. All rights reserved."]